{
 "currentVersion": 11.3,
 "serviceDescription": "The purpose of this project was to produce 1\"-40' topographic mapping and orthophoto imagery of Bouldin Island. The orthophotography encompassed the entire island and topographic mapping was produced for an area approximately 1850 acres near the center of the island. This work was performed under MWD Task Order 164106-1-104740. Survey Control Ground control survey for this project was established by Towill, Inc. based on RS 39-36 supplied by Metropolitan. Details of the control survey are available in the report file named \u201c15133-101_Bouldin_Island_Flight_Panel_Report_v1\u201d. In addition, Towill\u2019s field survey crews collected additional ground truth points in widely dispersed locations which were used to verify the vertical accuracy of the LiDAR dataset. LiDAR Acquisition The LiDAR survey was accomplished using an Optech Orion M300 LiDAR system operating from a fixed wing aircraft (Partenavia C-68 Tail #N6602L). The mission was performed on November 30, 2017. The mission plan was based on the following: Aircraft Flight Altitude: 750m FT AGL Aircraft Speed: 120 knots Number of Flight lines: 20 Flight Line Spacing: 380m Nominal Point Density: 9 Points Per Square Meter (PPM^2) LiDAR Data Post-Acquisition Processing Airborne GPS Data Processing - Using Novatel, Inc.\u2019s Grafnav version 8.20 software, the differential kinematic data was processed from two base stations, and the solutions compared. This procedure is intended to verify the integrity of the base station coordinates and elevations. Each processing session was computed in both the forward and reverse temporal directions. The comparison of these solutions is intended to provide insight into the quality of the kinematic ambiguity resolution. The horizontal and vertical datums of the LiDAR data set were realized by adjusting the coordinates of the base station points and the relative application of the geoid model to the final data set. IMU Data Processing and Best Estimated Trajectory - The post-processed ABGPS trajectory was combined with the raw, high-frequency IMU observations in a loosely-coupled Kalman filter-based processing algorithm to produce the final high-frequency Smoothed Best Estimated Trajectory (SBET) using Applanix\u2019s POSPac software, version 4.3. Optech\u2019s LiDAR Mapping Suite (LMS) \u2013The ABGPS and integrated IMU data files were used as inputs to process the laser range files collected during the mission. The LMS software package assembles each of these three components and outputs fully georeferenced LAS strip files. The overlap between adjacent strip files are analyzed and if elevation differences exist, these values are used as feedback and the process is repeated. LiDAR Data Classification Terrasolid\u2019s Terrascan V.1.2 software was used to tile the LAS strip files into manageable size files and to run macro routines which assist in the ground classification. Bridges and other structures were manually reclassified as non-ground classes. Following a thorough QA/QC review by an analyst, ground points comprising the \u201cbare-earth\u201d surface were used to generate separate deliverables. Aerial Imagery Aerial imagery was acquired for the study area simultaneously with the LiDAR using a PhaseOne 4-Band 100 megapixel camera. The imagery was aerotriangulated using INPHO\u2019s MATCH-AT software and used to generate 4-band orthophoto imagery with a 0.25ft pixel resolution. The imagery was delivered as GeoTIF tiles and MrSID mosaics. Photogrammetric Mapping Planimetric features were stereo-digitized from the imagery using DATEM software and incorporated into the MicroStation DGN file. The mapping scale is 1\u201d-40\u2019 and has a one-foot contour interval. \nDWR makes no warranties or guarantees \u2014 either expressed or implied \u2014 as to the completeness, accuracy, or correctness of the data. DWR neither accepts nor assumes liability arising from or for any incorrect, incomplete, or misleading subject data. \nThis is an official DWR Image Service, published on January 25, 2019 by Stephanie Baker of the Division of Engineering, Geodetic Branch, Geospatial Data Support Section, who may be contacted at stephanie.baker@water.ca.gov, or 916-653-9815.",
 "name": "Aerial_Photography/Bouldin_Island_20171130",
 "description": "The purpose of this project was to produce 1\"-40' topographic mapping and orthophoto imagery of Bouldin Island. The orthophotography encompassed the entire island and topographic mapping was produced for an area approximately 1850 acres near the center of the island. This work was performed under MWD Task Order 164106-1-104740. Survey Control Ground control survey for this project was established by Towill, Inc. based on RS 39-36 supplied by Metropolitan. Details of the control survey are available in the report file named \u201c15133-101_Bouldin_Island_Flight_Panel_Report_v1\u201d. In addition, Towill\u2019s field survey crews collected additional ground truth points in widely dispersed locations which were used to verify the vertical accuracy of the LiDAR dataset. LiDAR Acquisition The LiDAR survey was accomplished using an Optech Orion M300 LiDAR system operating from a fixed wing aircraft (Partenavia C-68 Tail #N6602L). The mission was performed on November 30, 2017. The mission plan was based on the following: Aircraft Flight Altitude: 750m FT AGL Aircraft Speed: 120 knots Number of Flight lines: 20 Flight Line Spacing: 380m Nominal Point Density: 9 Points Per Square Meter (PPM^2) LiDAR Data Post-Acquisition Processing Airborne GPS Data Processing - Using Novatel, Inc.\u2019s Grafnav version 8.20 software, the differential kinematic data was processed from two base stations, and the solutions compared. This procedure is intended to verify the integrity of the base station coordinates and elevations. Each processing session was computed in both the forward and reverse temporal directions. The comparison of these solutions is intended to provide insight into the quality of the kinematic ambiguity resolution. The horizontal and vertical datums of the LiDAR data set were realized by adjusting the coordinates of the base station points and the relative application of the geoid model to the final data set. IMU Data Processing and Best Estimated Trajectory - The post-processed ABGPS trajectory was combined with the raw, high-frequency IMU observations in a loosely-coupled Kalman filter-based processing algorithm to produce the final high-frequency Smoothed Best Estimated Trajectory (SBET) using Applanix\u2019s POSPac software, version 4.3. Optech\u2019s LiDAR Mapping Suite (LMS) \u2013The ABGPS and integrated IMU data files were used as inputs to process the laser range files collected during the mission. The LMS software package assembles each of these three components and outputs fully georeferenced LAS strip files. The overlap between adjacent strip files are analyzed and if elevation differences exist, these values are used as feedback and the process is repeated. LiDAR Data Classification Terrasolid\u2019s Terrascan V.1.2 software was used to tile the LAS strip files into manageable size files and to run macro routines which assist in the ground classification. Bridges and other structures were manually reclassified as non-ground classes. Following a thorough QA/QC review by an analyst, ground points comprising the \u201cbare-earth\u201d surface were used to generate separate deliverables. Aerial Imagery Aerial imagery was acquired for the study area simultaneously with the LiDAR using a PhaseOne 4-Band 100 megapixel camera. The imagery was aerotriangulated using INPHO\u2019s MATCH-AT software and used to generate 4-band orthophoto imagery with a 0.25ft pixel resolution. The imagery was delivered as GeoTIF tiles and MrSID mosaics. Photogrammetric Mapping Planimetric features were stereo-digitized from the imagery using DATEM software and incorporated into the MicroStation DGN file. The mapping scale is 1\u201d-40\u2019 and has a one-foot contour interval. \nDWR makes no warranties or guarantees \u2014 either expressed or implied \u2014 as to the completeness, accuracy, or correctness of the data. DWR neither accepts nor assumes liability arising from or for any incorrect, incomplete, or misleading subject data. \nThis is an official DWR Image Service, published on January 25, 2019 by Stephanie Baker of the Division of Engineering, Geodetic Branch, Geospatial Data Support Section, who may be contacted at stephanie.baker@water.ca.gov, or 916-653-9815.",
 "extent": {
  "xmin": 6247600,
  "ymin": 2211900,
  "xmax": 6279600,
  "ymax": 2237900,
  "spatialReference": {
   "wkid": 103005,
   "latestWkid": 6420
  }
 },
 "initialExtent": {
  "xmin": 6247600,
  "ymin": 2211900,
  "xmax": 6279600,
  "ymax": 2237900,
  "spatialReference": {
   "wkid": 103005,
   "latestWkid": 6420
  }
 },
 "fullExtent": {
  "xmin": 6247600,
  "ymin": 2211900,
  "xmax": 6279600,
  "ymax": 2237900,
  "spatialReference": {
   "wkid": 103005,
   "latestWkid": 6420
  }
 },
 "sortableFields": "",
 "bandCount": 3,
 "pixelType": "U8",
 "minValues": [
  0,
  0,
  0
 ],
 "maxValues": [
  254,
  254,
  254
 ],
 "meanValues": [
  101.68562369129647,
  106.81161718059379,
  94.0206828900052
 ],
 "stdvValues": [
  41.486399546068746,
  36.73910720856494,
  25.840108294866972
 ],
 "hasMultidimensions": false,
 "pixelSizeX": 0.25,
 "pixelSizeY": 0.25,
 "meanPixelSize": 0.07620015240030481,
 "datasetFormat": "AMD",
 "uncompressedSize": 39936000000,
 "blockWidth": 2048,
 "blockHeight": 256,
 "compressionType": "None",
 "bandNames": [
  "Band_1",
  "Band_2",
  "Band_3"
 ],
 "allowCopy": true,
 "allowAnalysis": true,
 "itemAccess": false,
 "inspectionCapabilities": "",
 "minPixelSize": 0,
 "maxPixelSize": 0,
 "copyrightText": "DWR Division of Engineering Geodetic Branch",
 "serviceDataType": "esriImageServiceDataTypeRGB",
 "serviceSourceType": "esriImageServiceSourceTypeMosaicDataset",
 "objectIdField": "OBJECTID",
 "fields": [
  {
   "name": "OBJECTID",
   "type": "esriFieldTypeOID",
   "alias": "OBJECTID",
   "domain": null
  },
  {
   "name": "Shape",
   "type": "esriFieldTypeGeometry",
   "alias": "Shape",
   "domain": null
  },
  {
   "name": "Name",
   "type": "esriFieldTypeString",
   "alias": "Name",
   "domain": null,
   "length": 200
  },
  {
   "name": "MinPS",
   "type": "esriFieldTypeDouble",
   "alias": "MinPS",
   "domain": null
  },
  {
   "name": "MaxPS",
   "type": "esriFieldTypeDouble",
   "alias": "MaxPS",
   "domain": null
  },
  {
   "name": "LowPS",
   "type": "esriFieldTypeDouble",
   "alias": "LowPS",
   "domain": null
  },
  {
   "name": "HighPS",
   "type": "esriFieldTypeDouble",
   "alias": "HighPS",
   "domain": null
  },
  {
   "name": "Category",
   "type": "esriFieldTypeInteger",
   "alias": "Category",
   "domain": {
    "type": "codedValue",
    "name": "MosaicCatalogItemCategoryDomain",
    "description": "Catalog item categories.",
    "codedValues": [
     {
      "name": "Unknown",
      "code": 0
     },
     {
      "name": "Primary",
      "code": 1
     },
     {
      "name": "Overview",
      "code": 2
     },
     {
      "name": "Unprocessed Overview",
      "code": 3
     },
     {
      "name": "Partial Overview",
      "code": 4
     },
     {
      "name": "Inactive",
      "code": 5
     },
     {
      "name": "Uploaded",
      "code": 253
     },
     {
      "name": "Incomplete",
      "code": 254
     },
     {
      "name": "Custom",
      "code": 255
     }
    ],
    "mergePolicy": "esriMPTDefaultValue",
    "splitPolicy": "esriSPTDefaultValue"
   }
  },
  {
   "name": "Tag",
   "type": "esriFieldTypeString",
   "alias": "Tag",
   "domain": null,
   "length": 100
  },
  {
   "name": "GroupName",
   "type": "esriFieldTypeString",
   "alias": "GroupName",
   "domain": null,
   "length": 100
  },
  {
   "name": "ProductName",
   "type": "esriFieldTypeString",
   "alias": "ProductName",
   "domain": null,
   "length": 100
  },
  {
   "name": "CenterX",
   "type": "esriFieldTypeDouble",
   "alias": "CenterX",
   "domain": null
  },
  {
   "name": "CenterY",
   "type": "esriFieldTypeDouble",
   "alias": "CenterY",
   "domain": null
  },
  {
   "name": "ZOrder",
   "type": "esriFieldTypeInteger",
   "alias": "ZOrder",
   "domain": null
  },
  {
   "name": "Shape_Length",
   "type": "esriFieldTypeDouble",
   "alias": "Shape_Length",
   "domain": null
  },
  {
   "name": "Shape_Area",
   "type": "esriFieldTypeDouble",
   "alias": "Shape_Area",
   "domain": null
  }
 ],
 "capabilities": "Image,Metadata,Catalog",
 "defaultMosaicMethod": "Northwest",
 "allowedMosaicMethods": "NorthWest,Center,LockRaster,ByAttribute,Nadir,Viewpoint,Seamline,None",
 "sortField": "",
 "sortValue": null,
 "sortAscending": true,
 "mosaicOperator": "First",
 "maxDownloadSizeLimit": 2048,
 "defaultCompressionQuality": 75,
 "defaultResamplingMethod": "Bilinear",
 "maxImageHeight": 4100,
 "maxImageWidth": 15000,
 "maxRecordCount": 1000,
 "maxDownloadImageCount": 20,
 "maxMosaicImageCount": 20,
 "allowRasterFunction": true,
 "rasterFunctionInfos": [
  {
   "name": "None",
   "description": "",
   "help": ""
  }
 ],
 "rasterTypeInfos": [
  {
   "name": "Raster Dataset",
   "description": "Supports all ArcGIS Raster Datasets",
   "help": ""
  }
 ],
 "mensurationCapabilities": "None",
 "hasHistograms": true,
 "hasColormap": false,
 "hasRasterAttributeTable": false,
 "minScale": 0,
 "maxScale": 0,
 "exportTilesAllowed": false,
 "supportsStatistics": true,
 "supportsAdvancedQueries": true,
 "editFieldsInfo": null,
 "ownershipBasedAccessControlForRasters": null,
 "allowComputeTiePoints": false,
 "useStandardizedQueries": true,
 "advancedQueryCapabilities": {
  "useStandardizedQueries": true,
  "supportsStatistics": true,
  "supportsOrderBy": true,
  "supportsDistinct": true,
  "supportsPagination": true
 },
 "spatialReference": {
  "wkid": 103005,
  "latestWkid": 6420
 }
}
