{
 "currentVersion": 11.3,
 "serviceDescription": "Field Survey Operations\nThe field survey included refresh of eighteen (18) aerial targets established for the 2017\nproject and twenty-one (21) new aerial targets. In addition, nineteen (19) QA/QC points were established within the LiDAR portion of the project. The aerial targets and QA/QC points were processed using four CGPS stations in the vicinity of Study Area.\nDetails on the Field Survey Operations are presented in the Survey Task Order Report dated September 23, 2019.\n\nHorizontal and Vertical Datums\nThe horizontal datum used for this project is the North American Datum of 1983 (NSRS2007). Coordinates shown are California Coordinate System Zone 2 (CCS2). Units are U.S. Survey Feet. Elevations established in this survey are North American Vertical Datum of 1988 (NAVD88) as derived from applying Geoid 12B to ellipsoid heights.\n\nAirborne Data Acquisition\nThe airborne LiDAR mission was performed on Thursday, July 25, 2019. The sensor used to collect the data is a Teladyne/Optech Galaxy PRIME and the laser was set to emit 10 points per square meter (10 PPM^2). The LiDAR strips were processed and calibrated using Optech\u2019s LMS software suite and data from the CGPS stations identified in Survey Report. The LiDAR strips were tiled and classified for bare-earth using TerraScan software.\nThe airborne imagery missions were performed separately from the LiDAR mission. We used an UltraCAM Eagle Mark 2 large format digital camera. Imagery was acquired on July 24, July 26, and August 2, 2019 using a ground sample distance of 0.21ft.\n\nOrthophoto Deliverables\nThe airborne imagery was aerotriangulated using INPHO\u2019s Match AT software. A copy of the AT report is included as Appendix E. INPHO\u2019s OrthoMaster and OrthoVista were used to generate the imagery and feather the seamlines. The orthophoto imagery is provided with a 0.25\u2019 GSD and were delivered as GeoTIFF tiles and a MrSID mosaic.\n\nDWR makes no warranties or guarantees \u2014 either expressed or implied \u2014 as to the completeness, accuracy, or correctness of the data. DWR neither accepts nor assumes liability arising from or for any incorrect, incomplete, or misleading subject data. \n\nThis is an official DWR Image Service, published on September 30, 2019 by the Division of Engineering, Geodetic Branch, Geospatial Data Support Section, who may be contacted at gis@water.ca.gov.",
 "name": "Aerial_Photography/FeatherSacRiver_2019_4Band",
 "description": "Field Survey Operations\nThe field survey included refresh of eighteen (18) aerial targets established for the 2017\nproject and twenty-one (21) new aerial targets. In addition, nineteen (19) QA/QC points were established within the LiDAR portion of the project. The aerial targets and QA/QC points were processed using four CGPS stations in the vicinity of Study Area.\nDetails on the Field Survey Operations are presented in the Survey Task Order Report dated September 23, 2019.\n\nHorizontal and Vertical Datums\nThe horizontal datum used for this project is the North American Datum of 1983 (NSRS2007). Coordinates shown are California Coordinate System Zone 2 (CCS2). Units are U.S. Survey Feet. Elevations established in this survey are North American Vertical Datum of 1988 (NAVD88) as derived from applying Geoid 12B to ellipsoid heights.\n\nAirborne Data Acquisition\nThe airborne LiDAR mission was performed on Thursday, July 25, 2019. The sensor used to collect the data is a Teladyne/Optech Galaxy PRIME and the laser was set to emit 10 points per square meter (10 PPM^2). The LiDAR strips were processed and calibrated using Optech\u2019s LMS software suite and data from the CGPS stations identified in Survey Report. The LiDAR strips were tiled and classified for bare-earth using TerraScan software.\nThe airborne imagery missions were performed separately from the LiDAR mission. We used an UltraCAM Eagle Mark 2 large format digital camera. Imagery was acquired on July 24, July 26, and August 2, 2019 using a ground sample distance of 0.21ft.\n\nOrthophoto Deliverables\nThe airborne imagery was aerotriangulated using INPHO\u2019s Match AT software. A copy of the AT report is included as Appendix E. INPHO\u2019s OrthoMaster and OrthoVista were used to generate the imagery and feather the seamlines. The orthophoto imagery is provided with a 0.25\u2019 GSD and were delivered as GeoTIFF tiles and a MrSID mosaic.\n\nDWR makes no warranties or guarantees \u2014 either expressed or implied \u2014 as to the completeness, accuracy, or correctness of the data. DWR neither accepts nor assumes liability arising from or for any incorrect, incomplete, or misleading subject data. \n\nThis is an official DWR Image Service, published on September 30, 2019 by the Division of Engineering, Geodetic Branch, Geospatial Data Support Section, who may be contacted at gis@water.ca.gov.",
 "extent": {
  "xmin": 6649500,
  "ymin": 2036800,
  "xmax": 6712500,
  "ymax": 2329300,
  "spatialReference": {
   "wkid": 102642,
   "latestWkid": 2226
  }
 },
 "initialExtent": {
  "xmin": 6649500,
  "ymin": 2036800,
  "xmax": 6712500,
  "ymax": 2329300,
  "spatialReference": {
   "wkid": 102642,
   "latestWkid": 2226
  }
 },
 "fullExtent": {
  "xmin": 6649500,
  "ymin": 2036800,
  "xmax": 6712500,
  "ymax": 2329300,
  "spatialReference": {
   "wkid": 102642,
   "latestWkid": 2226
  }
 },
 "sortableFields": "",
 "bandCount": 3,
 "pixelType": "U8",
 "minValues": [
  18,
  26,
  34
 ],
 "maxValues": [
  255,
  255,
  255
 ],
 "meanValues": [
  125.74570152895,
  123.33165369840187,
  115.3771095540632
 ],
 "stdvValues": [
  67.34251669536883,
  63.45424070784021,
  64.57312233893663
 ],
 "hasMultidimensions": false,
 "pixelSizeX": 0.25,
 "pixelSizeY": 0.25,
 "meanPixelSize": 0.07620015240030481,
 "datasetFormat": "AMD",
 "uncompressedSize": 884520000000,
 "blockWidth": 2048,
 "blockHeight": 256,
 "compressionType": "None",
 "bandNames": [
  "Band_1",
  "Band_2",
  "Band_3"
 ],
 "allowCopy": true,
 "allowAnalysis": true,
 "itemAccess": false,
 "inspectionCapabilities": "",
 "minPixelSize": 0,
 "maxPixelSize": 0,
 "copyrightText": "DWR DOE Geodetic, Towill",
 "serviceDataType": "esriImageServiceDataTypeRGB",
 "serviceSourceType": "esriImageServiceSourceTypeMosaicDataset",
 "objectIdField": "OBJECTID",
 "fields": [
  {
   "name": "OBJECTID",
   "type": "esriFieldTypeOID",
   "alias": "OBJECTID",
   "domain": null
  },
  {
   "name": "Shape",
   "type": "esriFieldTypeGeometry",
   "alias": "Shape",
   "domain": null
  },
  {
   "name": "Name",
   "type": "esriFieldTypeString",
   "alias": "Name",
   "domain": null,
   "length": 200
  },
  {
   "name": "MinPS",
   "type": "esriFieldTypeDouble",
   "alias": "MinPS",
   "domain": null
  },
  {
   "name": "MaxPS",
   "type": "esriFieldTypeDouble",
   "alias": "MaxPS",
   "domain": null
  },
  {
   "name": "LowPS",
   "type": "esriFieldTypeDouble",
   "alias": "LowPS",
   "domain": null
  },
  {
   "name": "HighPS",
   "type": "esriFieldTypeDouble",
   "alias": "HighPS",
   "domain": null
  },
  {
   "name": "Category",
   "type": "esriFieldTypeInteger",
   "alias": "Category",
   "domain": {
    "type": "codedValue",
    "name": "MosaicCatalogItemCategoryDomain",
    "description": "Catalog item categories.",
    "codedValues": [
     {
      "name": "Unknown",
      "code": 0
     },
     {
      "name": "Primary",
      "code": 1
     },
     {
      "name": "Overview",
      "code": 2
     },
     {
      "name": "Unprocessed Overview",
      "code": 3
     },
     {
      "name": "Partial Overview",
      "code": 4
     },
     {
      "name": "Inactive",
      "code": 5
     },
     {
      "name": "Uploaded",
      "code": 253
     },
     {
      "name": "Incomplete",
      "code": 254
     },
     {
      "name": "Custom",
      "code": 255
     }
    ],
    "mergePolicy": "esriMPTDefaultValue",
    "splitPolicy": "esriSPTDefaultValue"
   }
  },
  {
   "name": "Tag",
   "type": "esriFieldTypeString",
   "alias": "Tag",
   "domain": null,
   "length": 100
  },
  {
   "name": "GroupName",
   "type": "esriFieldTypeString",
   "alias": "GroupName",
   "domain": null,
   "length": 100
  },
  {
   "name": "ProductName",
   "type": "esriFieldTypeString",
   "alias": "ProductName",
   "domain": null,
   "length": 100
  },
  {
   "name": "CenterX",
   "type": "esriFieldTypeDouble",
   "alias": "CenterX",
   "domain": null
  },
  {
   "name": "CenterY",
   "type": "esriFieldTypeDouble",
   "alias": "CenterY",
   "domain": null
  },
  {
   "name": "ZOrder",
   "type": "esriFieldTypeInteger",
   "alias": "ZOrder",
   "domain": null
  },
  {
   "name": "Shape_Length",
   "type": "esriFieldTypeDouble",
   "alias": "Shape_Length",
   "domain": null
  },
  {
   "name": "Shape_Area",
   "type": "esriFieldTypeDouble",
   "alias": "Shape_Area",
   "domain": null
  }
 ],
 "capabilities": "Image,Metadata,Catalog",
 "defaultMosaicMethod": "Northwest",
 "allowedMosaicMethods": "NorthWest,Center,LockRaster,ByAttribute,Nadir,Viewpoint,Seamline,None",
 "sortField": "",
 "sortValue": null,
 "sortAscending": true,
 "mosaicOperator": "First",
 "maxDownloadSizeLimit": 2048,
 "defaultCompressionQuality": 75,
 "defaultResamplingMethod": "Bilinear",
 "maxImageHeight": 4100,
 "maxImageWidth": 15000,
 "maxRecordCount": 1000,
 "maxDownloadImageCount": 20,
 "maxMosaicImageCount": 20,
 "allowRasterFunction": true,
 "rasterFunctionInfos": [
  {
   "name": "None",
   "description": "A No-Op Function.",
   "help": ""
  }
 ],
 "rasterTypeInfos": [
  {
   "name": "Raster Dataset",
   "description": "Supports all ArcGIS Raster Datasets",
   "help": ""
  }
 ],
 "mensurationCapabilities": "None",
 "hasHistograms": true,
 "hasColormap": false,
 "hasRasterAttributeTable": false,
 "minScale": 0,
 "maxScale": 0,
 "exportTilesAllowed": false,
 "supportsStatistics": true,
 "supportsAdvancedQueries": true,
 "editFieldsInfo": null,
 "ownershipBasedAccessControlForRasters": null,
 "allowComputeTiePoints": false,
 "useStandardizedQueries": true,
 "advancedQueryCapabilities": {
  "useStandardizedQueries": true,
  "supportsStatistics": true,
  "supportsOrderBy": true,
  "supportsDistinct": true,
  "supportsPagination": true
 },
 "spatialReference": {
  "wkid": 102642,
  "latestWkid": 2226
 }
}
