{
 "currentVersion": 11.3,
 "serviceDescription": "Imagery Acquisition: The imagery was collected using a DJI Mavic 2 Pro UAS, operating at 300\u2019 above ground level, along two passes to fully cover the channel of Grant Line Canal from Doughty Cut to Tracy Oasis. The field collection was controlled by a DJI Smart Controller running the DJI Pilot app. Software Processing: Images were imported into ArcGIS Pro 2.5 using the Ortho Mapping workspace tool, block adjusted, and an Orthomosaic was generated. No external control points were used for this project. Adjustment summary from ArcGIS Pro: Number of Adjusted Images 502 Number of Tie Points 443975 Number of Solution Points 161413 Mean Reprojection Error (pixel) 0.39 Ground Resolution (m/pixel) 0.021 Adjustment Type Frame Ground Control Points Involved in Adjustment No This is an official DWR Image Service, which meets all appropriate requirements of the DWR Spatial Data Standards, specifically the DWR Spatial Data Standard version 3.1, dated September 11, 2019. DWR makes no warranties or guarantees \u2014either expressed or implied \u2014 as to the completeness, accuracy, or correctness of the data. DWR neither accepts nor assumes liability arising from or for any incorrect, incomplete, or misleading subject data. This Image Service was published on 6/1/2020, by Gregory Twist of the DWR Division of Engineering, who may be contacted at 916-653-2700, or at gregory.twist@water.ca.gov. Comments, problems, improvements, updates, or suggestions should be forwarded to the official DWR point of contact as available and appropriate.",
 "name": "Aerial_Photography/GrantLine_20200519",
 "description": "Imagery Acquisition: The imagery was collected using a DJI Mavic 2 Pro UAS, operating at 300\u2019 above ground level, along two passes to fully cover the channel of Grant Line Canal from Doughty Cut to Tracy Oasis. The field collection was controlled by a DJI Smart Controller running the DJI Pilot app. Software Processing: Images were imported into ArcGIS Pro 2.5 using the Ortho Mapping workspace tool, block adjusted, and an Orthomosaic was generated. No external control points were used for this project. Adjustment summary from ArcGIS Pro: Number of Adjusted Images 502 Number of Tie Points 443975 Number of Solution Points 161413 Mean Reprojection Error (pixel) 0.39 Ground Resolution (m/pixel) 0.021 Adjustment Type Frame Ground Control Points Involved in Adjustment No This is an official DWR Image Service, which meets all appropriate requirements of the DWR Spatial Data Standards, specifically the DWR Spatial Data Standard version 3.1, dated September 11, 2019. DWR makes no warranties or guarantees \u2014either expressed or implied \u2014 as to the completeness, accuracy, or correctness of the data. DWR neither accepts nor assumes liability arising from or for any incorrect, incomplete, or misleading subject data. This Image Service was published on 6/1/2020, by Gregory Twist of the DWR Division of Engineering, who may be contacted at 916-653-2700, or at gregory.twist@water.ca.gov. Comments, problems, improvements, updates, or suggestions should be forwarded to the official DWR point of contact as available and appropriate.",
 "extent": {
  "xmin": 635022.894689666,
  "ymin": 4186012.0378034133,
  "xmax": 639249.3103843292,
  "ymax": 4187058.1775549725,
  "spatialReference": {
   "wkid": 32610,
   "latestWkid": 32610,
   "vcsWkid": 115700,
   "latestVcsWkid": 115700
  }
 },
 "initialExtent": {
  "xmin": 635022.894689666,
  "ymin": 4186012.0378034133,
  "xmax": 639249.3103843292,
  "ymax": 4187058.1775549725,
  "spatialReference": {
   "wkid": 32610,
   "latestWkid": 32610,
   "vcsWkid": 115700,
   "latestVcsWkid": 115700
  }
 },
 "fullExtent": {
  "xmin": 635022.894689666,
  "ymin": 4186012.0378034133,
  "xmax": 639249.3103843292,
  "ymax": 4187058.1775549725,
  "spatialReference": {
   "wkid": 32610,
   "latestWkid": 32610,
   "vcsWkid": 115700,
   "latestVcsWkid": 115700
  }
 },
 "sortableFields": "",
 "heightModelInfo": {
  "heightModel": "ellipsoidal",
  "vertCRS": "WGS_1984",
  "heightUnit": "meter"
 },
 "bandCount": 3,
 "pixelType": "U8",
 "minValues": [
  0,
  0,
  0
 ],
 "maxValues": [
  255,
  255,
  255
 ],
 "meanValues": [
  120.80872851376404,
  123.03963003341437,
  108.80199933898793
 ],
 "stdvValues": [
  34.45447891344841,
  30.463292318127316,
  32.37318702681621
 ],
 "hasMultidimensions": false,
 "pixelSizeX": 0.019818507777803133,
 "pixelSizeY": 0.01981850777780327,
 "meanPixelSize": 0.019818507777803203,
 "datasetFormat": "Cache/RAW",
 "uncompressedSize": 33770635290,
 "blockWidth": 256,
 "blockHeight": 256,
 "compressionType": "RAW",
 "bandNames": [
  "Band_1",
  "Band_2",
  "Band_3"
 ],
 "allowCopy": true,
 "allowAnalysis": true,
 "itemAccess": false,
 "inspectionCapabilities": "",
 "minPixelSize": 0,
 "maxPixelSize": 0,
 "copyrightText": "Michael Baldwin, P.E., California Department of Water Resources, NCRO",
 "serviceDataType": "esriImageServiceDataTypeRGB",
 "serviceSourceType": "esriImageServiceSourceTypeDataset",
 "objectIdField": "",
 "fields": [],
 "capabilities": "Image,Metadata,Mensuration",
 "defaultMosaicMethod": "Center",
 "allowedMosaicMethods": "",
 "sortField": "",
 "sortValue": null,
 "sortAscending": true,
 "mosaicOperator": "First",
 "defaultCompressionQuality": 75,
 "defaultResamplingMethod": "Bilinear",
 "maxImageHeight": 4100,
 "maxImageWidth": 15000,
 "allowRasterFunction": true,
 "rasterFunctionInfos": [
  {
   "name": "None",
   "description": "",
   "help": ""
  }
 ],
 "rasterTypeInfos": [
  {
   "name": "Raster Dataset",
   "description": "Supports all ArcGIS Raster Datasets",
   "help": ""
  }
 ],
 "mensurationCapabilities": "Basic",
 "hasHistograms": true,
 "hasColormap": false,
 "hasRasterAttributeTable": false,
 "minScale": 0,
 "maxScale": 0,
 "exportTilesAllowed": false,
 "supportsStatistics": false,
 "supportsAdvancedQueries": false,
 "editFieldsInfo": null,
 "ownershipBasedAccessControlForRasters": null,
 "allowComputeTiePoints": false,
 "useStandardizedQueries": true,
 "advancedQueryCapabilities": {
  "useStandardizedQueries": true,
  "supportsStatistics": false,
  "supportsOrderBy": false,
  "supportsDistinct": false,
  "supportsPagination": false
 },
 "spatialReference": {
  "wkid": 32610,
  "latestWkid": 32610,
  "vcsWkid": 115700,
  "latestVcsWkid": 115700
 }
}
