{
 "currentVersion": 11.3,
 "serviceDescription": "Imagery Acquisition:The imagery was collected using a DJI Mavic 2 Pro UAS, operating at 300\u2019 above ground level, along two passes to fully cover the channel of Grant Line Canal from Doughty Cut to Tracy Oasis. The field collection was controlled by a DJI Smart Controller running the DJI Pilot app.Software Processing:Images were imported into ArcGIS Pro 2.6 using the Ortho Mapping workspace tool, block adjusted, and an Orthomosaic was generated. No external control points were used for this project.Adjustment summary from ArcGIS Pro:Number of Adjusted Images1205Number of Tie Points5598565Number of Solution Points1958637Mean Reprojection Error (pixel)0.17Ground Resolution (m/pixel)0.022Adjustment TypeFrameGround Control Points Involved in AdjustmentNoDWR makes no warranties or guarantees \u2014either expressed or implied\u2014 as to the completeness, accuracy, or correctness of the data. DWR neither accepts nor assumes liability arising from or for any incorrect, incomplete, or misleading subject data. This Image Service was published on 11/4/2020, by Gregory Twist of the DWR Division of Engineering, who may be contacted at 916-653-2700, or at gregory.twist@water.ca.gov. Comments, problems, improvements, updates, or suggestions should be forwarded to the official DWR point of contact as available and appropriate.",
 "name": "Aerial_Photography/GrantLine_20201029",
 "description": "Imagery Acquisition:The imagery was collected using a DJI Mavic 2 Pro UAS, operating at 300\u2019 above ground level, along two passes to fully cover the channel of Grant Line Canal from Doughty Cut to Tracy Oasis. The field collection was controlled by a DJI Smart Controller running the DJI Pilot app.Software Processing:Images were imported into ArcGIS Pro 2.6 using the Ortho Mapping workspace tool, block adjusted, and an Orthomosaic was generated. No external control points were used for this project.Adjustment summary from ArcGIS Pro:Number of Adjusted Images1205Number of Tie Points5598565Number of Solution Points1958637Mean Reprojection Error (pixel)0.17Ground Resolution (m/pixel)0.022Adjustment TypeFrameGround Control Points Involved in AdjustmentNoDWR makes no warranties or guarantees \u2014either expressed or implied\u2014 as to the completeness, accuracy, or correctness of the data. DWR neither accepts nor assumes liability arising from or for any incorrect, incomplete, or misleading subject data. This Image Service was published on 11/4/2020, by Gregory Twist of the DWR Division of Engineering, who may be contacted at 916-653-2700, or at gregory.twist@water.ca.gov. Comments, problems, improvements, updates, or suggestions should be forwarded to the official DWR point of contact as available and appropriate.",
 "extent": {
  "xmin": 635017.354,
  "ymin": 4186004.646,
  "xmax": 639231.155,
  "ymax": 4187064.561,
  "spatialReference": {
   "wkid": 32610,
   "latestWkid": 32610,
   "vcsWkid": 115700,
   "latestVcsWkid": 115700
  }
 },
 "initialExtent": {
  "xmin": 635017.354,
  "ymin": 4186004.646,
  "xmax": 639231.155,
  "ymax": 4187064.561,
  "spatialReference": {
   "wkid": 32610,
   "latestWkid": 32610,
   "vcsWkid": 115700,
   "latestVcsWkid": 115700
  }
 },
 "fullExtent": {
  "xmin": 635017.354,
  "ymin": 4186004.646,
  "xmax": 639231.155,
  "ymax": 4187064.561,
  "spatialReference": {
   "wkid": 32610,
   "latestWkid": 32610,
   "vcsWkid": 115700,
   "latestVcsWkid": 115700
  }
 },
 "sortableFields": "",
 "heightModelInfo": {
  "heightModel": "ellipsoidal",
  "vertCRS": "WGS_1984",
  "heightUnit": "meter"
 },
 "bandCount": 3,
 "pixelType": "U8",
 "minValues": [
  0,
  0,
  0
 ],
 "maxValues": [
  255,
  255,
  255
 ],
 "meanValues": [
  99.50599400045272,
  99.95204117444266,
  88.39881391310972
 ],
 "stdvValues": [
  45.202318784170686,
  38.218594115328216,
  33.87111160994324
 ],
 "hasMultidimensions": false,
 "pixelSizeX": 0.0189999999999999,
 "pixelSizeY": 0.01900000000000067,
 "meanPixelSize": 0.019000000000000284,
 "datasetFormat": "Cache/RAW",
 "uncompressedSize": 37115159208,
 "blockWidth": 256,
 "blockHeight": 256,
 "compressionType": "RAW",
 "bandNames": [
  "Band_1",
  "Band_2",
  "Band_3"
 ],
 "allowCopy": true,
 "allowAnalysis": true,
 "itemAccess": false,
 "inspectionCapabilities": "",
 "noDataValue": 0,
 "noDataValues": [
  0,
  0,
  0
 ],
 "minPixelSize": 0,
 "maxPixelSize": 0,
 "copyrightText": "Michael Baldwin, P.E., California Department of Water Resources, NCRO",
 "serviceDataType": "esriImageServiceDataTypeRGB",
 "serviceSourceType": "esriImageServiceSourceTypeDataset",
 "objectIdField": "",
 "fields": [],
 "capabilities": "Image,Metadata,Mensuration",
 "defaultMosaicMethod": "Center",
 "allowedMosaicMethods": "",
 "sortField": "",
 "sortValue": null,
 "sortAscending": true,
 "mosaicOperator": "First",
 "defaultCompressionQuality": 75,
 "defaultResamplingMethod": "Bilinear",
 "maxImageHeight": 4100,
 "maxImageWidth": 15000,
 "allowRasterFunction": true,
 "rasterFunctionInfos": [
  {
   "name": "None",
   "description": "",
   "help": ""
  }
 ],
 "rasterTypeInfos": [
  {
   "name": "Raster Dataset",
   "description": "Supports all ArcGIS Raster Datasets",
   "help": ""
  }
 ],
 "mensurationCapabilities": "Basic",
 "hasHistograms": true,
 "hasColormap": false,
 "hasRasterAttributeTable": false,
 "minScale": 0,
 "maxScale": 0,
 "exportTilesAllowed": false,
 "supportsStatistics": false,
 "supportsAdvancedQueries": false,
 "editFieldsInfo": null,
 "ownershipBasedAccessControlForRasters": null,
 "allowComputeTiePoints": false,
 "useStandardizedQueries": true,
 "advancedQueryCapabilities": {
  "useStandardizedQueries": true,
  "supportsStatistics": false,
  "supportsOrderBy": false,
  "supportsDistinct": false,
  "supportsPagination": false
 },
 "spatialReference": {
  "wkid": 32610,
  "latestWkid": 32610,
  "vcsWkid": 115700,
  "latestVcsWkid": 115700
 }
}
