{
 "currentVersion": 11.3,
 "serviceDescription": "Survey Date and Time: Data was collected on 1/14/2021 1015-1100 PST\n\nImagery Acquisition: The imagery was collected using a DJI Mavic 2 Pro UAS, operating at 300\u2019 above ground level, along two passes to fully cover the channel of Grant Line Canal from Doughty Cut to Tracy Oasis. The field collection was controlled by a DJI Smart Controller running the DJI Pilot app. \n\nSoftware Processing: Images were imported into ArcGIS Pro 2.7 using the Ortho Mapping workspace tool, block adjusted, and an Orthomosaic was generated. No external control points were used for this project. \n\nAdjustment summary from ArcGIS Pro: Number of Adjusted Images 1232 Number of Tie Points 3940785 Number of Solution Points 1371698 Mean Reprojection Error / Sigma Naught (pixel) 0.27 / 0.39 Ground Resolution (m/pixel) 0.021 Adjustment Type Frame Ground Control Points Involved in Adjustment No \n\nDWR makes no warranties or guarantees \u2014either expressed or implied\u2014 as to the completeness, accuracy, or correctness of the data. DWR neither accepts nor assumes liability arising from or for any incorrect, incomplete, or misleading subject data. This Image Service was published on 1/21/2021, by Joel Dudas of the DWR Division of Engineering, who may be contacted at 916-651-7002, or at joel.dudas@water.ca.gov. Comments, problems, improvements, updates, or suggestions should be forwarded to the official DWR point of contact as available and appropriate.",
 "name": "Aerial_Photography/GrantLine_20210114",
 "description": "Survey Date and Time: Data was collected on 1/14/2021 1015-1100 PST\n\nImagery Acquisition: The imagery was collected using a DJI Mavic 2 Pro UAS, operating at 300\u2019 above ground level, along two passes to fully cover the channel of Grant Line Canal from Doughty Cut to Tracy Oasis. The field collection was controlled by a DJI Smart Controller running the DJI Pilot app. \n\nSoftware Processing: Images were imported into ArcGIS Pro 2.7 using the Ortho Mapping workspace tool, block adjusted, and an Orthomosaic was generated. No external control points were used for this project. \n\nAdjustment summary from ArcGIS Pro: Number of Adjusted Images 1232 Number of Tie Points 3940785 Number of Solution Points 1371698 Mean Reprojection Error / Sigma Naught (pixel) 0.27 / 0.39 Ground Resolution (m/pixel) 0.021 Adjustment Type Frame Ground Control Points Involved in Adjustment No \n\nDWR makes no warranties or guarantees \u2014either expressed or implied\u2014 as to the completeness, accuracy, or correctness of the data. DWR neither accepts nor assumes liability arising from or for any incorrect, incomplete, or misleading subject data. This Image Service was published on 1/21/2021, by Joel Dudas of the DWR Division of Engineering, who may be contacted at 916-651-7002, or at joel.dudas@water.ca.gov. Comments, problems, improvements, updates, or suggestions should be forwarded to the official DWR point of contact as available and appropriate.",
 "extent": {
  "xmin": 635016.7,
  "ymin": 4186005.7,
  "xmax": 639233.0999999996,
  "ymax": 4187065.62,
  "spatialReference": {
   "wkid": 32610,
   "latestWkid": 32610,
   "vcsWkid": 115700,
   "latestVcsWkid": 115700
  }
 },
 "initialExtent": {
  "xmin": 635016.7,
  "ymin": 4186005.7,
  "xmax": 639233.0999999996,
  "ymax": 4187065.62,
  "spatialReference": {
   "wkid": 32610,
   "latestWkid": 32610,
   "vcsWkid": 115700,
   "latestVcsWkid": 115700
  }
 },
 "fullExtent": {
  "xmin": 635016.7,
  "ymin": 4186005.7,
  "xmax": 639233.0999999996,
  "ymax": 4187065.62,
  "spatialReference": {
   "wkid": 32610,
   "latestWkid": 32610,
   "vcsWkid": 115700,
   "latestVcsWkid": 115700
  }
 },
 "sortableFields": "",
 "heightModelInfo": {
  "heightModel": "ellipsoidal",
  "vertCRS": "WGS_1984",
  "heightUnit": "meter"
 },
 "bandCount": 3,
 "pixelType": "U8",
 "minValues": [
  0,
  0,
  0
 ],
 "maxValues": [
  255,
  255,
  255
 ],
 "meanValues": [
  90.41088906565457,
  93.56553637138425,
  80.9416704762113
 ],
 "stdvValues": [
  45.7112265442942,
  40.11920518502497,
  36.418694022138645
 ],
 "hasMultidimensions": false,
 "pixelSizeX": 0.019999999999998453,
 "pixelSizeY": 0.019999999999998595,
 "meanPixelSize": 0.019999999999998526,
 "datasetFormat": "Cache/RAW",
 "uncompressedSize": 33517850160,
 "blockWidth": 256,
 "blockHeight": 256,
 "compressionType": "RAW",
 "bandNames": [
  "Band_1",
  "Band_2",
  "Band_3"
 ],
 "allowCopy": true,
 "allowAnalysis": true,
 "itemAccess": false,
 "inspectionCapabilities": "",
 "noDataValue": 0,
 "noDataValues": [
  0,
  0,
  0
 ],
 "minPixelSize": 0,
 "maxPixelSize": 0,
 "copyrightText": "Michael Baldwin, P.E., California Department of Water Resources, NCRO",
 "serviceDataType": "esriImageServiceDataTypeRGB",
 "serviceSourceType": "esriImageServiceSourceTypeDataset",
 "objectIdField": "",
 "fields": [],
 "capabilities": "Image,Metadata,Mensuration",
 "defaultMosaicMethod": "Center",
 "allowedMosaicMethods": "",
 "sortField": "",
 "sortValue": null,
 "sortAscending": true,
 "mosaicOperator": "First",
 "defaultCompressionQuality": 75,
 "defaultResamplingMethod": "Bilinear",
 "maxImageHeight": 4100,
 "maxImageWidth": 15000,
 "allowRasterFunction": true,
 "rasterFunctionInfos": [
  {
   "name": "None",
   "description": "",
   "help": ""
  }
 ],
 "rasterTypeInfos": [
  {
   "name": "Raster Dataset",
   "description": "Supports all ArcGIS Raster Datasets",
   "help": ""
  }
 ],
 "mensurationCapabilities": "Basic",
 "hasHistograms": true,
 "hasColormap": false,
 "hasRasterAttributeTable": false,
 "minScale": 0,
 "maxScale": 0,
 "exportTilesAllowed": false,
 "supportsStatistics": false,
 "supportsAdvancedQueries": false,
 "editFieldsInfo": null,
 "ownershipBasedAccessControlForRasters": null,
 "allowComputeTiePoints": false,
 "useStandardizedQueries": true,
 "advancedQueryCapabilities": {
  "useStandardizedQueries": true,
  "supportsStatistics": false,
  "supportsOrderBy": false,
  "supportsDistinct": false,
  "supportsPagination": false
 },
 "spatialReference": {
  "wkid": 32610,
  "latestWkid": 32610,
  "vcsWkid": 115700,
  "latestVcsWkid": 115700
 }
}
