<?xml version="1.0" encoding="UTF-8" standalone="no"?>
<metadata xml:lang="en">
<Esri>
<CreaDate>20210424</CreaDate>
<CreaTime>21365500</CreaTime>
<ArcGISFormat>1.0</ArcGISFormat>
<SyncOnce>FALSE</SyncOnce>
<DataProperties>
<itemProps>
<itemName Sync="TRUE">GrantLine_20210421_dom.crf</itemName>
<imsContentType Sync="TRUE">002</imsContentType>
<nativeExtBox>
<westBL Sync="TRUE">635014.023000</westBL>
<eastBL Sync="TRUE">639233.343000</eastBL>
<southBL Sync="TRUE">4186004.424000</southBL>
<northBL Sync="TRUE">4187063.097000</northBL>
<exTypeCode Sync="TRUE">1</exTypeCode>
</nativeExtBox>
</itemProps>
<coordRef>
<type Sync="TRUE">Projected</type>
<geogcsn Sync="TRUE">GCS_WGS_1984</geogcsn>
<csUnits Sync="TRUE">Linear Unit: Meter (1.000000)</csUnits>
<projcsn Sync="TRUE">WGS_1984_UTM_Zone_10N</projcsn>
<peXml Sync="TRUE">&lt;ProjectedCoordinateSystem xsi:type='typens:ProjectedCoordinateSystem' xmlns:xsi='http://www.w3.org/2001/XMLSchema-instance' xmlns:xs='http://www.w3.org/2001/XMLSchema' xmlns:typens='http://www.esri.com/schemas/ArcGIS/2.7.0'&gt;&lt;WKT&gt;PROJCS[&amp;quot;WGS_1984_UTM_Zone_10N&amp;quot;,GEOGCS[&amp;quot;GCS_WGS_1984&amp;quot;,DATUM[&amp;quot;D_WGS_1984&amp;quot;,SPHEROID[&amp;quot;WGS_1984&amp;quot;,6378137.0,298.257223563]],PRIMEM[&amp;quot;Greenwich&amp;quot;,0.0],UNIT[&amp;quot;Degree&amp;quot;,0.0174532925199433]],PROJECTION[&amp;quot;Transverse_Mercator&amp;quot;],PARAMETER[&amp;quot;False_Easting&amp;quot;,500000.0],PARAMETER[&amp;quot;False_Northing&amp;quot;,0.0],PARAMETER[&amp;quot;Central_Meridian&amp;quot;,-123.0],PARAMETER[&amp;quot;Scale_Factor&amp;quot;,0.9996],PARAMETER[&amp;quot;Latitude_Of_Origin&amp;quot;,0.0],UNIT[&amp;quot;Meter&amp;quot;,1.0],AUTHORITY[&amp;quot;EPSG&amp;quot;,32610]],VERTCS[&amp;quot;WGS_1984&amp;quot;,DATUM[&amp;quot;D_WGS_1984&amp;quot;,SPHEROID[&amp;quot;WGS_1984&amp;quot;,6378137.0,298.257223563]],PARAMETER[&amp;quot;Vertical_Shift&amp;quot;,0.0],PARAMETER[&amp;quot;Direction&amp;quot;,1.0],UNIT[&amp;quot;Meter&amp;quot;,1.0],AUTHORITY[&amp;quot;Esri&amp;quot;,115700]]&lt;/WKT&gt;&lt;XOrigin&gt;-5120900&lt;/XOrigin&gt;&lt;YOrigin&gt;-9998100&lt;/YOrigin&gt;&lt;XYScale&gt;450445547.3910538&lt;/XYScale&gt;&lt;ZOrigin&gt;-100000&lt;/ZOrigin&gt;&lt;ZScale&gt;10000&lt;/ZScale&gt;&lt;MOrigin&gt;-100000&lt;/MOrigin&gt;&lt;MScale&gt;10000&lt;/MScale&gt;&lt;XYTolerance&gt;0.001&lt;/XYTolerance&gt;&lt;ZTolerance&gt;0.001&lt;/ZTolerance&gt;&lt;MTolerance&gt;0.001&lt;/MTolerance&gt;&lt;HighPrecision&gt;true&lt;/HighPrecision&gt;&lt;WKID&gt;32610&lt;/WKID&gt;&lt;LatestWKID&gt;32610&lt;/LatestWKID&gt;&lt;VCSWKID&gt;115700&lt;/VCSWKID&gt;&lt;LatestVCSWKID&gt;115700&lt;/LatestVCSWKID&gt;&lt;/ProjectedCoordinateSystem&gt;</peXml>
</coordRef>
<RasterProperties>
<General>
<PixelDepth Sync="TRUE">8</PixelDepth>
<HasColormap Sync="TRUE">FALSE</HasColormap>
<CompressionType Sync="TRUE">RAW</CompressionType>
<NumBands Sync="TRUE">3</NumBands>
<Format Sync="TRUE">Cache/RAW</Format>
<HasPyramids Sync="TRUE">TRUE</HasPyramids>
<SourceType Sync="TRUE">continuous</SourceType>
<PixelType Sync="TRUE">unsigned integer</PixelType>
<NoDataValue Sync="TRUE">0</NoDataValue>
</General>
</RasterProperties>
</DataProperties>
<SyncDate>20210425</SyncDate>
<SyncTime>08281900</SyncTime>
<ModDate>20210425</ModDate>
<ModTime>08281900</ModTime>
</Esri>
<dataIdInfo>
<envirDesc Sync="FALSE">Esri ArcGIS 12.7.3.26828</envirDesc>
<dataLang>
<languageCode Sync="TRUE" value="eng">
</languageCode>
<countryCode Sync="TRUE" value="USA">
</countryCode>
</dataLang>
<idCitation>
<resTitle Sync="TRUE">GrantLine_20210421_dom.crf</resTitle>
<presForm>
<PresFormCd Sync="TRUE" value="005">
</PresFormCd>
</presForm>
</idCitation>
<spatRpType>
<SpatRepTypCd Sync="TRUE" value="002">
</SpatRepTypCd>
</spatRpType>
<dataExt>
<geoEle>
<GeoBndBox esriExtentType="search">
<exTypeCode Sync="TRUE">1</exTypeCode>
<westBL Sync="TRUE">-121.466173</westBL>
<eastBL Sync="TRUE">-121.418052</eastBL>
<northBL Sync="TRUE">37.820998</northBL>
<southBL Sync="TRUE">37.810825</southBL>
</GeoBndBox>
</geoEle>
</dataExt>
<idAbs>Purpose:
Primary purpose is to quantify floating and submerged aquatic vegetation in the channel.
Survey Date and Time:
Data was collected on 4/22/2021 0945-1030 PST
Imagery Acquisition:
The imagery was collected using a DJI Mavic 2 Pro UAS, operating at 300’ above ground level, along two passes to fully cover the channel of Grant Line Canal from Doughty Cut to Tracy Oasis. The field collection was controlled by a DJI Smart Controller running the DJI Pilot app
Software Processing:
Images were imported into ArcGIS Pro 2.7.3 using the Ortho Mapping workspace tool, block adjusted, and an Orthomosaic was generated. No external control points were used for this project.
Adjustment summary from ArcGIS Pro:
Number of Adjusted Images	1153
Number of Tie Points	4092013
Number of Solution Points	1482570
Mean Reprojection Error / Sigma Naught (pixel)	0.26 / 0.38
Ground Resolution (m/pixel)	0.022
Adjustment Type	Frame
Ground Control Points Involved in Adjustment	No
This is an official DWR Image Service, which meets all appropriate requirements of the DWR Spatial Data Standards, specifically the DWR Spatial Data Standard version 3.1, dated September 11, 2019. DWR makes no warranties or guarantees — either expressed or implied — as to the completeness, accuracy, or correctness of the data. DWR neither accepts nor assumes liability arising from or for any incorrect,incomplete, or misleading subject data. This Image Service was published on 4/28/2021, by Joel Dudas of the DWR Division of Engineering, who may be contacted at 916-651-7002, or at joel.dudas@water.ca.gov. Comments, problems, improvements, updates, or suggestions should be forwarded to the official DWR point of contact as available and appropriate.</idAbs>
<searchKeys>
<keyword>Grant Line Canal</keyword>
<keyword>Delta</keyword>
<keyword>California</keyword>
<keyword>orthomosaic</keyword>
<keyword>UAV</keyword>
</searchKeys>
<idPurp>Primary purpose is to quantify floating and submerged aquatic vegetation in the channel. Data was collected on 4/22/2021 0945-1030 PST.</idPurp>
<idCredit>Michael Baldwin, P.E., California Department of Water Resources, NCRO</idCredit>
<resConst>
<Consts>
<useLimit>public domain</useLimit>
</Consts>
</resConst>
</dataIdInfo>
<mdLang>
<languageCode Sync="TRUE" value="eng">
</languageCode>
<countryCode Sync="TRUE" value="USA">
</countryCode>
</mdLang>
<distInfo>
<distFormat>
<formatName Sync="TRUE">Raster Dataset</formatName>
</distFormat>
</distInfo>
<mdHrLv>
<ScopeCd Sync="TRUE" value="005">
</ScopeCd>
</mdHrLv>
<mdHrLvName Sync="TRUE">dataset</mdHrLvName>
<refSysInfo>
<RefSystem>
<refSysID>
<identCode Sync="TRUE" code="32610">
</identCode>
<idCodeSpace Sync="TRUE">EPSG</idCodeSpace>
<idVersion Sync="TRUE">2.1(3.0.1)</idVersion>
</refSysID>
</RefSystem>
</refSysInfo>
<spatRepInfo>
<Georect>
<cellGeo>
<CellGeoCd Sync="TRUE" value="002">
</CellGeoCd>
</cellGeo>
<numDims Sync="TRUE">2</numDims>
<tranParaAv Sync="TRUE">1</tranParaAv>
<chkPtAv Sync="TRUE">0</chkPtAv>
<cornerPts>
<pos Sync="TRUE">635014.023000 4186004.424000</pos>
</cornerPts>
<cornerPts>
<pos Sync="TRUE">635014.023000 4187063.097000</pos>
</cornerPts>
<cornerPts>
<pos Sync="TRUE">639233.343000 4187063.097000</pos>
</cornerPts>
<cornerPts>
<pos Sync="TRUE">639233.343000 4186004.424000</pos>
</cornerPts>
<centerPt>
<pos Sync="TRUE">637123.683000 4186533.760500</pos>
</centerPt>
<axisDimension type="002">
<dimSize Sync="TRUE">200920</dimSize>
<dimResol>
<value Sync="TRUE" uom="m">0.021000</value>
</dimResol>
</axisDimension>
<axisDimension type="001">
<dimSize Sync="TRUE">50413</dimSize>
<dimResol>
<value Sync="TRUE" uom="m">0.021000</value>
</dimResol>
</axisDimension>
<ptInPixel>
<PixOrientCd Sync="TRUE" value="001">
</PixOrientCd>
</ptInPixel>
</Georect>
</spatRepInfo>
<contInfo>
<ImgDesc>
<contentTyp>
<ContentTypCd Sync="TRUE" value="001">
</ContentTypCd>
</contentTyp>
<covDim>
<Band>
<dimDescrp Sync="TRUE">Band_1</dimDescrp>
<maxVal Sync="TRUE">255.000000</maxVal>
<minVal Sync="TRUE">0.000000</minVal>
<bitsPerVal Sync="TRUE">8</bitsPerVal>
<valUnit>
<UOM type="length">
</UOM>
</valUnit>
</Band>
<Band>
<dimDescrp Sync="TRUE">Band_2</dimDescrp>
<maxVal Sync="TRUE">255.000000</maxVal>
<minVal Sync="TRUE">0.000000</minVal>
<bitsPerVal Sync="TRUE">8</bitsPerVal>
<valUnit>
<UOM type="length">
</UOM>
</valUnit>
</Band>
<Band>
<dimDescrp Sync="TRUE">Band_3</dimDescrp>
<maxVal Sync="TRUE">255.000000</maxVal>
<minVal Sync="TRUE">0.000000</minVal>
<bitsPerVal Sync="TRUE">8</bitsPerVal>
<valUnit>
<UOM type="length">
</UOM>
</valUnit>
</Band>
</covDim>
</ImgDesc>
</contInfo>
<mdDateSt Sync="TRUE">20210425</mdDateSt>
</metadata>
