{ "currentVersion": 11.3, "serviceDescription": "
Drone Imagery of the Little Truckee river collected on 10/08/2020.The imagery was collected using a DJI Mavic 2 Pro UAS, operating at 80m (262ft) above ground level. Photos were taken along a 60-degree course angle, with 65% side overlap and 85% front overlap. The field collection was controlled by a DJI Smart Controller running the DJI Pilot app.Images were imported into ArcGIS Pro 2.6 using the Ortho Mapping workspace tool, block adjusted, and an Orthomosaic was generated. No external control points were used for this project.DWR makes no warranties or guarantees \u2014 either expressed or implied \u2014 as to the completeness, accuracy, or correctness of the data. DWR neither accepts nor assumes liability arising from or for any incorrect, incomplete, or misleading subject data. This is an official DWR Image Service, published on October 2, 2020by Gregory Twist of the Division of Engineering, Geodetic Branch, Geospatial Data Support Section, who may be contacted at Gregory.Twist@water.ca.gov, or 916-653-2700<\/SPAN><\/P><\/DIV><\/DIV>",
"name": "Aerial_Photography/LittleTruckee_20201008",
"description": " Drone Imagery of the Little Truckee river collected on 10/08/2020.The imagery was collected using a DJI Mavic 2 Pro UAS, operating at 80m (262ft) above ground level. Photos were taken along a 60-degree course angle, with 65% side overlap and 85% front overlap. The field collection was controlled by a DJI Smart Controller running the DJI Pilot app.Images were imported into ArcGIS Pro 2.6 using the Ortho Mapping workspace tool, block adjusted, and an Orthomosaic was generated. No external control points were used for this project.DWR makes no warranties or guarantees \u2014 either expressed or implied \u2014 as to the completeness, accuracy, or correctness of the data. DWR neither accepts nor assumes liability arising from or for any incorrect, incomplete, or misleading subject data. This is an official DWR Image Service, published on October 2, 2020by Gregory Twist of the Division of Engineering, Geodetic Branch, Geospatial Data Support Section, who may be contacted at Gregory.Twist@water.ca.gov, or 916-653-2700<\/SPAN><\/P><\/DIV><\/DIV>",
"extent": {
"xmin": 748825.363,
"ymin": 4367686.973,
"xmax": 751147.67,
"ymax": 4373024.019,
"spatialReference": {
"wkid": 32610,
"latestWkid": 32610,
"vcsWkid": 115700,
"latestVcsWkid": 115700
}
},
"initialExtent": {
"xmin": 748825.363,
"ymin": 4367686.973,
"xmax": 751147.67,
"ymax": 4373024.019,
"spatialReference": {
"wkid": 32610,
"latestWkid": 32610,
"vcsWkid": 115700,
"latestVcsWkid": 115700
}
},
"fullExtent": {
"xmin": 748825.363,
"ymin": 4367686.973,
"xmax": 751147.67,
"ymax": 4373024.019,
"spatialReference": {
"wkid": 32610,
"latestWkid": 32610,
"vcsWkid": 115700,
"latestVcsWkid": 115700
}
},
"sortableFields": "",
"heightModelInfo": {
"heightModel": "ellipsoidal",
"vertCRS": "WGS_1984",
"heightUnit": "meter"
},
"bandCount": 3,
"pixelType": "U8",
"minValues": [
0,
0,
0
],
"maxValues": [
255,
255,
255
],
"meanValues": [
129.5115482519002,
124.87960950128506,
101.98790933273985
],
"stdvValues": [
34.018802260566936,
29.801983220986635,
30.79619801585422
],
"hasMultidimensions": false,
"pixelSizeX": 0.013000000000000168,
"pixelSizeY": 0.013000000000000218,
"meanPixelSize": 0.013000000000000192,
"datasetFormat": "Cache/RAW",
"uncompressedSize": 220016437014,
"blockWidth": 256,
"blockHeight": 256,
"compressionType": "RAW",
"bandNames": [
"Band_1",
"Band_2",
"Band_3"
],
"allowCopy": true,
"allowAnalysis": true,
"itemAccess": false,
"inspectionCapabilities": "",
"noDataValue": 0,
"noDataValues": [
0,
0,
0
],
"minPixelSize": 0,
"maxPixelSize": 0,
"copyrightText": "California Dept of Water Resources",
"serviceDataType": "esriImageServiceDataTypeRGB",
"serviceSourceType": "esriImageServiceSourceTypeDataset",
"objectIdField": "",
"fields": [],
"capabilities": "Image,Metadata,Mensuration",
"defaultMosaicMethod": "Center",
"allowedMosaicMethods": "",
"sortField": "",
"sortValue": null,
"sortAscending": true,
"mosaicOperator": "First",
"defaultCompressionQuality": 75,
"defaultResamplingMethod": "Bilinear",
"maxImageHeight": 4100,
"maxImageWidth": 15000,
"allowRasterFunction": true,
"rasterFunctionInfos": [
{
"name": "None",
"description": "",
"help": ""
}
],
"rasterTypeInfos": [
{
"name": "Raster Dataset",
"description": "Supports all ArcGIS Raster Datasets",
"help": ""
}
],
"mensurationCapabilities": "Basic",
"hasHistograms": true,
"hasColormap": false,
"hasRasterAttributeTable": false,
"minScale": 0,
"maxScale": 0,
"exportTilesAllowed": false,
"supportsStatistics": false,
"supportsAdvancedQueries": false,
"editFieldsInfo": null,
"ownershipBasedAccessControlForRasters": null,
"allowComputeTiePoints": false,
"useStandardizedQueries": true,
"advancedQueryCapabilities": {
"useStandardizedQueries": true,
"supportsStatistics": false,
"supportsOrderBy": false,
"supportsDistinct": false,
"supportsPagination": false
},
"spatialReference": {
"wkid": 32610,
"latestWkid": 32610,
"vcsWkid": 115700,
"latestVcsWkid": 115700
}
}