{
 "currentVersion": 11.3,
 "serviceDescription": "Imagery Acquisition:The imagery was collected using a DJI Mavic 2 Pro UAS, operating at 200\u2019 above ground level, along one single flight line following the center line of Middle River from Undine road to 1 mile downstream of Howard road. The field collection was controlled by a DJI Smart Controller running the DJI Pilot app.Software Processing:Images were imported into ArcGIS Pro 2.6 using the Ortho Mapping workspace tool, block adjusted, and an Orthomosaic was generated. No external control points were used for this project.Adjustment summary from ArcGIS Pro:Number of Adjusted Images1398Number of Tie Points8368632Number of Solution Points2982802Mean Reprojection Error (pixel)0.20Ground Resolution (m/pixel)0.014Adjustment TypeFrameGround Control Points Involved in AdjustmentNoDWR makes no warranties or guarantees \u2014either expressed or implied\u2014 as to the completeness, accuracy, or correctness of the data. DWR neither accepts nor assumes liability arising from or for any incorrect, incomplete, or misleading subject data. This Image Service was published on 11/4/2020, by Gregory Twist of the DWR Division of Engineering, who may be contacted at 916-653-2700, or at gregory.twist@water.ca.gov. Comments, problems, improvements, updates, or suggestions should be forwarded to the official DWR point of contact as available and appropriate.",
 "name": "Aerial_Photography/MiddleRiver_20201028_1",
 "description": "Imagery Acquisition:The imagery was collected using a DJI Mavic 2 Pro UAS, operating at 200\u2019 above ground level, along one single flight line following the center line of Middle River from Undine road to 1 mile downstream of Howard road. The field collection was controlled by a DJI Smart Controller running the DJI Pilot app.Software Processing:Images were imported into ArcGIS Pro 2.6 using the Ortho Mapping workspace tool, block adjusted, and an Orthomosaic was generated. No external control points were used for this project.Adjustment summary from ArcGIS Pro:Number of Adjusted Images1398Number of Tie Points8368632Number of Solution Points2982802Mean Reprojection Error (pixel)0.20Ground Resolution (m/pixel)0.014Adjustment TypeFrameGround Control Points Involved in AdjustmentNoDWR makes no warranties or guarantees \u2014either expressed or implied\u2014 as to the completeness, accuracy, or correctness of the data. DWR neither accepts nor assumes liability arising from or for any incorrect, incomplete, or misleading subject data. This Image Service was published on 11/4/2020, by Gregory Twist of the DWR Division of Engineering, who may be contacted at 916-653-2700, or at gregory.twist@water.ca.gov. Comments, problems, improvements, updates, or suggestions should be forwarded to the official DWR point of contact as available and appropriate.",
 "extent": {
  "xmin": 639888.899,
  "ymin": 4188237.586,
  "xmax": 642964.1529999998,
  "ymax": 4194543.704,
  "spatialReference": {
   "wkid": 32610,
   "latestWkid": 32610,
   "vcsWkid": 115700,
   "latestVcsWkid": 115700
  }
 },
 "initialExtent": {
  "xmin": 639888.899,
  "ymin": 4188237.586,
  "xmax": 642964.1529999998,
  "ymax": 4194543.704,
  "spatialReference": {
   "wkid": 32610,
   "latestWkid": 32610,
   "vcsWkid": 115700,
   "latestVcsWkid": 115700
  }
 },
 "fullExtent": {
  "xmin": 639888.899,
  "ymin": 4188237.586,
  "xmax": 642964.1529999998,
  "ymax": 4194543.704,
  "spatialReference": {
   "wkid": 32610,
   "latestWkid": 32610,
   "vcsWkid": 115700,
   "latestVcsWkid": 115700
  }
 },
 "sortableFields": "",
 "heightModelInfo": {
  "heightModel": "ellipsoidal",
  "vertCRS": "WGS_1984",
  "heightUnit": "meter"
 },
 "bandCount": 3,
 "pixelType": "U8",
 "minValues": [
  0,
  0,
  0
 ],
 "maxValues": [
  255,
  255,
  255
 ],
 "meanValues": [
  126.89928863290044,
  122.6892871100947,
  106.03991211664683
 ],
 "stdvValues": [
  51.68035770360675,
  45.526927999335264,
  39.40017937690234
 ],
 "hasMultidimensions": false,
 "pixelSizeX": 0.012999999999999326,
 "pixelSizeY": 0.012999999999999555,
 "meanPixelSize": 0.01299999999999944,
 "datasetFormat": "Cache/RAW",
 "uncompressedSize": 344252921964,
 "blockWidth": 256,
 "blockHeight": 256,
 "compressionType": "RAW",
 "bandNames": [
  "Band_1",
  "Band_2",
  "Band_3"
 ],
 "allowCopy": true,
 "allowAnalysis": true,
 "itemAccess": false,
 "inspectionCapabilities": "",
 "noDataValue": 0,
 "noDataValues": [
  0,
  0,
  0
 ],
 "minPixelSize": 0,
 "maxPixelSize": 0,
 "copyrightText": "Michael Baldwin, P.E., California Department of Water Resources, NCRO",
 "serviceDataType": "esriImageServiceDataTypeRGB",
 "serviceSourceType": "esriImageServiceSourceTypeDataset",
 "objectIdField": "",
 "fields": [],
 "capabilities": "Image,Metadata,Mensuration",
 "defaultMosaicMethod": "Center",
 "allowedMosaicMethods": "",
 "sortField": "",
 "sortValue": null,
 "sortAscending": true,
 "mosaicOperator": "First",
 "defaultCompressionQuality": 75,
 "defaultResamplingMethod": "Bilinear",
 "maxImageHeight": 4100,
 "maxImageWidth": 15000,
 "allowRasterFunction": true,
 "rasterFunctionInfos": [
  {
   "name": "None",
   "description": "",
   "help": ""
  }
 ],
 "rasterTypeInfos": [
  {
   "name": "Raster Dataset",
   "description": "Supports all ArcGIS Raster Datasets",
   "help": ""
  }
 ],
 "mensurationCapabilities": "Basic",
 "hasHistograms": true,
 "hasColormap": false,
 "hasRasterAttributeTable": false,
 "minScale": 0,
 "maxScale": 0,
 "exportTilesAllowed": false,
 "supportsStatistics": false,
 "supportsAdvancedQueries": false,
 "editFieldsInfo": null,
 "ownershipBasedAccessControlForRasters": null,
 "allowComputeTiePoints": false,
 "useStandardizedQueries": true,
 "advancedQueryCapabilities": {
  "useStandardizedQueries": true,
  "supportsStatistics": false,
  "supportsOrderBy": false,
  "supportsDistinct": false,
  "supportsPagination": false
 },
 "spatialReference": {
  "wkid": 32610,
  "latestWkid": 32610,
  "vcsWkid": 115700,
  "latestVcsWkid": 115700
 }
}
