{
 "currentVersion": 11.3,
 "serviceDescription": "Survey Date and Time:\n\tData was collected on 1/13/2021 1015-1100 PST\nImagery Acquisition:\n\tThe imagery was collected using a DJI Mavic 2 Pro UAS, operating at 200\u2019 above ground level, along one single flight line following the center line of Middle River from Undine road to 1 mile downstream of Howard road. The field collection was controlled by a DJI Smart Controller running the DJI Pilot app.\nSoftware Processing:\n\tImages were imported into ArcGIS Pro 2.7 using the Ortho Mapping workspace tool, block adjusted, and an Orthomosaic was generated. No external control points were used for this project.\nAdjustment summary from ArcGIS Pro:\nNumber of Adjusted Images\t1390\nNumber of Tie Points\t7122970\nNumber of Solution Points\t2567820\nMean Reprojection Error / Sigma Naught (pixel)\t0.32 / 0.47\nGround Resolution (m/pixel)\t0.014\nAdjustment Type\tFrame\nGround Control Points Involved in Adjustment\tNo\n\nDWR makes no warranties or guarantees \u2014either expressed or implied\u2014 as to the completeness, accuracy, or correctness of the data. DWR neither accepts nor assumes liability arising from or for any incorrect, incomplete, or misleading subject data. This Image Service was published on 1/21/2021, by Joel Dudas of the DWR Division of Engineering, who may be contacted at 916-651-7002, or at joel.dudas@water.ca.gov. Comments, problems, improvements, updates, or suggestions should be forwarded to the official DWR point of contact as available and appropriate.",
 "name": "Aerial_Photography/MiddleRiver_20210113_1",
 "description": "Survey Date and Time:\n\tData was collected on 1/13/2021 1015-1100 PST\nImagery Acquisition:\n\tThe imagery was collected using a DJI Mavic 2 Pro UAS, operating at 200\u2019 above ground level, along one single flight line following the center line of Middle River from Undine road to 1 mile downstream of Howard road. The field collection was controlled by a DJI Smart Controller running the DJI Pilot app.\nSoftware Processing:\n\tImages were imported into ArcGIS Pro 2.7 using the Ortho Mapping workspace tool, block adjusted, and an Orthomosaic was generated. No external control points were used for this project.\nAdjustment summary from ArcGIS Pro:\nNumber of Adjusted Images\t1390\nNumber of Tie Points\t7122970\nNumber of Solution Points\t2567820\nMean Reprojection Error / Sigma Naught (pixel)\t0.32 / 0.47\nGround Resolution (m/pixel)\t0.014\nAdjustment Type\tFrame\nGround Control Points Involved in Adjustment\tNo\n\nDWR makes no warranties or guarantees \u2014either expressed or implied\u2014 as to the completeness, accuracy, or correctness of the data. DWR neither accepts nor assumes liability arising from or for any incorrect, incomplete, or misleading subject data. This Image Service was published on 1/21/2021, by Joel Dudas of the DWR Division of Engineering, who may be contacted at 916-651-7002, or at joel.dudas@water.ca.gov. Comments, problems, improvements, updates, or suggestions should be forwarded to the official DWR point of contact as available and appropriate.",
 "extent": {
  "xmin": 640139.76,
  "ymin": 4188233.634,
  "xmax": 642964.192,
  "ymax": 4194542.404,
  "spatialReference": {
   "wkid": 32610,
   "latestWkid": 32610,
   "vcsWkid": 115700,
   "latestVcsWkid": 115700
  }
 },
 "initialExtent": {
  "xmin": 640139.76,
  "ymin": 4188233.634,
  "xmax": 642964.192,
  "ymax": 4194542.404,
  "spatialReference": {
   "wkid": 32610,
   "latestWkid": 32610,
   "vcsWkid": 115700,
   "latestVcsWkid": 115700
  }
 },
 "fullExtent": {
  "xmin": 640139.76,
  "ymin": 4188233.634,
  "xmax": 642964.192,
  "ymax": 4194542.404,
  "spatialReference": {
   "wkid": 32610,
   "latestWkid": 32610,
   "vcsWkid": 115700,
   "latestVcsWkid": 115700
  }
 },
 "sortableFields": "",
 "heightModelInfo": {
  "heightModel": "ellipsoidal",
  "vertCRS": "WGS_1984",
  "heightUnit": "meter"
 },
 "bandCount": 3,
 "pixelType": "U8",
 "minValues": [
  0,
  0,
  0
 ],
 "maxValues": [
  255,
  255,
  255
 ],
 "meanValues": [
  100.9345493549956,
  96.17908820556725,
  85.13035000295555
 ],
 "stdvValues": [
  43.497354156004725,
  38.48652640262214,
  33.71660600283996
 ],
 "hasMultidimensions": false,
 "pixelSizeX": 0.013000000000000136,
 "pixelSizeY": 0.013000000000000038,
 "meanPixelSize": 0.013000000000000088,
 "datasetFormat": "Cache/RAW",
 "uncompressedSize": 316308139680,
 "blockWidth": 256,
 "blockHeight": 256,
 "compressionType": "RAW",
 "bandNames": [
  "Band_1",
  "Band_2",
  "Band_3"
 ],
 "allowCopy": true,
 "allowAnalysis": true,
 "itemAccess": false,
 "inspectionCapabilities": "",
 "noDataValue": 0,
 "noDataValues": [
  0,
  0,
  0
 ],
 "minPixelSize": 0,
 "maxPixelSize": 0,
 "copyrightText": "Michael Baldwin, P.E., California Department of Water Resources, NCRO",
 "serviceDataType": "esriImageServiceDataTypeRGB",
 "serviceSourceType": "esriImageServiceSourceTypeDataset",
 "objectIdField": "",
 "fields": [],
 "capabilities": "Image,Metadata,Mensuration",
 "defaultMosaicMethod": "Center",
 "allowedMosaicMethods": "",
 "sortField": "",
 "sortValue": null,
 "sortAscending": true,
 "mosaicOperator": "First",
 "defaultCompressionQuality": 75,
 "defaultResamplingMethod": "Bilinear",
 "maxImageHeight": 4100,
 "maxImageWidth": 15000,
 "allowRasterFunction": true,
 "rasterFunctionInfos": [
  {
   "name": "None",
   "description": "",
   "help": ""
  }
 ],
 "rasterTypeInfos": [
  {
   "name": "Raster Dataset",
   "description": "Supports all ArcGIS Raster Datasets",
   "help": ""
  }
 ],
 "mensurationCapabilities": "Basic",
 "hasHistograms": true,
 "hasColormap": false,
 "hasRasterAttributeTable": false,
 "minScale": 0,
 "maxScale": 0,
 "exportTilesAllowed": false,
 "supportsStatistics": false,
 "supportsAdvancedQueries": false,
 "editFieldsInfo": null,
 "ownershipBasedAccessControlForRasters": null,
 "allowComputeTiePoints": false,
 "useStandardizedQueries": true,
 "advancedQueryCapabilities": {
  "useStandardizedQueries": true,
  "supportsStatistics": false,
  "supportsOrderBy": false,
  "supportsDistinct": false,
  "supportsPagination": false
 },
 "spatialReference": {
  "wkid": 32610,
  "latestWkid": 32610,
  "vcsWkid": 115700,
  "latestVcsWkid": 115700
 }
}
