{
 "currentVersion": 11.3,
 "serviceDescription": "Purpose:\n\tPrimary purpose is to quantify floating and submerged aquatic vegetation in the channel.\n\nSurvey Date and Time:\n\tData was collected on 4/22/2021 0945-1030 PST\n\nImagery Acquisition:\n\tThe imagery was collected using a DJI Mavic 2 Pro UAS, operating at 200\u2019 above ground level, along one single flight line following the center line of Middle River from Undine road to 1 mile downstream of Howard road. The field collection was controlled by a DJI Smart Controller running the DJI Pilot app.\n\nSoftware Processing:\n\tImages were imported into ArcGIS Pro 2.7.3 using the Ortho Mapping workspace tool, block adjusted, and an Orthomosaic was generated. No external control points were used for this project.\n\nAdjustment summary from ArcGIS Pro:\nNumber of Adjusted Images\t1396\nNumber of Tie Points\t6207493\nNumber of Solution Points\t2333288\nMean Reprojection Error / Sigma Naught (pixel)\t0.38 / 0.57\nGround Resolution (m/pixel)\t0.014\nAdjustment Type\tFrame\nGround Control Points Involved in Adjustment\tNo\n\nThis is an official DWR Image Service, which meets all appropriate requirements of the DWR Spatial Data Standards, specifically the DWR Spatial Data Standard version 3.1, dated September 11, 2019.DWR makes no warranties or guarantees \u2014 either expressed or implied \u2014 as to the completeness, accuracy, or correctness of the data. DWR neither accepts nor assumes liability arising from or for any incorrect,incomplete, or misleading subject data.This Image Service was published on 4/28/2021, by Joel Dudas of the DWR Division of Engineering, who may be contacted at 916-651-7002, or at joel.dudas@water.ca.gov. Comments, problems, improvements, updates, or suggestions should be forwarded to the official DWR point of contact as available and appropriate.",
 "name": "Aerial_Photography/MiddleRiver_20210422_1",
 "description": "Purpose:\n\tPrimary purpose is to quantify floating and submerged aquatic vegetation in the channel.\n\nSurvey Date and Time:\n\tData was collected on 4/22/2021 0945-1030 PST\n\nImagery Acquisition:\n\tThe imagery was collected using a DJI Mavic 2 Pro UAS, operating at 200\u2019 above ground level, along one single flight line following the center line of Middle River from Undine road to 1 mile downstream of Howard road. The field collection was controlled by a DJI Smart Controller running the DJI Pilot app.\n\nSoftware Processing:\n\tImages were imported into ArcGIS Pro 2.7.3 using the Ortho Mapping workspace tool, block adjusted, and an Orthomosaic was generated. No external control points were used for this project.\n\nAdjustment summary from ArcGIS Pro:\nNumber of Adjusted Images\t1396\nNumber of Tie Points\t6207493\nNumber of Solution Points\t2333288\nMean Reprojection Error / Sigma Naught (pixel)\t0.38 / 0.57\nGround Resolution (m/pixel)\t0.014\nAdjustment Type\tFrame\nGround Control Points Involved in Adjustment\tNo\n\nThis is an official DWR Image Service, which meets all appropriate requirements of the DWR Spatial Data Standards, specifically the DWR Spatial Data Standard version 3.1, dated September 11, 2019.DWR makes no warranties or guarantees \u2014 either expressed or implied \u2014 as to the completeness, accuracy, or correctness of the data. DWR neither accepts nor assumes liability arising from or for any incorrect,incomplete, or misleading subject data.This Image Service was published on 4/28/2021, by Joel Dudas of the DWR Division of Engineering, who may be contacted at 916-651-7002, or at joel.dudas@water.ca.gov. Comments, problems, improvements, updates, or suggestions should be forwarded to the official DWR point of contact as available and appropriate.",
 "extent": {
  "xmin": 640141.047,
  "ymin": 4188229.5259999996,
  "xmax": 642962.762,
  "ymax": 4194542.066,
  "spatialReference": {
   "wkid": 32610,
   "latestWkid": 32610,
   "vcsWkid": 115700,
   "latestVcsWkid": 115700
  }
 },
 "initialExtent": {
  "xmin": 640141.047,
  "ymin": 4188229.5259999996,
  "xmax": 642962.762,
  "ymax": 4194542.066,
  "spatialReference": {
   "wkid": 32610,
   "latestWkid": 32610,
   "vcsWkid": 115700,
   "latestVcsWkid": 115700
  }
 },
 "fullExtent": {
  "xmin": 640141.047,
  "ymin": 4188229.5259999996,
  "xmax": 642962.762,
  "ymax": 4194542.066,
  "spatialReference": {
   "wkid": 32610,
   "latestWkid": 32610,
   "vcsWkid": 115700,
   "latestVcsWkid": 115700
  }
 },
 "sortableFields": "",
 "heightModelInfo": {
  "heightModel": "ellipsoidal",
  "vertCRS": "WGS_1984",
  "heightUnit": "meter"
 },
 "bandCount": 3,
 "pixelType": "U8",
 "minValues": [
  0,
  0,
  0
 ],
 "maxValues": [
  255,
  255,
  255
 ],
 "meanValues": [
  102.57143379923222,
  103.70812328717116,
  81.542830667524
 ],
 "stdvValues": [
  44.56597871028554,
  39.16219470588963,
  35.200204582369885
 ],
 "hasMultidimensions": false,
 "pixelSizeX": 0.01299999999999985,
 "pixelSizeY": 0.013000000000000077,
 "meanPixelSize": 0.012999999999999963,
 "datasetFormat": "Cache/RAW",
 "uncompressedSize": 316192700700,
 "blockWidth": 256,
 "blockHeight": 256,
 "compressionType": "RAW",
 "bandNames": [
  "Band_1",
  "Band_2",
  "Band_3"
 ],
 "allowCopy": true,
 "allowAnalysis": true,
 "itemAccess": false,
 "inspectionCapabilities": "",
 "noDataValue": 0,
 "noDataValues": [
  0,
  0,
  0
 ],
 "minPixelSize": 0,
 "maxPixelSize": 0,
 "copyrightText": "Michael Baldwin, P.E., California Department of Water Resources, NCRO",
 "serviceDataType": "esriImageServiceDataTypeRGB",
 "serviceSourceType": "esriImageServiceSourceTypeDataset",
 "objectIdField": "",
 "fields": [],
 "capabilities": "Mensuration,Image,Metadata",
 "defaultMosaicMethod": "Center",
 "allowedMosaicMethods": "",
 "sortField": "",
 "sortValue": null,
 "sortAscending": true,
 "mosaicOperator": "First",
 "defaultCompressionQuality": 75,
 "defaultResamplingMethod": "Bilinear",
 "maxImageHeight": 4100,
 "maxImageWidth": 15000,
 "allowRasterFunction": true,
 "rasterFunctionInfos": [
  {
   "name": "None",
   "description": "Make a Raster or Raster Dataset into a Function Raster Dataset.",
   "help": ""
  }
 ],
 "rasterTypeInfos": [
  {
   "name": "Raster Dataset",
   "description": "Supports all ArcGIS Raster Datasets",
   "help": ""
  }
 ],
 "mensurationCapabilities": "Basic",
 "hasHistograms": true,
 "hasColormap": false,
 "hasRasterAttributeTable": false,
 "minScale": 0,
 "maxScale": 0,
 "exportTilesAllowed": false,
 "supportsStatistics": false,
 "supportsAdvancedQueries": false,
 "editFieldsInfo": null,
 "ownershipBasedAccessControlForRasters": null,
 "allowComputeTiePoints": false,
 "useStandardizedQueries": true,
 "advancedQueryCapabilities": {
  "useStandardizedQueries": true,
  "supportsStatistics": false,
  "supportsOrderBy": false,
  "supportsDistinct": false,
  "supportsPagination": false
 },
 "spatialReference": {
  "wkid": 32610,
  "latestWkid": 32610,
  "vcsWkid": 115700,
  "latestVcsWkid": 115700
 },
 "resampling": false
}
