{
 "currentVersion": 11.3,
 "serviceDescription": "Purpose:\n\tPrimary purpose is to quantify floating and submerged aquatic vegetation in the channel.\nSurvey Date and Time:\n\tData was collected on 3/8/2023 1100-1145 PST\nImagery Acquisition:\n\tThe imagery was collected using a DJI Mavic 2 Pro UAS, operating at 300\u2019 above ground level, along one single flight line following the center line of Middle River between 1 mile downstream of Howard road and Tract Blvd. The field collection was controlled by a DJI Smart Controller running the DJI Pilot app.\nSoftware Processing:\n\tImages were imported into ArcGIS Pro 2.8.0 using the Ortho Mapping workspace tool, block adjusted, and an Orthomosaic was generated. No external control points were used for this project.\nAdjustment summary from ArcGIS Pro:\nNumber of Adjusted Images\t842\nNumber of Tie Points\t3855296\nNumber of Solution Points\t1321867\nMean Reprojection Error / Sigma Naught (pixel)\t0.29 / 0.41\nGround Resolution (m/pixel)\t0.021\nAdjustment Type\tFrame\nGround Control Points Involved in Adjustment\tNo\n\n",
 "name": "Aerial_Photography/MiddleRiver_20230308_2",
 "description": "",
 "extent": {
  "xmin": 635739.48,
  "ymin": 4193757.5000000005,
  "xmax": 640364.8799999995,
  "ymax": 4195118.86,
  "spatialReference": {
   "wkid": 32610,
   "latestWkid": 32610,
   "vcsWkid": 115700,
   "latestVcsWkid": 115700
  }
 },
 "initialExtent": {
  "xmin": 635739.48,
  "ymin": 4193757.5000000005,
  "xmax": 640364.8799999995,
  "ymax": 4195118.86,
  "spatialReference": {
   "wkid": 32610,
   "latestWkid": 32610,
   "vcsWkid": 115700,
   "latestVcsWkid": 115700
  }
 },
 "fullExtent": {
  "xmin": 635739.48,
  "ymin": 4193757.5000000005,
  "xmax": 640364.8799999995,
  "ymax": 4195118.86,
  "spatialReference": {
   "wkid": 32610,
   "latestWkid": 32610,
   "vcsWkid": 115700,
   "latestVcsWkid": 115700
  }
 },
 "sortableFields": "MinPS,MaxPS,LowPS,HighPS,CenterX,CenterY,ZOrder,Shape_Length,Shape_Area",
 "heightModelInfo": {
  "heightModel": "ellipsoidal",
  "vertCRS": "WGS_1984",
  "heightUnit": "meter"
 },
 "bandCount": 3,
 "pixelType": "U8",
 "minValues": [
  0,
  4,
  0
 ],
 "maxValues": [
  255,
  255,
  255
 ],
 "meanValues": [
  135.41972973777885,
  132.4267627435785,
  119.53659738656853
 ],
 "stdvValues": [
  36.22965222893715,
  34.04243819830209,
  33.43387826648779
 ],
 "hasMultidimensions": false,
 "pixelSizeX": 0.01999999999999809,
 "pixelSizeY": 0.019999999999998085,
 "meanPixelSize": 0.01999999999999809,
 "datasetFormat": "Cache/RAW",
 "uncompressedSize": 47226054876,
 "blockWidth": 256,
 "blockHeight": 256,
 "compressionType": "RAW",
 "bandNames": [
  "Band_1",
  "Band_2",
  "Band_3"
 ],
 "allowCopy": true,
 "allowAnalysis": true,
 "itemAccess": false,
 "inspectionCapabilities": "",
 "noDataValue": 0,
 "noDataValues": [
  0,
  0,
  0
 ],
 "minPixelSize": 0,
 "maxPixelSize": 0,
 "copyrightText": "Michael Baldwin, P.E., California Department of Water Resources, NCRO",
 "serviceDataType": "esriImageServiceDataTypeRGB",
 "serviceSourceType": "esriImageServiceSourceTypeDataset",
 "objectIdField": "",
 "fields": [],
 "capabilities": "Image,Metadata,Mensuration",
 "defaultMosaicMethod": "Center",
 "allowedMosaicMethods": "",
 "sortField": "",
 "sortValue": null,
 "sortAscending": true,
 "mosaicOperator": "First",
 "defaultCompressionQuality": 75,
 "defaultResamplingMethod": "Bilinear",
 "maxImageHeight": 4100,
 "maxImageWidth": 15000,
 "allowRasterFunction": true,
 "rasterFunctionInfos": [
  {
   "name": "None",
   "description": "Make a Raster or Raster Dataset into a Function Raster Dataset.",
   "help": ""
  }
 ],
 "rasterTypeInfos": [
  {
   "name": "Raster Dataset",
   "description": "Supports all ArcGIS Raster Datasets",
   "help": ""
  }
 ],
 "mensurationCapabilities": "Basic",
 "hasHistograms": true,
 "hasColormap": false,
 "hasRasterAttributeTable": false,
 "minScale": 0,
 "maxScale": 0,
 "exportTilesAllowed": false,
 "supportsStatistics": false,
 "supportsAdvancedQueries": false,
 "editFieldsInfo": null,
 "ownershipBasedAccessControlForRasters": null,
 "allowComputeTiePoints": false,
 "useStandardizedQueries": true,
 "advancedQueryCapabilities": {
  "useStandardizedQueries": true,
  "supportsStatistics": false,
  "supportsOrderBy": false,
  "supportsDistinct": false,
  "supportsPagination": false
 },
 "spatialReference": {
  "wkid": 32610,
  "latestWkid": 32610,
  "vcsWkid": 115700,
  "latestVcsWkid": 115700
 }
}
