{
 "currentVersion": 11.3,
 "serviceDescription": "Purpose:\n\tPrimary purpose is to quantify floating and submerged aquatic vegetation in the channel.\nSurvey Date and Time:\n\tData was collected on 3/8/2023 1145-1230 PST\nImagery Acquisition:\n\tThe imagery was collected using a DJI Mavic 2 Pro UAS, operating at 400\u2019 above ground level, along two passes to fully cover the channel of Middle River from Tracy Blvd to Victoria Canal. The field collection was controlled by a DJI Smart Controller running the DJI Pilot app.\nSoftware Processing:\n\tImages were imported into ArcGIS Pro 2.8.0 using the Ortho Mapping workspace tool, block adjusted, and an Orthomosaic was generated. No external control points were used for this project.\nAdjustment summary from ArcGIS Pro:\nNumber of Adjusted Images\t890\nNumber of Tie Points\t4904325\nNumber of Solution Points\t1554734\nMean Reprojection Error / Sigma Naught (pixel)\t0.28 / 0.38\nGround Resolution (m/pixel)\t0.028\nAdjustment Type\tFrame\nGround Control Points Involved in Adjustment\tNo\n\n",
 "name": "Aerial_Photography/MiddleRiver_20230308_3",
 "description": "",
 "extent": {
  "xmin": 632755.53,
  "ymin": 4193706.879,
  "xmax": 635833.503,
  "ymax": 4194691.002,
  "spatialReference": {
   "wkid": 32610,
   "latestWkid": 32610,
   "vcsWkid": 115700,
   "latestVcsWkid": 115700
  }
 },
 "initialExtent": {
  "xmin": 632755.53,
  "ymin": 4193706.879,
  "xmax": 635833.503,
  "ymax": 4194691.002,
  "spatialReference": {
   "wkid": 32610,
   "latestWkid": 32610,
   "vcsWkid": 115700,
   "latestVcsWkid": 115700
  }
 },
 "fullExtent": {
  "xmin": 632755.53,
  "ymin": 4193706.879,
  "xmax": 635833.503,
  "ymax": 4194691.002,
  "spatialReference": {
   "wkid": 32610,
   "latestWkid": 32610,
   "vcsWkid": 115700,
   "latestVcsWkid": 115700
  }
 },
 "sortableFields": "MinPS,MaxPS,LowPS,HighPS,CenterX,CenterY,ZOrder,Shape_Length,Shape_Area,DateFrom,DateTo",
 "heightModelInfo": {
  "heightModel": "ellipsoidal",
  "vertCRS": "WGS_1984",
  "heightUnit": "meter"
 },
 "bandCount": 3,
 "pixelType": "U8",
 "minValues": [
  0,
  4,
  0
 ],
 "maxValues": [
  255,
  255,
  255
 ],
 "meanValues": [
  133.14549886881724,
  133.80906101360566,
  120.04157994867305
 ],
 "stdvValues": [
  35.085326757852854,
  31.7200155588324,
  33.23914886680436
 ],
 "hasMultidimensions": false,
 "pixelSizeX": 0.026999999999999982,
 "pixelSizeY": 0.02700000000000378,
 "meanPixelSize": 0.027000000000001884,
 "datasetFormat": "Cache/RAW",
 "uncompressedSize": 12465448653,
 "blockWidth": 256,
 "blockHeight": 256,
 "compressionType": "RAW",
 "bandNames": [
  "Band_1",
  "Band_2",
  "Band_3"
 ],
 "allowCopy": true,
 "allowAnalysis": true,
 "itemAccess": false,
 "inspectionCapabilities": "",
 "noDataValue": 0,
 "noDataValues": [
  0,
  0,
  0
 ],
 "minPixelSize": 0,
 "maxPixelSize": 0,
 "copyrightText": "Michael Baldwin, P.E., California Department of Water Resources, NCRO",
 "serviceDataType": "esriImageServiceDataTypeRGB",
 "serviceSourceType": "esriImageServiceSourceTypeDataset",
 "objectIdField": "",
 "fields": [],
 "capabilities": "Image,Metadata,Mensuration",
 "defaultMosaicMethod": "Center",
 "allowedMosaicMethods": "",
 "sortField": "",
 "sortValue": null,
 "sortAscending": true,
 "mosaicOperator": "First",
 "defaultCompressionQuality": 75,
 "defaultResamplingMethod": "Bilinear",
 "maxImageHeight": 4100,
 "maxImageWidth": 15000,
 "allowRasterFunction": true,
 "rasterFunctionInfos": [
  {
   "name": "None",
   "description": "Make a Raster or Raster Dataset into a Function Raster Dataset.",
   "help": ""
  }
 ],
 "rasterTypeInfos": [
  {
   "name": "Raster Dataset",
   "description": "Supports all ArcGIS Raster Datasets",
   "help": ""
  }
 ],
 "mensurationCapabilities": "Basic",
 "hasHistograms": true,
 "hasColormap": false,
 "hasRasterAttributeTable": false,
 "minScale": 0,
 "maxScale": 0,
 "exportTilesAllowed": false,
 "supportsStatistics": false,
 "supportsAdvancedQueries": false,
 "editFieldsInfo": null,
 "ownershipBasedAccessControlForRasters": null,
 "allowComputeTiePoints": false,
 "useStandardizedQueries": true,
 "advancedQueryCapabilities": {
  "useStandardizedQueries": true,
  "supportsStatistics": false,
  "supportsOrderBy": false,
  "supportsDistinct": false,
  "supportsPagination": false
 },
 "spatialReference": {
  "wkid": 32610,
  "latestWkid": 32610,
  "vcsWkid": 115700,
  "latestVcsWkid": 115700
 }
}
