{
 "currentVersion": 11.3,
 "serviceDescription": "Survey Date and Time: Data was collected on 1/14/2021 1115-1200 PST Imagery Acquisition: The imagery was collected using a DJI Mavic 2 Pro UAS, operating at 200\u2019 above ground level, along one single flight line following the center line of Old River from Doughty Cut to 1.5 miles downstream of Tracy Road. The field collection was controlled by a DJI Smart Controller running the DJI Pilot app. Software Processing: Images were imported into ArcGIS Pro 2.7 using the Ortho Mapping workspace tool, block adjusted, and an Orthomosaic was generated. No external control points were used for this project. Adjustment summary from ArcGIS Pro: Number of Adjusted Images 1259 Number of Tie Points 2643785 Number of Solution Points 1036051 Mean Reprojection Error / Sigma Naught (pixel) 0.37 / 0.57 Ground Resolution (m/pixel) 0.014 Adjustment Type Frame Ground Control Points Involved in Adjustment No DWR makes no warranties or guarantees \u2014either expressed or implied\u2014 as to the completeness, accuracy, or correctness of the data. DWR neither accepts nor assumes liability arising from or for any incorrect, incomplete, or misleading subject data. This Image Service was published on 1/21/2021, by Joel Dudas of the DWR Division of Engineering, who may be contacted at 916-651-7002, or at joel.dudas@water.ca.gov. Comments, problems, improvements, updates, or suggestions should be forwarded to the official DWR point of contact as available and appropriate.",
 "name": "Aerial_Photography/OldRiver_20210114_1",
 "description": "Survey Date and Time: Data was collected on 1/14/2021 1115-1200 PST Imagery Acquisition: The imagery was collected using a DJI Mavic 2 Pro UAS, operating at 200\u2019 above ground level, along one single flight line following the center line of Old River from Doughty Cut to 1.5 miles downstream of Tracy Road. The field collection was controlled by a DJI Smart Controller running the DJI Pilot app. Software Processing: Images were imported into ArcGIS Pro 2.7 using the Ortho Mapping workspace tool, block adjusted, and an Orthomosaic was generated. No external control points were used for this project. Adjustment summary from ArcGIS Pro: Number of Adjusted Images 1259 Number of Tie Points 2643785 Number of Solution Points 1036051 Mean Reprojection Error / Sigma Naught (pixel) 0.37 / 0.57 Ground Resolution (m/pixel) 0.014 Adjustment Type Frame Ground Control Points Involved in Adjustment No DWR makes no warranties or guarantees \u2014either expressed or implied\u2014 as to the completeness, accuracy, or correctness of the data. DWR neither accepts nor assumes liability arising from or for any incorrect, incomplete, or misleading subject data. This Image Service was published on 1/21/2021, by Joel Dudas of the DWR Division of Engineering, who may be contacted at 916-651-7002, or at joel.dudas@water.ca.gov. Comments, problems, improvements, updates, or suggestions should be forwarded to the official DWR point of contact as available and appropriate.",
 "extent": {
  "xmin": 634784.208,
  "ymin": 4184070.804,
  "xmax": 639588.1439999995,
  "ymax": 4186115.388,
  "spatialReference": {
   "wkid": 32610,
   "latestWkid": 32610,
   "vcsWkid": 115700,
   "latestVcsWkid": 115700
  }
 },
 "initialExtent": {
  "xmin": 634784.208,
  "ymin": 4184070.804,
  "xmax": 639588.1439999995,
  "ymax": 4186115.388,
  "spatialReference": {
   "wkid": 32610,
   "latestWkid": 32610,
   "vcsWkid": 115700,
   "latestVcsWkid": 115700
  }
 },
 "fullExtent": {
  "xmin": 634784.208,
  "ymin": 4184070.804,
  "xmax": 639588.1439999995,
  "ymax": 4186115.388,
  "spatialReference": {
   "wkid": 32610,
   "latestWkid": 32610,
   "vcsWkid": 115700,
   "latestVcsWkid": 115700
  }
 },
 "sortableFields": "",
 "heightModelInfo": {
  "heightModel": "ellipsoidal",
  "vertCRS": "WGS_1984",
  "heightUnit": "meter"
 },
 "bandCount": 3,
 "pixelType": "U8",
 "minValues": [
  0,
  0,
  0
 ],
 "maxValues": [
  255,
  255,
  255
 ],
 "meanValues": [
  91.48152456910424,
  90.53496197250097,
  75.42691172404041
 ],
 "stdvValues": [
  42.50581628674338,
  36.99235353926679,
  32.34021493112726
 ],
 "hasMultidimensions": false,
 "pixelSizeX": 0.011999999999998805,
 "pixelSizeY": 0.011999999999998819,
 "meanPixelSize": 0.011999999999998812,
 "datasetFormat": "Cache/RAW",
 "uncompressedSize": 204626055888,
 "blockWidth": 256,
 "blockHeight": 256,
 "compressionType": "RAW",
 "bandNames": [
  "Band_1",
  "Band_2",
  "Band_3"
 ],
 "allowCopy": true,
 "allowAnalysis": true,
 "itemAccess": false,
 "inspectionCapabilities": "",
 "noDataValue": 0,
 "noDataValues": [
  0,
  0,
  0
 ],
 "minPixelSize": 0,
 "maxPixelSize": 0,
 "copyrightText": "Michael Baldwin, P.E., California Department of Water Resources, NCRO",
 "serviceDataType": "esriImageServiceDataTypeRGB",
 "serviceSourceType": "esriImageServiceSourceTypeDataset",
 "objectIdField": "",
 "fields": [],
 "capabilities": "Image,Metadata,Mensuration",
 "defaultMosaicMethod": "Center",
 "allowedMosaicMethods": "",
 "sortField": "",
 "sortValue": null,
 "sortAscending": true,
 "mosaicOperator": "First",
 "defaultCompressionQuality": 75,
 "defaultResamplingMethod": "Bilinear",
 "maxImageHeight": 4100,
 "maxImageWidth": 15000,
 "allowRasterFunction": true,
 "rasterFunctionInfos": [
  {
   "name": "None",
   "description": "Make a Raster or Raster Dataset into a Function Raster Dataset.",
   "help": ""
  }
 ],
 "rasterTypeInfos": [
  {
   "name": "Raster Dataset",
   "description": "Supports all ArcGIS Raster Datasets",
   "help": ""
  }
 ],
 "mensurationCapabilities": "Basic",
 "hasHistograms": true,
 "hasColormap": false,
 "hasRasterAttributeTable": false,
 "minScale": 0,
 "maxScale": 0,
 "exportTilesAllowed": false,
 "supportsStatistics": false,
 "supportsAdvancedQueries": false,
 "editFieldsInfo": null,
 "ownershipBasedAccessControlForRasters": null,
 "allowComputeTiePoints": false,
 "useStandardizedQueries": true,
 "advancedQueryCapabilities": {
  "useStandardizedQueries": true,
  "supportsStatistics": false,
  "supportsOrderBy": false,
  "supportsDistinct": false,
  "supportsPagination": false
 },
 "spatialReference": {
  "wkid": 32610,
  "latestWkid": 32610,
  "vcsWkid": 115700,
  "latestVcsWkid": 115700
 }
}
