{
 "currentVersion": 11.3,
 "serviceDescription": "Purpose:\n\tPrimary purpose is to document connectivity of the back-water channels in the channel.\nSurvey Date and Time:\n\tData was collected on 6/6/2023 0700 PDT-6/7/2023 1500 PDT\nImagery Acquisition:\n\tThe imagery was collected using a DJI Phantom 4 RTK UAS, operating at 100 m above ground level, covering the entire floodplain area from San Joaquin River to Old River, using a crossing survey flight track. The field collection was controlled by the RTK controller using the DJI GS RTK App.\nSoftware Processing:\n\tImages were imported into ArcGIS Pro 3.1.0 using the Ortho Mapping workspace tool, block adjusted, and an Orthomosaic was generated. No external control points were used for this project.\nAdjustment summary from ArcGIS Pro:\nNumber of Adjusted Images\t3755\nNumber of Tie Points\t12387897\nNumber of Solution Points\t4554825\nMean Reprojection Error / Sigma Naught (pixel)\t0.27 / 0.41\nGround Resolution (m/pixel)\t0.029\nAdjustment Type\tFrame\nGround Control Points Involved in Adjustment\tNo\n\nThis is an official DWR Image Service, which meets all appropriate requirements of the DWR Spatial Data Standards, specifically the DWR Spatial Data Standards version 3.5, dated April 2023.\n\n DWR makes no warranties or guarantees \u2014 either expressed or implied \u2014 as to the completeness, accuracy, or correctness of the data. DWR neither accepts nor assumes liability arising from or for any incorrect, incomplete, or misleading subject data.\n\nThis Image Service was published on 7/3/2023, by the DWR Division of Engineering. Comments, problems, improvements, updates, or suggestions should be forwarded to the official DWR point of contact as available and appropriate at gis@water.ca.gov\n\n",
 "name": "Aerial_Photography/ParadiseCut_20230606",
 "description": "Purpose:\n\tPrimary purpose is to document connectivity of the back-water channels in the channel.\nSurvey Date and Time:\n\tData was collected on 6/6/2023 0700 PDT-6/7/2023 1500 PDT\nImagery Acquisition:\n\tThe imagery was collected using a DJI Phantom 4 RTK UAS, operating at 100 m above ground level, covering the entire floodplain area from San Joaquin River to Old River, using a crossing survey flight track. The field collection was controlled by the RTK controller using the DJI GS RTK App.\nSoftware Processing:\n\tImages were imported into ArcGIS Pro 3.1.0 using the Ortho Mapping workspace tool, block adjusted, and an Orthomosaic was generated. No external control points were used for this project.\nAdjustment summary from ArcGIS Pro:\nNumber of Adjusted Images\t3755\nNumber of Tie Points\t12387897\nNumber of Solution Points\t4554825\nMean Reprojection Error / Sigma Naught (pixel)\t0.27 / 0.41\nGround Resolution (m/pixel)\t0.029\nAdjustment Type\tFrame\nGround Control Points Involved in Adjustment\tNo\n\nThis is an official DWR Image Service, which meets all appropriate requirements of the DWR Spatial Data Standards, specifically the DWR Spatial Data Standards version 3.5, dated April 2023.\n\n DWR makes no warranties or guarantees \u2014 either expressed or implied \u2014 as to the completeness, accuracy, or correctness of the data. DWR neither accepts nor assumes liability arising from or for any incorrect, incomplete, or misleading subject data.\n\nThis Image Service was published on 7/3/2023, by the DWR Division of Engineering. Comments, problems, improvements, updates, or suggestions should be forwarded to the official DWR point of contact as available and appropriate at gis@water.ca.gov\n\n",
 "extent": {
  "xmin": 639030.465,
  "ymin": 4180273.272,
  "xmax": 649129.5179999999,
  "ymax": 4186346.652,
  "spatialReference": {
   "wkid": 32610,
   "latestWkid": 32610,
   "vcsWkid": 115700,
   "latestVcsWkid": 115700
  }
 },
 "initialExtent": {
  "xmin": 639030.465,
  "ymin": 4180273.272,
  "xmax": 649129.5179999999,
  "ymax": 4186346.652,
  "spatialReference": {
   "wkid": 32610,
   "latestWkid": 32610,
   "vcsWkid": 115700,
   "latestVcsWkid": 115700
  }
 },
 "fullExtent": {
  "xmin": 639030.465,
  "ymin": 4180273.272,
  "xmax": 649129.5179999999,
  "ymax": 4186346.652,
  "spatialReference": {
   "wkid": 32610,
   "latestWkid": 32610,
   "vcsWkid": 115700,
   "latestVcsWkid": 115700
  }
 },
 "sortableFields": "",
 "heightModelInfo": {
  "heightModel": "ellipsoidal",
  "vertCRS": "WGS_1984",
  "heightUnit": "meter"
 },
 "bandCount": 3,
 "pixelType": "U8",
 "minValues": [
  1,
  1,
  1
 ],
 "maxValues": [
  255,
  255,
  255
 ],
 "meanValues": [
  109.36206417789626,
  120.04699326782311,
  86.55684177941961
 ],
 "stdvValues": [
  37.16325528226282,
  34.4300171134843,
  33.874125855459006
 ],
 "hasMultidimensions": false,
 "pixelSizeX": 0.02699999999999988,
 "pixelSizeY": 0.026999999999999504,
 "meanPixelSize": 0.02699999999999969,
 "datasetFormat": "Cache/RAW",
 "uncompressedSize": 252408997980,
 "blockWidth": 256,
 "blockHeight": 256,
 "compressionType": "RAW",
 "bandNames": [
  "Band_1",
  "Band_2",
  "Band_3"
 ],
 "allowCopy": true,
 "allowAnalysis": true,
 "itemAccess": false,
 "inspectionCapabilities": "",
 "minPixelSize": 0,
 "maxPixelSize": 0,
 "copyrightText": "Michael Baldwin, P.E., California Department of Water Resources, NCRO",
 "serviceDataType": "esriImageServiceDataTypeRGB",
 "serviceSourceType": "esriImageServiceSourceTypeDataset",
 "objectIdField": "",
 "fields": [],
 "capabilities": "Image,Metadata,Mensuration",
 "defaultMosaicMethod": "Center",
 "allowedMosaicMethods": "",
 "sortField": "",
 "sortValue": null,
 "sortAscending": true,
 "mosaicOperator": "First",
 "defaultCompressionQuality": 75,
 "defaultResamplingMethod": "Bilinear",
 "maxImageHeight": 4100,
 "maxImageWidth": 15000,
 "allowRasterFunction": true,
 "rasterFunctionInfos": [
  {
   "name": "None",
   "description": "Make a Raster or Raster Dataset into a Function Raster Dataset.",
   "help": ""
  }
 ],
 "rasterTypeInfos": [
  {
   "name": "Raster Dataset",
   "description": "Supports all ArcGIS Raster Datasets",
   "help": ""
  }
 ],
 "mensurationCapabilities": "Basic",
 "hasHistograms": true,
 "hasColormap": false,
 "hasRasterAttributeTable": false,
 "minScale": 0,
 "maxScale": 0,
 "exportTilesAllowed": false,
 "supportsStatistics": false,
 "supportsAdvancedQueries": false,
 "editFieldsInfo": null,
 "ownershipBasedAccessControlForRasters": null,
 "allowComputeTiePoints": false,
 "useStandardizedQueries": true,
 "advancedQueryCapabilities": {
  "useStandardizedQueries": true,
  "supportsStatistics": false,
  "supportsOrderBy": false,
  "supportsDistinct": false,
  "supportsPagination": false
 },
 "spatialReference": {
  "wkid": 32610,
  "latestWkid": 32610,
  "vcsWkid": 115700,
  "latestVcsWkid": 115700
 }
}
