{
 "currentVersion": 11.3,
 "serviceDescription": "Purpose:\n\tThe Primary purpose of this UAV mission is to delineate the remaining wetted channel following the high water (flood) events of Spring 2023. The Phantom 4-RTK was used for this specific mission plus additional ground control in order to create a high-quality DEM to reflect the post-flood existing ground surface within the Paradise Cut flood plain (Levee to Levee) and develop subsequent products (contours, orthophotos, etc.).\nSurvey Date and Time:\n\tData was collected on 8/9/2023 1015-1230 PST \nImagery Acquisition:\n\tThe imagery was collected using a Phantom 4 PRO RTK, operating at 250\u2019 above ground level, multiple flight lines criss-crossing the center line of Paradise Cut from the weir on the San Joaquin River to the confluence with Old River. The field collection was controlled by a DJI Smart Controller running the DJI Pilot app.\nSoftware Processing:\n\tImages were imported into AgiSoft using GCP\u2019s the precise RTK-GPS values, block adjusted, and an Orthomosaic was generated. \nAdjustment summary from AgiSoft\nNumber of Adjusted Images\t1473 \nNumber of Tie Points\t9467196 \nNumber of Solution Points\t3053413\nMean Reprojection Error / Sigma (cm/pixel)\t3.8cm \nGround Resolution GSD (cm/pixel)\t7.6cm\nAdjustment Type\tGCP\u2019s - Tragets\nGround Control Points Involved in Adjustment\t16 GCP\u2019s\n\n\nThis is an official DWR Image Service, which meets all appropriate requirements of the DWR Spatial Data Standards, specifically the DWR Spatial Data Standards version 3.5, dated September2023.\n\n DWR makes no warranties or guarantees \u2014 either expressed or implied \u2014 as to the completeness, accuracy, or correctness of the data. DWR neither accepts nor assumes liability arising from or for any incorrect, incomplete, or misleading subject data.\n\nThis Image Service was published on 1/8/2024, by the DWR Division of Engineering. Comments, problems, improvements, updates, or suggestions should be forwarded to the official DWR point of contact as available and appropriate at gis@water.ca.gov",
 "name": "Aerial_Photography/ParadiseCut_20230809",
 "description": "Purpose:\n\tThe Primary purpose of this UAV mission is to delineate the remaining wetted channel following the high water (flood) events of Spring 2023. The Phantom 4-RTK was used for this specific mission plus additional ground control in order to create a high-quality DEM to reflect the post-flood existing ground surface within the Paradise Cut flood plain (Levee to Levee) and develop subsequent products (contours, orthophotos, etc.).\nSurvey Date and Time:\n\tData was collected on 8/9/2023 1015-1230 PST \nImagery Acquisition:\n\tThe imagery was collected using a Phantom 4 PRO RTK, operating at 250\u2019 above ground level, multiple flight lines criss-crossing the center line of Paradise Cut from the weir on the San Joaquin River to the confluence with Old River. The field collection was controlled by a DJI Smart Controller running the DJI Pilot app.\nSoftware Processing:\n\tImages were imported into AgiSoft using GCP\u2019s the precise RTK-GPS values, block adjusted, and an Orthomosaic was generated. \nAdjustment summary from AgiSoft\nNumber of Adjusted Images\t1473 \nNumber of Tie Points\t9467196 \nNumber of Solution Points\t3053413\nMean Reprojection Error / Sigma (cm/pixel)\t3.8cm \nGround Resolution GSD (cm/pixel)\t7.6cm\nAdjustment Type\tGCP\u2019s - Tragets\nGround Control Points Involved in Adjustment\t16 GCP\u2019s\n\n\nThis is an official DWR Image Service, which meets all appropriate requirements of the DWR Spatial Data Standards, specifically the DWR Spatial Data Standards version 3.5, dated September2023.\n\n DWR makes no warranties or guarantees \u2014 either expressed or implied \u2014 as to the completeness, accuracy, or correctness of the data. DWR neither accepts nor assumes liability arising from or for any incorrect, incomplete, or misleading subject data.\n\nThis Image Service was published on 1/8/2024, by the DWR Division of Engineering. Comments, problems, improvements, updates, or suggestions should be forwarded to the official DWR point of contact as available and appropriate at gis@water.ca.gov",
 "extent": {
  "xmin": -121.38037254720317,
  "ymin": 37.75791698282221,
  "xmax": -121.30717535586317,
  "ymax": 37.80553617626221,
  "spatialReference": {
   "wkid": 4326,
   "latestWkid": 4326
  }
 },
 "initialExtent": {
  "xmin": -121.38037254720317,
  "ymin": 37.75791698282221,
  "xmax": -121.30717535586317,
  "ymax": 37.80553617626221,
  "spatialReference": {
   "wkid": 4326,
   "latestWkid": 4326
  }
 },
 "fullExtent": {
  "xmin": -121.38037254720317,
  "ymin": 37.75791698282221,
  "xmax": -121.30717535586317,
  "ymax": 37.80553617626221,
  "spatialReference": {
   "wkid": 4326,
   "latestWkid": 4326
  }
 },
 "sortableFields": "",
 "bandCount": 4,
 "pixelType": "U8",
 "minValues": [
  0,
  0,
  0,
  0
 ],
 "maxValues": [
  255,
  255,
  255,
  255
 ],
 "meanValues": [
  236.9926112913147,
  236.80769428350587,
  232.86265771695184,
  34.5463275674507
 ],
 "stdvValues": [
  49.49001636935487,
  49.324077050985345,
  58.31374744378816,
  87.26892221661133
 ],
 "hasMultidimensions": false,
 "pixelSizeX": 2.648100000000009E-7,
 "pixelSizeY": 2.648099999999956E-7,
 "meanPixelSize": 0.02947851435696658,
 "datasetFormat": "AMD",
 "uncompressedSize": 198823484544,
 "blockWidth": 2048,
 "blockHeight": 256,
 "compressionType": "None",
 "bandNames": [
  "Band_1",
  "Band_2",
  "Band_3",
  "Band_4"
 ],
 "allowCopy": true,
 "allowAnalysis": true,
 "itemAccess": false,
 "inspectionCapabilities": "",
 "minPixelSize": 0,
 "maxPixelSize": 0,
 "copyrightText": "Michael Baldwin, P.E., California Department of Water Resources, NCRO",
 "serviceDataType": "esriImageServiceDataTypeGeneric",
 "serviceSourceType": "esriImageServiceSourceTypeMosaicDataset",
 "objectIdField": "OBJECTID",
 "fields": [
  {
   "name": "OBJECTID",
   "type": "esriFieldTypeOID",
   "alias": "OBJECTID",
   "domain": null
  },
  {
   "name": "Shape",
   "type": "esriFieldTypeGeometry",
   "alias": "Shape",
   "domain": null
  },
  {
   "name": "Name",
   "type": "esriFieldTypeString",
   "alias": "Name",
   "domain": null,
   "length": 200
  },
  {
   "name": "MinPS",
   "type": "esriFieldTypeDouble",
   "alias": "MinPS",
   "domain": null
  },
  {
   "name": "MaxPS",
   "type": "esriFieldTypeDouble",
   "alias": "MaxPS",
   "domain": null
  },
  {
   "name": "LowPS",
   "type": "esriFieldTypeDouble",
   "alias": "LowPS",
   "domain": null
  },
  {
   "name": "HighPS",
   "type": "esriFieldTypeDouble",
   "alias": "HighPS",
   "domain": null
  },
  {
   "name": "Category",
   "type": "esriFieldTypeInteger",
   "alias": "Category",
   "domain": {
    "type": "codedValue",
    "name": "MosaicCatalogItemCategoryDomain",
    "description": "Catalog item categories.",
    "codedValues": [
     {
      "name": "Unknown",
      "code": 0
     },
     {
      "name": "Primary",
      "code": 1
     },
     {
      "name": "Overview",
      "code": 2
     },
     {
      "name": "Unprocessed Overview",
      "code": 3
     },
     {
      "name": "Partial Overview",
      "code": 4
     },
     {
      "name": "Inactive",
      "code": 5
     },
     {
      "name": "Uploaded",
      "code": 253
     },
     {
      "name": "Incomplete",
      "code": 254
     },
     {
      "name": "Custom",
      "code": 255
     }
    ],
    "mergePolicy": "esriMPTDefaultValue",
    "splitPolicy": "esriSPTDefaultValue"
   }
  },
  {
   "name": "Tag",
   "type": "esriFieldTypeString",
   "alias": "Tag",
   "domain": null,
   "length": 100
  },
  {
   "name": "GroupName",
   "type": "esriFieldTypeString",
   "alias": "GroupName",
   "domain": null,
   "length": 100
  },
  {
   "name": "ProductName",
   "type": "esriFieldTypeString",
   "alias": "ProductName",
   "domain": null,
   "length": 100
  },
  {
   "name": "CenterX",
   "type": "esriFieldTypeDouble",
   "alias": "CenterX",
   "domain": null
  },
  {
   "name": "CenterY",
   "type": "esriFieldTypeDouble",
   "alias": "CenterY",
   "domain": null
  },
  {
   "name": "ZOrder",
   "type": "esriFieldTypeInteger",
   "alias": "ZOrder",
   "domain": null
  },
  {
   "name": "Shape_Length",
   "type": "esriFieldTypeDouble",
   "alias": "Shape_Length",
   "domain": null
  },
  {
   "name": "Shape_Area",
   "type": "esriFieldTypeDouble",
   "alias": "Shape_Area",
   "domain": null
  }
 ],
 "capabilities": "Image,Metadata,Mensuration",
 "defaultMosaicMethod": "Northwest",
 "allowedMosaicMethods": "NorthWest,Center,LockRaster,ByAttribute,Nadir,Viewpoint,Seamline,None",
 "sortField": "",
 "sortValue": null,
 "sortAscending": true,
 "mosaicOperator": "First",
 "maxDownloadSizeLimit": 2048,
 "defaultCompressionQuality": 75,
 "defaultResamplingMethod": "Bilinear",
 "maxImageHeight": 4100,
 "maxImageWidth": 15000,
 "maxRecordCount": 1000,
 "maxDownloadImageCount": 20,
 "maxMosaicImageCount": 20,
 "allowRasterFunction": true,
 "rasterFunctionInfos": [
  {
   "name": "None",
   "description": "",
   "help": ""
  }
 ],
 "rasterTypeInfos": [
  {
   "name": "Raster Dataset",
   "description": "Supports all ArcGIS Raster Datasets",
   "help": ""
  }
 ],
 "mensurationCapabilities": "Basic",
 "hasHistograms": true,
 "hasColormap": false,
 "hasRasterAttributeTable": false,
 "minScale": 0,
 "maxScale": 0,
 "exportTilesAllowed": false,
 "supportsStatistics": true,
 "supportsAdvancedQueries": true,
 "editFieldsInfo": null,
 "ownershipBasedAccessControlForRasters": null,
 "allowComputeTiePoints": false,
 "useStandardizedQueries": true,
 "advancedQueryCapabilities": {
  "useStandardizedQueries": true,
  "supportsStatistics": true,
  "supportsOrderBy": true,
  "supportsDistinct": true,
  "supportsPagination": true
 },
 "spatialReference": {
  "wkid": 4326,
  "latestWkid": 4326
 }
}
