<?xml version="1.0" encoding="UTF-8" standalone="no"?>
<metadata xml:lang="en">
<Esri>
<CreaDate>20201216</CreaDate>
<CreaTime>15150900</CreaTime>
<ArcGISFormat>1.0</ArcGISFormat>
<SyncOnce>FALSE</SyncOnce>
<DataProperties>
<itemProps>
<itemName Sync="TRUE">Sac_Valley_Aug2017_Sentinel2_10meter_NIR.tif</itemName>
<imsContentType Sync="TRUE" export="False">002</imsContentType>
<nativeExtBox>
<westBL Sync="TRUE">541190.000000</westBL>
<eastBL Sync="TRUE">667980.000000</eastBL>
<southBL Sync="TRUE">4239080.000000</southBL>
<northBL Sync="TRUE">4409140.000000</northBL>
<exTypeCode Sync="TRUE">1</exTypeCode>
</nativeExtBox>
</itemProps>
<coordRef>
<type Sync="TRUE">Projected</type>
<geogcsn Sync="TRUE">GCS_WGS_1984</geogcsn>
<csUnits Sync="TRUE">Linear Unit: Meter (1.000000)</csUnits>
<projcsn Sync="TRUE">WGS_1984_UTM_Zone_10N</projcsn>
<peXml Sync="TRUE">&lt;ProjectedCoordinateSystem xsi:type='typens:ProjectedCoordinateSystem' xmlns:xsi='http://www.w3.org/2001/XMLSchema-instance' xmlns:xs='http://www.w3.org/2001/XMLSchema' xmlns:typens='http://www.esri.com/schemas/ArcGIS/10.8'&gt;&lt;WKT&gt;PROJCS[&amp;quot;WGS_1984_UTM_Zone_10N&amp;quot;,GEOGCS[&amp;quot;GCS_WGS_1984&amp;quot;,DATUM[&amp;quot;D_WGS_1984&amp;quot;,SPHEROID[&amp;quot;WGS_1984&amp;quot;,6378137.0,298.257223563]],PRIMEM[&amp;quot;Greenwich&amp;quot;,0.0],UNIT[&amp;quot;Degree&amp;quot;,0.0174532925199433]],PROJECTION[&amp;quot;Transverse_Mercator&amp;quot;],PARAMETER[&amp;quot;False_Easting&amp;quot;,500000.0],PARAMETER[&amp;quot;False_Northing&amp;quot;,0.0],PARAMETER[&amp;quot;Central_Meridian&amp;quot;,-123.0],PARAMETER[&amp;quot;Scale_Factor&amp;quot;,0.9996],PARAMETER[&amp;quot;Latitude_Of_Origin&amp;quot;,0.0],UNIT[&amp;quot;Meter&amp;quot;,1.0],AUTHORITY[&amp;quot;EPSG&amp;quot;,32610]]&lt;/WKT&gt;&lt;XOrigin&gt;-5120900&lt;/XOrigin&gt;&lt;YOrigin&gt;-9998100&lt;/YOrigin&gt;&lt;XYScale&gt;450445547.3910538&lt;/XYScale&gt;&lt;ZOrigin&gt;-100000&lt;/ZOrigin&gt;&lt;ZScale&gt;10000&lt;/ZScale&gt;&lt;MOrigin&gt;-100000&lt;/MOrigin&gt;&lt;MScale&gt;10000&lt;/MScale&gt;&lt;XYTolerance&gt;0.001&lt;/XYTolerance&gt;&lt;ZTolerance&gt;0.001&lt;/ZTolerance&gt;&lt;MTolerance&gt;0.001&lt;/MTolerance&gt;&lt;HighPrecision&gt;true&lt;/HighPrecision&gt;&lt;WKID&gt;32610&lt;/WKID&gt;&lt;LatestWKID&gt;32610&lt;/LatestWKID&gt;&lt;/ProjectedCoordinateSystem&gt;</peXml>
</coordRef>
<RasterProperties>
<General>
<PixelDepth Sync="TRUE">16</PixelDepth>
<HasColormap Sync="TRUE">FALSE</HasColormap>
<CompressionType Sync="TRUE">LZW</CompressionType>
<NumBands Sync="TRUE">4</NumBands>
<Format Sync="TRUE">TIFF</Format>
<HasPyramids Sync="TRUE">TRUE</HasPyramids>
<SourceType Sync="TRUE">continuous</SourceType>
<PixelType Sync="TRUE">unsigned integer</PixelType>
<NoDataValue Sync="TRUE">65535</NoDataValue>
</General>
</RasterProperties>
</DataProperties>
<SyncDate>20210415</SyncDate>
<SyncTime>07562200</SyncTime>
<ModDate>20210415</ModDate>
<ModTime>07562200</ModTime>
<scaleRange>
<minScale>150000000</minScale>
<maxScale>5000</maxScale>
</scaleRange>
<ArcGISProfile>FGDC</ArcGISProfile>
</Esri>
<dataIdInfo>
<envirDesc Sync="TRUE"> Version 6.2 (Build 9200) ; Esri ArcGIS 10.8.1.14362</envirDesc>
<dataLang>
<languageCode Sync="TRUE" value="eng">
</languageCode>
<countryCode Sync="TRUE" value="USA">
</countryCode>
</dataLang>
<idCitation>
<resTitle Sync="TRUE">Sac_Valley_Aug2017_Sentinel2_10meter_NIR.tif</resTitle>
<presForm>
<PresFormCd Sync="TRUE" value="005">
</PresFormCd>
</presForm>
<date>
<createDate>2020-12-14T00:00:00</createDate>
<pubDate>2020-12-14T00:00:00</pubDate>
</date>
<citRespParty>
<rpIndName>DWR SWPAO Chief</rpIndName>
<rpOrgName>State Water Projects Analysis Office Water Transfer Program</rpOrgName>
<rpPosName>DWR SWPAO Chief</rpPosName>
<role>
<RoleCd value="006">
</RoleCd>
</role>
<rpCntInfo>
<cntAddress addressType="physical">
<delPoint>1416 9th Street</delPoint>
<city>Sacramento</city>
<adminArea>California</adminArea>
<postCode>95814</postCode>
<eMailAdd>SWPAO-Chief@water.ca.gov</eMailAdd>
</cntAddress>
<cntPhone>
<voiceNum tddtty="">(916) 653-5791</voiceNum>
</cntPhone>
<cntHours>Monday - Friday, 8:30 a.m. to 4:30 p.m.</cntHours>
</rpCntInfo>
</citRespParty>
<resAltTitle>Lower Sacramento Valley August 2017 Sentinel Mosaic</resAltTitle>
</idCitation>
<spatRpType>
<SpatRepTypCd Sync="TRUE" value="002">
</SpatRepTypCd>
</spatRpType>
<dataExt>
<geoEle>
<GeoBndBox esriExtentType="search">
<exTypeCode Sync="TRUE">1</exTypeCode>
<westBL Sync="TRUE">-122.528934</westBL>
<eastBL Sync="TRUE">-121.037430</eastBL>
<northBL Sync="TRUE">39.831262</northBL>
<southBL Sync="TRUE">38.284082</southBL>
</GeoBndBox>
</geoEle>
<exDesc>This Sentinel-2 Multispectral Image is a mosaiced stacked images from August 18, 2017 of the Red (665nm) Green (560nm), Blue (490nm) and Near-Infrared (842nm) 10 meter resolution bands clipped to encompass a portion the Sacramento Valley to be used as base or reference imagery for the California Department of Water Resources (DWR) Water Transfer Program and Water Transfer Information Management System (WTIMS) tool.</exDesc>
<tempEle>
<TempExtent>
<exTemp>
<TM_Period>
<tmBegin>2017-08-18T00:00:00</tmBegin>
<tmEnd>2017-08-18T00:00:00</tmEnd>
</TM_Period>
</exTemp>
</TempExtent>
</tempEle>
</dataExt>
<idPurp>This Sentinel-2 Multispectral Image is a mosaiced stacked images from August 18, 2017 of the Red (665nm) Green (560nm), Blue (490nm) and Near-Infrared (842nm)...</idPurp>
<idAbs>&lt;DIV STYLE="text-align:Left;"&gt;&lt;DIV&gt;&lt;DIV&gt;&lt;P&gt;&lt;SPAN&gt;The 2017 Sentinel Mosaiced image consists of multispectral stacked potions of the following Sentinel-2 tiles: L1C_T10SEH_A011264_20170818T190326, L1C_T10SEJ_A011264_20170818T190326, L1C_T10SFH_A011264_20170818T190326, L1C_T10SFJ_A011264_20170818T190326, L1C_T10TEK_A011264_20170818T190326. Each stacked tile contains the Sentinel-2 band 4: Red (665nm), band 3: Green (560nm), band 2: Blue (490nm) and band 8: Near-Infrared (842nm) 10 meter resolution bands. When stacked the bands were reordered in ArcGIS Pro, Red was assigned to Band 1, Green was assigned to band 2, Blue was assigned to band 3, and Near-Infrared was assigned to band 4 in the multispectral image. Once the multi-spectral image was stacked and mosaiced together, the Mosaiced image was clipped to the outer dissolved boundary of the following Detailed Analysis Unit (DAU) by County: 16604, 16704, 16804, 17004, 14211, 16311, 16411, 16611, 16711, portion of 16058, 17158, 17258, 16306, 16406, 16706, 16451, 16551, 16651, 16851, 17151, 17251, 16257, 16357, 16457, 18657, 19157, 17231, 17234. These DAUs by County areas make up a large portion of the Sacramento Valley.&lt;/SPAN&gt;&lt;/P&gt;&lt;P&gt;&lt;SPAN&gt;The Sentinel-2 Imagery is a product of the European Commission’s Copernicus program and in agreement is processed into Image Tiles by the United States Geological Survey (USGS) for scientific usage. The Sentinel-2 Imagery Tiles are downloaded from the Earth Explorer, USGS Global Visualization Viewer (GloVis), or the Sentinel2Look Viewer . For more information on the Sentinel Imagery Tiles go to https://www.usgs.gov/centers/eros/science/usgs-eros-archive-sentinel-2?qt-science_center_objects=0#qt-science_center_objects. &lt;/SPAN&gt;&lt;/P&gt;&lt;/DIV&gt;&lt;/DIV&gt;&lt;/DIV&gt;</idAbs>
<searchKeys>
<keyword>Sentinel 2</keyword>
<keyword>August</keyword>
<keyword>2017</keyword>
<keyword>Sacramento Valley</keyword>
<keyword>Multispectral</keyword>
<keyword>Infrared</keyword>
<keyword>Near Infrared</keyword>
<keyword>NIR</keyword>
<keyword>RGB</keyword>
<keyword>10 Meter</keyword>
<keyword>State Water Project Analysis Office</keyword>
<keyword>SWPAO</keyword>
<keyword>Water Transfer Program</keyword>
<keyword>Water Transfer Information Management System</keyword>
<keyword>WTIMS</keyword>
</searchKeys>
<idCredit>European Space Agency (ESA), United States Geological Survey (USGS) California Department of Water Resources (DWR) State Water Project Analysis Office (SWPAO), Jason Harbaugh, Environmental Scientist at DWR North Central Region Office (NCRO).</idCredit>
<dataChar>
<CharSetCd value="004">
</CharSetCd>
</dataChar>
<idStatus>
<ProgCd value="001">
</ProgCd>
</idStatus>
<resMaint>
<maintFreq>
<MaintFreqCd value="011">
</MaintFreqCd>
</maintFreq>
</resMaint>
<resConst>
<Consts>
<useLimit>&lt;DIV STYLE="text-align:Left;"&gt;&lt;DIV&gt;&lt;DIV&gt;&lt;P&gt;&lt;SPAN&gt;A collaborative effort between European Space Agency (ESA) and the USGS provides for the public access and redistribution of global acquisitions of ESA’s Sentinel-2 data at no cost through secondary U.S.-based portals, in addition to direct user access from ESA. The multispectral imagery was stacked, mosaiced and clipped by the California Department of Water Resources.&lt;/SPAN&gt;&lt;/P&gt;&lt;/DIV&gt;&lt;/DIV&gt;&lt;/DIV&gt;</useLimit>
</Consts>
</resConst>
<themeKeys>
<keyword>Sentinel 2, August, 2019, Multispectral, Infrared, Near Infrared, NIR, RGB, 10 Meter</keyword>
</themeKeys>
<placeKeys>
<keyword>Sacramento Valley</keyword>
</placeKeys>
<tempKeys>
<keyword>2017, August</keyword>
</tempKeys>
<idPoC>
<rpIndName>DWR SWPAO Chief</rpIndName>
<rpOrgName>State Water Projects Analysis Office Water Transfer Program</rpOrgName>
<rpPosName>DWR SWPAO Chief</rpPosName>
<role>
<RoleCd value="006">
</RoleCd>
</role>
<rpCntInfo>
<cntAddress addressType="physical">
<delPoint>1416 9th Street</delPoint>
<city>Sacramento</city>
<adminArea>California</adminArea>
<postCode>95814</postCode>
<eMailAdd>SWPAO-Chief@water.ca.gov</eMailAdd>
</cntAddress>
<cntPhone>
<voiceNum tddtty="">(916) 653-5791</voiceNum>
</cntPhone>
<cntHours>Monday - Friday, 8:30 a.m. to 4:30 p.m.</cntHours>
</rpCntInfo>
<displayName>DWR SWPAO Chief</displayName>
</idPoC>
<idPoC>
<rpIndName>Jason Harbaugh</rpIndName>
<rpOrgName>California Department of Water Resources North Central Region Office Land and Water Use and Conservation Section</rpOrgName>
<rpPosName>Environmental Scientist</rpPosName>
<role>
<RoleCd value="009">
</RoleCd>
</role>
<rpCntInfo>
<cntAddress addressType="both">
<delPoint>3500 Industrial Boulevard</delPoint>
<city>West Sacramento</city>
<adminArea>California</adminArea>
<postCode>95691</postCode>
<eMailAdd>jason.harbaugh@water.ca.gov</eMailAdd>
<country>US</country>
</cntAddress>
<cntPhone>
<voiceNum tddtty="">(916)376-9629</voiceNum>
</cntPhone>
</rpCntInfo>
<displayName>Jason Harbaugh</displayName>
</idPoC>
<tpCat>
<TopicCatCd value="001">
</TopicCatCd>
</tpCat>
<tpCat>
<TopicCatCd value="004">
</TopicCatCd>
</tpCat>
<tpCat>
<TopicCatCd value="010">
</TopicCatCd>
</tpCat>
</dataIdInfo>
<mdLang>
<languageCode Sync="TRUE" value="eng">
</languageCode>
<countryCode Sync="TRUE" value="USA">
</countryCode>
</mdLang>
<mdChar>
<CharSetCd Sync="TRUE" value="004">
</CharSetCd>
</mdChar>
<distInfo>
<distFormat>
<formatName Sync="TRUE">Raster Dataset</formatName>
</distFormat>
</distInfo>
<mdHrLv>
<ScopeCd Sync="TRUE" value="005">
</ScopeCd>
</mdHrLv>
<mdHrLvName Sync="TRUE">dataset</mdHrLvName>
<refSysInfo>
<RefSystem>
<refSysID>
<identCode Sync="TRUE" code="32610">
</identCode>
<idCodeSpace Sync="TRUE">EPSG</idCodeSpace>
<idVersion Sync="TRUE">2.1(3.0.1)</idVersion>
</refSysID>
</RefSystem>
</refSysInfo>
<spatRepInfo>
<Georect>
<cellGeo>
<CellGeoCd Sync="TRUE" value="002">
</CellGeoCd>
</cellGeo>
<numDims Sync="TRUE">2</numDims>
<tranParaAv Sync="TRUE">1</tranParaAv>
<chkPtAv Sync="TRUE">0</chkPtAv>
<cornerPts>
<pos Sync="TRUE">541190.000000 4239080.000000</pos>
</cornerPts>
<cornerPts>
<pos Sync="TRUE">541190.000000 4409140.000000</pos>
</cornerPts>
<cornerPts>
<pos Sync="TRUE">667980.000000 4409140.000000</pos>
</cornerPts>
<cornerPts>
<pos Sync="TRUE">667980.000000 4239080.000000</pos>
</cornerPts>
<centerPt>
<pos Sync="TRUE">604585.000000 4324110.000000</pos>
</centerPt>
<axisDimension type="002">
<dimSize Sync="TRUE">12679</dimSize>
<dimResol>
<value Sync="TRUE" uom="m">10.000000</value>
</dimResol>
</axisDimension>
<axisDimension type="001">
<dimSize Sync="TRUE">17006</dimSize>
<dimResol>
<value Sync="TRUE" uom="m">10.000000</value>
</dimResol>
</axisDimension>
<ptInPixel>
<PixOrientCd Sync="TRUE" value="001">
</PixOrientCd>
</ptInPixel>
</Georect>
</spatRepInfo>
<contInfo>
<ImgDesc>
<contentTyp>
<ContentTypCd Sync="TRUE" value="001">
</ContentTypCd>
</contentTyp>
<covDim>
<Band>
<dimDescrp Sync="TRUE">Band_1</dimDescrp>
<maxVal Sync="TRUE">11209.000000</maxVal>
<minVal Sync="TRUE">344.000000</minVal>
<bitsPerVal Sync="TRUE">16</bitsPerVal>
<valUnit>
<UOM gmlID="" type="length">
<unitSymbol>[arb'U]</unitSymbol>
</UOM>
</valUnit>
<seqID>
<aName>Radiometric Resolution</aName>
<attributeType>
<aName>Nanometer</aName>
</attributeType>
</seqID>
</Band>
<Band>
<dimDescrp Sync="TRUE">Band_2</dimDescrp>
<maxVal Sync="TRUE">13301.000000</maxVal>
<minVal Sync="TRUE">560.000000</minVal>
<bitsPerVal Sync="TRUE">16</bitsPerVal>
<valUnit>
<UOM gmlID="" type="length">
<unitSymbol>[arb'U]</unitSymbol>
</UOM>
</valUnit>
<seqID>
<aName>Radiometric Resolution</aName>
<attributeType>
<aName>Nanometer</aName>
</attributeType>
</seqID>
</Band>
<Band>
<dimDescrp Sync="TRUE">Band_3</dimDescrp>
<maxVal Sync="TRUE">18455.000000</maxVal>
<minVal Sync="TRUE">614.000000</minVal>
<bitsPerVal Sync="TRUE">16</bitsPerVal>
<valUnit>
<UOM gmlID="" type="length">
<unitSymbol>[arb'U]</unitSymbol>
</UOM>
</valUnit>
<seqID>
<aName>Radiometric Resolution</aName>
<attributeType>
<aName>Nanometer</aName>
</attributeType>
</seqID>
</Band>
<Band>
<dimDescrp Sync="TRUE">Band_4</dimDescrp>
<maxVal Sync="TRUE">11235.000000</maxVal>
<minVal Sync="TRUE">253.000000</minVal>
<bitsPerVal Sync="TRUE">16</bitsPerVal>
<valUnit>
<UOM gmlID="" type="length">
<unitSymbol>[arb'U]</unitSymbol>
</UOM>
</valUnit>
<seqID>
<aName>Radiometric Resolution</aName>
<attributeType>
<aName>Nanometer</aName>
</attributeType>
</seqID>
</Band>
</covDim>
<attDesc>10 Meter Multispectral Sentinel Image Bands Red, Green, Blue and Near-Infrared (NIR)</attDesc>
<trianInd>False</trianInd>
<radCalDatAv>False</radCalDatAv>
<camCalInAv>False</camCalInAv>
<filmDistInAv>False</filmDistInAv>
<lensDistInAv>False</lensDistInAv>
</ImgDesc>
</contInfo>
<mdDateSt Sync="TRUE">20210415</mdDateSt>
<mdContact>
<rpIndName>DWR SWPAO Chief</rpIndName>
<rpOrgName>State Water Projects Analysis Office Water Transfer Program</rpOrgName>
<rpPosName>DWR SWPAO Chief</rpPosName>
<role>
<RoleCd value="006">
</RoleCd>
</role>
<rpCntInfo>
<cntAddress addressType="physical">
<delPoint>1416 9th Street</delPoint>
<city>Sacramento</city>
<adminArea>California</adminArea>
<postCode>95814</postCode>
<eMailAdd>SWPAO-Chief@water.ca.gov</eMailAdd>
</cntAddress>
<cntPhone>
<voiceNum tddtty="">(916) 653-5791</voiceNum>
</cntPhone>
<cntHours>Monday - Friday, 8:30 a.m. to 4:30 p.m.</cntHours>
</rpCntInfo>
<displayName>DWR SWPAO Chief</displayName>
</mdContact>
<dqInfo>
<dataLineage>
<statement>This dataset started as downloaded Sentinel-2 Imagery Tile bands that were stacked into a multi-spectral image and then mosaiced together into one image for August 2017. The mosaic multispectral image was then clipped to a Detailed Analysis Unit by County outer boundary selected and dissolved to represent a portion of the lower Sacramento Valley.</statement>
<dataSource type="">
<srcDesc>The Sentinel fleet of satellites is designed to deliver land remote sensing data that are central to the European Commission’s Copernicus program. The Sentinel-2 mission is the result of close collaboration between the European Space Agency (ESA), the European Commission, industry, service providers, and data users. The mission has been designed and built by a consortium of around 60 companies led by Airbus Defence and Space, and supported by the CNES French space agency to optimize image quality and by the DLR German Aerospace Centre to improve data recovery using optical communications.
The Sentinel-2 mission consists of two satellites developed to support vegetation, land cover, and environmental monitoring. The Sentinel-2A satellite was launched by ESA on June 23, 2015, and operates in a sun-synchronous orbit with a 10-day repeat cycle. A second identical satellite (Sentinel-2B) was launched March 7, 2017 and is operational with data acquisitions available on EarthExplorer. Together they cover all Earth’s land surfaces, large islands, and inland and coastal waters every five days.
The Sentinel-2 MultiSpectral Instrument (MSI) acquires 13 spectral bands ranging from Visible and Near-Infrared (VNIR) to Shortwave Infrared (SWIR) wavelengths along a 290-km orbital swath. The MSI sensor data are complementary to data acquired by the U.S. Geological Survey (USGS) Landsat 8 Operational Land Imager (OLI) and Landsat 7 Enhanced Thematic Mapper Plus (ETM+) (Comparison of Sentinel-2 and Landsat). A collaborative effort between ESA and the USGS provides for the public access and redistribution of global acquisitions of ESA’s Sentinel-2 data at no cost through secondary U.S.-based portals, in addition to direct user access from ESA.
Spectral Bands and Resolution
The MSI measures reflected radiance through the atmosphere within 13 spectral bands. The spatial resolution is dependent on the particular spectral band:
4 bands at 10 meter: blue (490 nm), green (560 nm), red (665 nm), and near-infrared (842 nm).
6 bands at 20 meter: 4 narrow bands for vegetation characterization (705 nm, 740 nm, 783 nm, and 865 nm) and 2 larger SWIR bands (1,610 nm and 2,190 nm) for applications such as snow/ice/cloud detection or vegetation moisture stress assessment.
3 bands at 60 meter: mainly for cloud screening and atmospheric corrections (443 nm for aerosols, 945 nm for water vapor, and 1375 nm for cirrus detection).</srcDesc>
<srcMedName>
<MedNameCd value="016">
</MedNameCd>
</srcMedName>
<srcCitatn>
<resTitle>USGS Sentinel-2 Collaborative Multispectral Imagery</resTitle>
<citOnlineRes>
<linkage>https://www.usgs.gov/centers/eros/science/usgs-eros-archive-sentinel-2?qt-science_center_objects=0#qt-science_center_objects</linkage>
<orName>USGS EROS Archive - Sentinel-2</orName>
<orDesc>The European Space Agency’s Multispectral Instrument on the Sentinel-2 satellite provides global (from 83 degrees north 56 degrees south latitude) 10-meter resolution, multispectral images every 10 days (2015-present).</orDesc>
<orFunct>
<OnFunctCd value="002">
</OnFunctCd>
</orFunct>
</citOnlineRes>
<resAltTitle>Sentinel-2</resAltTitle>
<date>
<createDate>2017-08-18T00:00:00</createDate>
<pubDate>2017-08-18T00:00:00</pubDate>
</date>
</srcCitatn>
</dataSource>
<prcStep>
<stepDesc>The 2017 Sentinel Mosaiced image consists of multispectral stacked potions of the following Sentinel-2 tiles: L1C_T10SEH_A011264_20170818T190326, L1C_T10SEJ_A011264_20170818T190326, L1C_T10SFH_A011264_20170818T190326, L1C_T10SFJ_A011264_20170818T190326, L1C_T10TEK_A011264_20170818T190326. Each stacked tile contains the Sentinel-2 band 4: Red (665nm), band 3: Green (560nm), band 2: Blue (490nm) and band 8: Near-Infrared (842nm) 10 meter resolution bands. When stacked the bands were reordered in ArcGIS Pro, Red was assigned to Band 1, Green was assigned to band 2, Blue was assigned to band 3, and Near-Infrared was assigned to band 4 in the multispectral image. Once the multi-spectral image was stacked and mosaiced together, the Mosaiced image was clipped to the outer dissolved boundary of the following Detailed Analysis Unit (DAU) by County: 16604, 16704, 16804, 17004, 14211, 16311, 16411, 16611, 16711, portion of 16058, 17158, 17258, 16306, 16406, 16706, 16451, 16551, 16651, 16851, 17151, 17251, 16257, 16357, 16457, 18657, 19157, 17231, 17234. </stepDesc>
<stepRat>This Sentinel-2 Multispectral Image is a mosaiced stacked images from August 18, 2017 of the Red (665nm) Green (560nm), Blue (490nm) and Near-Infrared (842nm) 10 meter resolution bands clipped to encompass a portion the Sacramento Valley to be used as base or reference imagery for the California Department of Water Resources (DWR) Water Transfer Program and Water Transfer Information Management System (WTIMS) tool.</stepRat>
<stepDateTm>2020-12-14T00:00:00</stepDateTm>
<stepProc>
<rpIndName>Jason Harbaugh</rpIndName>
<rpOrgName>California Department of Water Resources North Central Region Office Land and Water Use and Conservation Section</rpOrgName>
<rpPosName>Environmental Scientist</rpPosName>
<role>
<RoleCd value="009">
</RoleCd>
</role>
<rpCntInfo>
<cntAddress addressType="both">
<delPoint>3500 Industrial Boulevard</delPoint>
<city>West Sacramento</city>
<adminArea>California</adminArea>
<postCode>95691</postCode>
<eMailAdd>jason.harbaugh@water.ca.gov</eMailAdd>
<country>US</country>
</cntAddress>
<cntPhone>
<voiceNum tddtty="">(916)376-9629</voiceNum>
</cntPhone>
</rpCntInfo>
</stepProc>
</prcStep>
</dataLineage>
<report dimension="" type="DQConcConsis">
<measDesc>The MSI measures reflected radiance through the atmosphere within 13 spectral bands. The spatial resolution is dependent on the particular spectral band:
4 bands at 10 meter: blue (490 nm), green (560 nm), red (665 nm), and near-infrared (842 nm).
6 bands at 20 meter: 4 narrow bands for vegetation characterization (705 nm, 740 nm, 783 nm, and 865 nm) and 2 larger SWIR bands (1,610 nm and 2,190 nm) for applications such as snow/ice/cloud detection or vegetation moisture stress assessment.
3 bands at 60 meter: mainly for cloud screening and atmospheric corrections (443 nm for aerosols, 945 nm for water vapor, and 1375 nm for cirrus detection).
SENTINEL-2 Radiometric and Spatial Resolutions
Band Number Central Wavelength (nm) Bandwidth (nm) Spatial Resolution (m)
1 443 20 60
2 490 65 10
3 560 35 10
4 665 30 10
5 705 15 20
6 740 15 20
7 783 20 20
8 842 115 10
8a 865 20 20
9 945 20 60
10 1375 30 60
11 1610 90 20
12 2190 180 20
TCI* RGB Composite 10
*Data acquired after December 5, 2016 include a full resolution True-Colour Image as an RGB (red, green, blue) composite image created from bands 4, 3, 2.
The USGS Spectral Characteristics Viewer helps users determine which spectral bands work best to identify their features of interest for image interpretation. This tool also facilitates the visualization of the Relative Spectral Response (RSR) of various satellite sensors</measDesc>
</report>
<report dimension="" type="DQCompOm">
<measDesc>Processing Level
The partnership between ESA and the USGS allows for the distribution of Level-1C top-of-atmosphere (TOA) reflectance data. Level-1C processing includes radiometric and geometric corrections along with orthorectification to generate highly accurate geolocated products.
Data Products
