{
 "currentVersion": 11.3,
 "serviceDescription": "Purpose:\n\tPrimary purpose is to document connectivity of the back-water channels in the channel.\nSurvey Date and Time:\n\tData was collected on 3/30/2023 1230-1245 PDT\nImagery Acquisition:\n\tThe imagery was collected using a DJI Mavic 2 Pro UAS, operating at 300\u2019 above ground level, along one single flight line following the center line of Sugar Cut from the beginning of the channel to Old River. The field collection was controlled by a DJI Smart Controller running the DJI Pilot app.\nSoftware Processing:\n\tImages were imported into ArcGIS Pro 3.1.0 using the Ortho Mapping workspace tool, block adjusted, and an Orthomosaic was generated. No external control points were used for this project.\nAdjustment summary from ArcGIS Pro:\nNumber of Adjusted Images\t477\nNumber of Tie Points\t2618565\nNumber of Solution Points\t785578\nMean Reprojection Error / Sigma Naught (pixel)\t0.30 / 0.40\nGround Resolution (m/pixel)\t0.020\nAdjustment Type\tFrame\nGround Control Points Involved in Adjustment\tNo\n\nThis is an official DWR Image Service, which meets all appropriate requirements of the DWR Spatial Data Standards, specifically the DWR Spatial Data Standards version 3.5, dated March 2023.\n\n DWR makes no warranties or guarantees \u2014 either expressed or implied \u2014 as to the completeness, accuracy, or correctness of the data. DWR neither accepts nor assumes liability arising from or for any incorrect, incomplete, or misleading subject data.\n\nThis Image Service was published on 4/24/2023 by the Division of Engineering. Comments, problems, improvements, updates, or suggestions should be forwarded to the official DWR point of contact as available and appropriate at gis@water.ca.gov. \n\n",
 "name": "Aerial_Photography/SugarCut_20230330",
 "description": "",
 "extent": {
  "xmin": 638885.32,
  "ymin": 4181735.3400000003,
  "xmax": 639293.6599999999,
  "ymax": 4184975.48,
  "spatialReference": {
   "wkid": 32610,
   "latestWkid": 32610,
   "vcsWkid": 115700,
   "latestVcsWkid": 115700
  }
 },
 "initialExtent": {
  "xmin": 638885.32,
  "ymin": 4181735.3400000003,
  "xmax": 639293.6599999999,
  "ymax": 4184975.48,
  "spatialReference": {
   "wkid": 32610,
   "latestWkid": 32610,
   "vcsWkid": 115700,
   "latestVcsWkid": 115700
  }
 },
 "fullExtent": {
  "xmin": 638885.32,
  "ymin": 4181735.3400000003,
  "xmax": 639293.6599999999,
  "ymax": 4184975.48,
  "spatialReference": {
   "wkid": 32610,
   "latestWkid": 32610,
   "vcsWkid": 115700,
   "latestVcsWkid": 115700
  }
 },
 "sortableFields": "MinPS,MaxPS,LowPS,HighPS,CenterX,CenterY,ZOrder,Shape_Length,Shape_Area",
 "heightModelInfo": {
  "heightModel": "ellipsoidal",
  "vertCRS": "WGS_1984",
  "heightUnit": "meter"
 },
 "bandCount": 3,
 "pixelType": "U8",
 "minValues": [
  1,
  4,
  1
 ],
 "maxValues": [
  255,
  255,
  255
 ],
 "meanValues": [
  126.53480755916102,
  135.9568510522847,
  109.85004547857552
 ],
 "stdvValues": [
  27.58558029738701,
  22.465053056146754,
  26.22741669936068
 ],
 "hasMultidimensions": false,
 "pixelSizeX": 0.019999999999998404,
 "pixelSizeY": 0.01999999999999793,
 "meanPixelSize": 0.019999999999998165,
 "datasetFormat": "Cache/RAW",
 "uncompressedSize": 9923090757,
 "blockWidth": 256,
 "blockHeight": 256,
 "compressionType": "RAW",
 "bandNames": [
  "Band_1",
  "Band_2",
  "Band_3"
 ],
 "allowCopy": true,
 "allowAnalysis": true,
 "itemAccess": false,
 "inspectionCapabilities": "",
 "minPixelSize": 0,
 "maxPixelSize": 0,
 "copyrightText": "Michael Baldwin, P.E., California Department of Water Resources, NCRO",
 "serviceDataType": "esriImageServiceDataTypeRGB",
 "serviceSourceType": "esriImageServiceSourceTypeDataset",
 "objectIdField": "",
 "fields": [],
 "capabilities": "Image,Metadata,Mensuration",
 "defaultMosaicMethod": "Center",
 "allowedMosaicMethods": "",
 "sortField": "",
 "sortValue": null,
 "sortAscending": true,
 "mosaicOperator": "First",
 "defaultCompressionQuality": 75,
 "defaultResamplingMethod": "Bilinear",
 "maxImageHeight": 4100,
 "maxImageWidth": 15000,
 "allowRasterFunction": true,
 "rasterFunctionInfos": [
  {
   "name": "None",
   "description": "Make a Raster or Raster Dataset into a Function Raster Dataset.",
   "help": ""
  }
 ],
 "rasterTypeInfos": [
  {
   "name": "Raster Dataset",
   "description": "Supports all ArcGIS Raster Datasets",
   "help": ""
  }
 ],
 "mensurationCapabilities": "Basic",
 "hasHistograms": true,
 "hasColormap": false,
 "hasRasterAttributeTable": false,
 "minScale": 0,
 "maxScale": 0,
 "exportTilesAllowed": false,
 "supportsStatistics": false,
 "supportsAdvancedQueries": false,
 "editFieldsInfo": null,
 "ownershipBasedAccessControlForRasters": null,
 "allowComputeTiePoints": false,
 "useStandardizedQueries": true,
 "advancedQueryCapabilities": {
  "useStandardizedQueries": true,
  "supportsStatistics": false,
  "supportsOrderBy": false,
  "supportsDistinct": false,
  "supportsPagination": false
 },
 "spatialReference": {
  "wkid": 32610,
  "latestWkid": 32610,
  "vcsWkid": 115700,
  "latestVcsWkid": 115700
 }
}
