{
 "currentVersion": 11.3,
 "serviceDescription": "Complete product metadata is as follows: \nTask 1 \u2013 Survey Control Survey control was provided solely by airborne GPS technology. No field survey was performed under this assignment. \nTask 2 \u2013 Airborne Data Acquisition Four band (RGB-IR) imagery was acquired for the study area on June 13-14, 2018. The airborne mission was conducted as the following times: June 13, 2018 \u2013 8:03am to 11:15am June 14, 2018 \u2013 9:07am to 10:11am The mission plan was based on the following parameters: Camera: Vexcel UltraCAM Falcon Prime Nominal Resolution: 13.5 cm Altitude: 8000 ft AMT Flightlines: 41 Exposures: 1034 Task 3 \u2013 Terrain Modeling Terrain models required for orthophoto production were developed from the imagery using a combination of online data sources (USGS 3D Elevation Program) and manual photogrammetric compilation methods. \nTask 4 \u2013 Orthophoto Generation Analytical aerotriangulation was performed on the imagery using INPHO's MATCH AT software. The orthorectification and mosaicking was performed using OrthoMaster and OrthoVista software. In accordance with typical mapping practice, the imagery was rectified at ground level. Therefore, the tops of above-ground features (such as rooftops, tops of structures, tops of trees, tops of poles, etc.) may not necessarily appear in their correct horizontal positions. The resolution of the orthophoto imagery is 0.5ft. \nThis is an official DWR Image Service, republished on March 25, 2019 by Stephanie Baker of the Division of Engineering, Geodetic Branch, Geospatial Data Support Section, who may be contacted at stephanie.baker@water.ca.gov, or 916-653-9815. \nDWR makes no warranties or guarantees \u2014 either expressed or implied \u2014 as to the completeness, accuracy, or correctness of the data. DWR neither accepts nor assumes liability arising from or for any incorrect, incomplete, or misleading subject data.",
 "name": "Aerial_Photography/SuisunMarsh_YoloBypass_2018",
 "description": "Complete product metadata is as follows: \nTask 1 \u2013 Survey Control Survey control was provided solely by airborne GPS technology. No field survey was performed under this assignment. \nTask 2 \u2013 Airborne Data Acquisition Four band (RGB-IR) imagery was acquired for the study area on June 13-14, 2018. The airborne mission was conducted as the following times: June 13, 2018 \u2013 8:03am to 11:15am June 14, 2018 \u2013 9:07am to 10:11am The mission plan was based on the following parameters: Camera: Vexcel UltraCAM Falcon Prime Nominal Resolution: 13.5 cm Altitude: 8000 ft AMT Flightlines: 41 Exposures: 1034 Task 3 \u2013 Terrain Modeling Terrain models required for orthophoto production were developed from the imagery using a combination of online data sources (USGS 3D Elevation Program) and manual photogrammetric compilation methods. \nTask 4 \u2013 Orthophoto Generation Analytical aerotriangulation was performed on the imagery using INPHO's MATCH AT software. The orthorectification and mosaicking was performed using OrthoMaster and OrthoVista software. In accordance with typical mapping practice, the imagery was rectified at ground level. Therefore, the tops of above-ground features (such as rooftops, tops of structures, tops of trees, tops of poles, etc.) may not necessarily appear in their correct horizontal positions. The resolution of the orthophoto imagery is 0.5ft. \nThis is an official DWR Image Service, republished on March 25, 2019 by Stephanie Baker of the Division of Engineering, Geodetic Branch, Geospatial Data Support Section, who may be contacted at stephanie.baker@water.ca.gov, or 916-653-9815. \nDWR makes no warranties or guarantees \u2014 either expressed or implied \u2014 as to the completeness, accuracy, or correctness of the data. DWR neither accepts nor assumes liability arising from or for any incorrect, incomplete, or misleading subject data.",
 "extent": {
  "xmin": 6513000.000044301,
  "ymin": 1758999.9999031425,
  "xmax": 6675000.000044301,
  "ymax": 1908999.9999031425,
  "spatialReference": {
   "wkid": 102642,
   "latestWkid": 2226,
   "vcsWkid": 105703,
   "latestVcsWkid": 6360
  }
 },
 "initialExtent": {
  "xmin": 6513000.000044301,
  "ymin": 1758999.9999031425,
  "xmax": 6675000.000044301,
  "ymax": 1908999.9999031425,
  "spatialReference": {
   "wkid": 102642,
   "latestWkid": 2226,
   "vcsWkid": 105703,
   "latestVcsWkid": 6360
  }
 },
 "fullExtent": {
  "xmin": 6513000.000044301,
  "ymin": 1758999.9999031425,
  "xmax": 6675000.000044301,
  "ymax": 1908999.9999031425,
  "spatialReference": {
   "wkid": 102642,
   "latestWkid": 2226,
   "vcsWkid": 105703,
   "latestVcsWkid": 6360
  }
 },
 "sortableFields": "",
 "heightModelInfo": {
  "heightModel": "gravity_related_height",
  "vertCRS": "NAVD88_height_(ftUS)",
  "heightUnit": "us-foot"
 },
 "bandCount": 4,
 "pixelType": "U8",
 "minValues": [
  0,
  0,
  0,
  0
 ],
 "maxValues": [
  255,
  255,
  255,
  255
 ],
 "meanValues": [
  125.3991925255169,
  118.4132219422907,
  101.14287340418078,
  170.65439755279192
 ],
 "stdvValues": [
  56.51737684679962,
  55.00112017138438,
  59.17890623152221,
  45.068071185071354
 ],
 "hasMultidimensions": false,
 "pixelSizeX": 0.5,
 "pixelSizeY": 0.5,
 "meanPixelSize": 0.15240030480060962,
 "datasetFormat": "AMD",
 "uncompressedSize": 388800000000,
 "blockWidth": 2048,
 "blockHeight": 256,
 "compressionType": "None",
 "bandNames": [
  "Band_1",
  "Band_2",
  "Band_3",
  "Band_4"
 ],
 "allowCopy": true,
 "allowAnalysis": true,
 "itemAccess": false,
 "inspectionCapabilities": "",
 "noDataValue": 255,
 "noDataValues": [
  255,
  255,
  255,
  1.79E308
 ],
 "minPixelSize": 0,
 "maxPixelSize": 0,
 "copyrightText": "DWR Division of Engineering Geodetic Branch",
 "serviceDataType": "esriImageServiceDataTypeGeneric",
 "serviceSourceType": "esriImageServiceSourceTypeMosaicDataset",
 "objectIdField": "OBJECTID",
 "fields": [
  {
   "name": "OBJECTID",
   "type": "esriFieldTypeOID",
   "alias": "OBJECTID",
   "domain": null
  },
  {
   "name": "Shape",
   "type": "esriFieldTypeGeometry",
   "alias": "Shape",
   "domain": null
  },
  {
   "name": "Name",
   "type": "esriFieldTypeString",
   "alias": "Name",
   "domain": null,
   "length": 200
  },
  {
   "name": "MinPS",
   "type": "esriFieldTypeDouble",
   "alias": "MinPS",
   "domain": null
  },
  {
   "name": "MaxPS",
   "type": "esriFieldTypeDouble",
   "alias": "MaxPS",
   "domain": null
  },
  {
   "name": "LowPS",
   "type": "esriFieldTypeDouble",
   "alias": "LowPS",
   "domain": null
  },
  {
   "name": "HighPS",
   "type": "esriFieldTypeDouble",
   "alias": "HighPS",
   "domain": null
  },
  {
   "name": "Category",
   "type": "esriFieldTypeInteger",
   "alias": "Category",
   "domain": {
    "type": "codedValue",
    "name": "MosaicCatalogItemCategoryDomain",
    "description": "Catalog item categories.",
    "codedValues": [
     {
      "name": "Unknown",
      "code": 0
     },
     {
      "name": "Primary",
      "code": 1
     },
     {
      "name": "Overview",
      "code": 2
     },
     {
      "name": "Unprocessed Overview",
      "code": 3
     },
     {
      "name": "Partial Overview",
      "code": 4
     },
     {
      "name": "Inactive",
      "code": 5
     },
     {
      "name": "Uploaded",
      "code": 253
     },
     {
      "name": "Incomplete",
      "code": 254
     },
     {
      "name": "Custom",
      "code": 255
     }
    ],
    "mergePolicy": "esriMPTDefaultValue",
    "splitPolicy": "esriSPTDefaultValue"
   }
  },
  {
   "name": "Tag",
   "type": "esriFieldTypeString",
   "alias": "Tag",
   "domain": null,
   "length": 100
  },
  {
   "name": "GroupName",
   "type": "esriFieldTypeString",
   "alias": "GroupName",
   "domain": null,
   "length": 100
  },
  {
   "name": "ProductName",
   "type": "esriFieldTypeString",
   "alias": "ProductName",
   "domain": null,
   "length": 100
  },
  {
   "name": "CenterX",
   "type": "esriFieldTypeDouble",
   "alias": "CenterX",
   "domain": null
  },
  {
   "name": "CenterY",
   "type": "esriFieldTypeDouble",
   "alias": "CenterY",
   "domain": null
  },
  {
   "name": "ZOrder",
   "type": "esriFieldTypeInteger",
   "alias": "ZOrder",
   "domain": null
  },
  {
   "name": "Shape_Length",
   "type": "esriFieldTypeDouble",
   "alias": "Shape_Length",
   "domain": null
  },
  {
   "name": "Shape_Area",
   "type": "esriFieldTypeDouble",
   "alias": "Shape_Area",
   "domain": null
  }
 ],
 "capabilities": "Image,Metadata,Catalog,Mensuration",
 "defaultMosaicMethod": "Northwest",
 "allowedMosaicMethods": "NorthWest,Center,LockRaster,ByAttribute,Nadir,Viewpoint,Seamline,None",
 "sortField": "",
 "sortValue": null,
 "sortAscending": true,
 "mosaicOperator": "First",
 "maxDownloadSizeLimit": 2048,
 "defaultCompressionQuality": 75,
 "defaultResamplingMethod": "Bilinear",
 "maxImageHeight": 4100,
 "maxImageWidth": 15000,
 "maxRecordCount": 1000,
 "maxDownloadImageCount": 20,
 "maxMosaicImageCount": 20,
 "allowRasterFunction": true,
 "rasterFunctionInfos": [
  {
   "name": "None",
   "description": "A No-Op Function.",
   "help": ""
  }
 ],
 "rasterTypeInfos": [
  {
   "name": "Raster Dataset",
   "description": "Supports all ArcGIS Raster Datasets",
   "help": ""
  }
 ],
 "mensurationCapabilities": "Basic",
 "hasHistograms": true,
 "hasColormap": false,
 "hasRasterAttributeTable": false,
 "minScale": 0,
 "maxScale": 0,
 "exportTilesAllowed": false,
 "supportsStatistics": true,
 "supportsAdvancedQueries": true,
 "editFieldsInfo": null,
 "ownershipBasedAccessControlForRasters": null,
 "allowComputeTiePoints": false,
 "useStandardizedQueries": true,
 "advancedQueryCapabilities": {
  "useStandardizedQueries": true,
  "supportsStatistics": true,
  "supportsOrderBy": true,
  "supportsDistinct": true,
  "supportsPagination": true
 },
 "spatialReference": {
  "wkid": 102642,
  "latestWkid": 2226,
  "vcsWkid": 105703,
  "latestVcsWkid": 6360
 }
}
