<?xml version="1.0" encoding="UTF-8" standalone="no"?>
<metadata xml:lang="en">
<Esri>
<CreaDate>20250527</CreaDate>
<CreaTime>15342900</CreaTime>
<ArcGISFormat>1.0</ArcGISFormat>
<SyncOnce>FALSE</SyncOnce>
<DataProperties>
<itemProps>
<itemName Sync="TRUE">Bathy_NCRO_20130724_OldRiver_at_SalmonSlough_COG.tif</itemName>
<nativeExtBox>
<westBL Sync="TRUE">6286965.999976</westBL>
<eastBL Sync="TRUE">6309558.999976</eastBL>
<southBL Sync="TRUE">2108646.999883</southBL>
<northBL Sync="TRUE">2123049.999883</northBL>
<exTypeCode Sync="TRUE">1</exTypeCode>
</nativeExtBox>
<imsContentType Sync="TRUE">002</imsContentType>
</itemProps>
<coordRef>
<type Sync="TRUE">Projected</type>
<geogcsn Sync="TRUE">GCS_North_American_1983</geogcsn>
<csUnits Sync="TRUE">Linear Unit: Foot_US (0.304801)</csUnits>
<projcsn Sync="TRUE">NAD_1983_StatePlane_California_III_FIPS_0403_Feet</projcsn>
<peXml Sync="TRUE">&lt;ProjectedCoordinateSystem xsi:type='typens:ProjectedCoordinateSystem' xmlns:xsi='http://www.w3.org/2001/XMLSchema-instance' xmlns:xs='http://www.w3.org/2001/XMLSchema' xmlns:typens='http://www.esri.com/schemas/ArcGIS/3.6.0'&gt;&lt;WKT&gt;PROJCS[&amp;quot;NAD_1983_StatePlane_California_III_FIPS_0403_Feet&amp;quot;,GEOGCS[&amp;quot;GCS_North_American_1983&amp;quot;,DATUM[&amp;quot;D_North_American_1983&amp;quot;,SPHEROID[&amp;quot;GRS_1980&amp;quot;,6378137.0,298.257222101]],PRIMEM[&amp;quot;Greenwich&amp;quot;,0.0],UNIT[&amp;quot;Degree&amp;quot;,0.0174532925199433]],PROJECTION[&amp;quot;Lambert_Conformal_Conic&amp;quot;],PARAMETER[&amp;quot;False_Easting&amp;quot;,6561666.666666666],PARAMETER[&amp;quot;False_Northing&amp;quot;,1640416.666666667],PARAMETER[&amp;quot;Central_Meridian&amp;quot;,-120.5],PARAMETER[&amp;quot;Standard_Parallel_1&amp;quot;,37.06666666666667],PARAMETER[&amp;quot;Standard_Parallel_2&amp;quot;,38.43333333333333],PARAMETER[&amp;quot;Latitude_Of_Origin&amp;quot;,36.5],UNIT[&amp;quot;Foot_US&amp;quot;,0.3048006096012192],AUTHORITY[&amp;quot;EPSG&amp;quot;,2227]]&lt;/WKT&gt;&lt;XOrigin&gt;-115860600&lt;/XOrigin&gt;&lt;YOrigin&gt;-93269500&lt;/YOrigin&gt;&lt;XYScale&gt;36787427.345686711&lt;/XYScale&gt;&lt;ZOrigin&gt;-100000&lt;/ZOrigin&gt;&lt;ZScale&gt;10000&lt;/ZScale&gt;&lt;MOrigin&gt;-100000&lt;/MOrigin&gt;&lt;MScale&gt;10000&lt;/MScale&gt;&lt;XYTolerance&gt;0.0032808333333333331&lt;/XYTolerance&gt;&lt;ZTolerance&gt;0.001&lt;/ZTolerance&gt;&lt;MTolerance&gt;0.001&lt;/MTolerance&gt;&lt;HighPrecision&gt;true&lt;/HighPrecision&gt;&lt;WKID&gt;102643&lt;/WKID&gt;&lt;LatestWKID&gt;2227&lt;/LatestWKID&gt;&lt;/ProjectedCoordinateSystem&gt;</peXml>
</coordRef>
<RasterProperties>
<General>
<PixelDepth Sync="TRUE">32</PixelDepth>
<HasColormap Sync="TRUE">FALSE</HasColormap>
<CompressionType Sync="TRUE">LZW</CompressionType>
<NumBands Sync="TRUE">1</NumBands>
<Format Sync="TRUE">TIFF</Format>
<HasPyramids Sync="TRUE">TRUE</HasPyramids>
<SourceType Sync="TRUE">continuous</SourceType>
<PixelType Sync="TRUE">floating point</PixelType>
<NoDataValue Sync="TRUE">-3.4028231e+38</NoDataValue>
</General>
</RasterProperties>
</DataProperties>
<SyncDate>20260828</SyncDate>
<SyncTime>13040400</SyncTime>
<ModDate>20260908</ModDate>
<ModTime>14521400</ModTime>
<ArcGISProfile>FGDC</ArcGISProfile>
<scaleRange>
<minScale>150000000</minScale>
<maxScale>5000</maxScale>
</scaleRange>
</Esri>
<mdLang>
<languageCode Sync="TRUE" value="eng">
</languageCode>
<countryCode Sync="TRUE" value="USA">
</countryCode>
</mdLang>
<mdChar>
<CharSetCd value="004">
</CharSetCd>
</mdChar>
<mdHrLv>
<ScopeCd value="005">
</ScopeCd>
</mdHrLv>
<mdHrLvName Sync="TRUE">dataset</mdHrLvName>
<mdContact>
<rpIndName>Lillian Hayden</rpIndName>
<rpOrgName>Department of Water Resources, Division of Regional Assistance, North Central Region Office, Hydrography and Technical Support</rpOrgName>
<rpPosName>Environmental Scientist</rpPosName>
<rpCntInfo>
<cntAddress addressType="physical">
<eMailAdd>Lillian.Hayden@water.ca.gov</eMailAdd>
<delPoint>3500 Industrial Blvd</delPoint>
<city>West Sacramento</city>
<adminArea>CA</adminArea>
<postCode>95691</postCode>
<country>US</country>
</cntAddress>
<cntPhone>
<voiceNum>916-281-4835</voiceNum>
</cntPhone>
</rpCntInfo>
<role>
<RoleCd value="007">
</RoleCd>
</role>
</mdContact>
<mdDateSt Sync="TRUE">20260908</mdDateSt>
<mdStanName>ArcGIS Metadata</mdStanName>
<mdStanVer>1.0</mdStanVer>
<distInfo>
<distFormat>
<formatName Sync="TRUE">Raster Dataset</formatName>
</distFormat>
</distInfo>
<dataIdInfo>
<idAbs>&lt;div style='text-align:Left;'&gt;&lt;div&gt;&lt;div&gt;&lt;p&gt;&lt;span&gt;This is an official DWR Image Service, which meets all appropriate requirements of the DWR Spatial Data Standards, specifically the DWR Spatial Data Standard version 3.6, dated September 27, 2023. This archived dataset was developed by DWR for its internal use. This data is not suitable for property boundary determination, construction layout, legal descriptions, or any other professional land surveying or legal purpose. The data represents estimates of past conditions and measurements, may contain errors, and is no longer representative of current conditions. Neither the State of California, its agents, nor its employees, make any warranty, representation or guarantee, express or implied; nor assumes any liability or responsibility for the accuracy, completeness, or usefulness of this data. This Image Service was published by Bianca Pertl of the DWR Division of Engineering, who may be contacted at 916-757-3593, or at bianca.pertl@water.ca.gov. Comments, problems, improvements, updates, or suggestions should be forwarded to the official DWR point of contact as available and appropriate.&lt;/span&gt;&lt;/p&gt;&lt;p&gt;&lt;span&gt;The California Department of Water Resources, North Central Region Office (NCRO), conducted a bathymetric survey of the Five Points area, including parts of Grant Line Canal, Doughty Cut, Old River, Paradise Cut, and Sugar Cut, for the South Delta Branch of the Bay Delta Office for use in flow circulation and water quality studies. The NCRO S/V Oquawka, outfitted with a multibeam echosounder, was used for this survey. &lt;/span&gt;&lt;/p&gt;&lt;p&gt;&lt;span&gt;• Field Dates: June 26th 2013, June 27th 2013, June 28th 2013, July 15th 2013, July 16th 2013, July 23rd 2013, July 24th 2013 &lt;/span&gt;&lt;/p&gt;&lt;p&gt;&lt;span&gt;• Survey Type: Multibeam &lt;/span&gt;&lt;/p&gt;&lt;p&gt;&lt;span&gt;• Data Density: 3 foot grid &lt;/span&gt;&lt;/p&gt;&lt;p&gt;&lt;span&gt;• Horizontal Datum: North American Datum of 1983 (NAD83) California Coordinate System (CCS83) State Plane Zone 3, US feet &lt;/span&gt;&lt;/p&gt;&lt;p&gt;&lt;span&gt;• Vertical Datum: North American Vertical Datum of 1988 (NAVD88) geoid 09, US feet &lt;/span&gt;&lt;/p&gt;&lt;p&gt;&lt;span&gt;• Processing Epoch: 2013.562; CSRC Datum Epoch: Epoch 2010.00 &lt;/span&gt;&lt;/p&gt;&lt;p&gt;&lt;span&gt;• Related Datasets: 2017 Middle River @ Old River, 2017 Old River @ San Joaquin, 2018 Old River @ Five Points SB, 2018 Old River, 2022 Old River @ Union Island, 2022 Grant Line Canal SB, 2022 Middle River South SB, 2022 Middle River South SB, 2022 Old River East SB, 2022 Paradise Cut SB, 2022 Grant Line Canal, 2022 Old River, 2023 Old River, 2023 Old River @ Sugar Cut, 2023 Grant Line Canal, 2023 Old River @ Paradise Cut, 2023 Middle River South SB, 2024 Middle River @ Undine, 2024 Grant Line Canal, 2025 Grant Line Canal, 2025 Sugar Cut &lt;/span&gt;&lt;/p&gt;&lt;p&gt;&lt;span&gt;• Involved Staff: Data collected and processed by NCRO Bathymetry and Hydrography sections &lt;/span&gt;&lt;/p&gt;&lt;p&gt;&lt;span&gt;• Survey Responsible Charge: Jacob Wright, PLS (CA 8717) &lt;/span&gt;&lt;/p&gt;&lt;p&gt;&lt;span&gt; &lt;/span&gt;&lt;/p&gt;&lt;p&gt;&lt;span&gt;Please see associated survey report for full control and QC check details. &lt;/span&gt;&lt;/p&gt;&lt;p&gt;&lt;span&gt;For complete metadata make sure the viewer (ArcGIS or other software) is set to view FGDC metadata.&lt;/span&gt;&lt;/p&gt;&lt;/div&gt;&lt;/div&gt;&lt;/div&gt;</idAbs>
<idCitation>
<resTitle>Bathy_NCRO_20130724_OldRiver_at_SalmonSlough</resTitle>
<resEd>Original</resEd>
<datasetSeries>
<seriesName>CA-DWR NCRO Hydrography</seriesName>
<issId>Bathy_NCRO_20130724_OldRiver_SalmonSlough</issId>
</datasetSeries>
<citRespParty>
<rpOrgName>California Department of Water Resources, Division of Regional Assistance, North Central Region Office, Hydrography and Technical Support.</rpOrgName>
<role>
<RoleCd value="006">
</RoleCd>
</role>
</citRespParty>
<presForm>
<PresFormCd Sync="TRUE" value="005">
</PresFormCd>
</presForm>
</idCitation>
<dataExt>
<exDesc>The confluence of Grant Line Canal, Old River, Tom Paine Slough, Sugar Cut Slough, Salmon Slough, and Paradise Cut.</exDesc>
<geoEle>
<GeoBndBox>
<westBL>0.00</westBL>
<eastBL>0.00</eastBL>
<northBL>0.00</northBL>
<southBL>0.00</southBL>
</GeoBndBox>
</geoEle>
</dataExt>
<idPoC>
<rpIndName>Shawn Mayr</rpIndName>
<rpOrgName>Department of Water Resources, Division of Regional Assistance, North Central Region Office, Hydrography and Technical Support</rpOrgName>
<rpPosName>Senior Engineer</rpPosName>
<rpCntInfo>
<cntAddress addressType="physical">
<eMailAdd>Shawn.Mayr@water.ca.gov</eMailAdd>
<delPoint>3500 Industrial Blvd.</delPoint>
<city>West Sacramento</city>
<adminArea>CA</adminArea>
<postCode>95691</postCode>
<country>US</country>
</cntAddress>
<cntPhone>
<voiceNum>916-820-8198</voiceNum>
</cntPhone>
</rpCntInfo>
<role>
<RoleCd value="007">
</RoleCd>
</role>
</idPoC>
<searchKeys>
<keyword>elevation</keyword>
<keyword>inlandWaters</keyword>
<keyword>Bathymetry</keyword>
<keyword>Multibeam</keyword>
<keyword>Sonar</keyword>
<keyword>Grant Line Canal</keyword>
<keyword>Old River</keyword>
<keyword>Salmon Slough</keyword>
<keyword>Sugar Cut Slough</keyword>
<keyword>Tom Paine Slough</keyword>
<keyword>Paradise Cut</keyword>
<keyword>Middle River</keyword>
<keyword>June</keyword>
<keyword>July 2013</keyword>
</searchKeys>
<themeKeys>
<thesaName>
<resTitle>ISO 19115 Topic Categories</resTitle>
</thesaName>
<keyword>elevation</keyword>
<keyword>inlandWaters</keyword>
</themeKeys>
<themeKeys>
<keyword>Bathymetry</keyword>
<keyword>Multibeam</keyword>
<keyword>Sonar</keyword>
</themeKeys>
<idPurp>This bathymetric dataset is intended to be used as a base component of studies in the Sacramento-San Joaquin Delta.</idPurp>
<idCredit>California Department of Water Resources, Division of Regional Assistance, North Central Region Office, Hydrography and Technical Support.</idCredit>
<resConst>
<Consts>
<useLimit>&lt;div style='text-align:Left;'&gt;&lt;div&gt;&lt;div&gt;&lt;p&gt;&lt;span&gt;While the Department of Water Resources makes every effort to ensure that its databases are error-free, errors do occur. We ask that you notify us immediately of any errors that you discover in our data. With regards to this dataset, neither the State of California Government, nor any of its employees, makes any warranty, representation or guarantee, express or implied, nor assumes any legal liability or responsibility for the accuracy, completeness, or usefulness of the data.&lt;/span&gt;&lt;/p&gt;&lt;/div&gt;&lt;/div&gt;&lt;/div&gt;</useLimit>
</Consts>
</resConst>
<resConst>
<LegConsts>
<useLimit>While the Department of Water Resources makes every effort to ensure that its databases are error-free, errors do occur. We ask that you notify us immediately of any errors that you discover in our data. With regards to this dataset, neither the State of California Government, nor any of its employees, makes any warranty, representation or guarantee, express or implied, nor assumes any legal liability or responsibility for the accuracy, completeness, or usefulness of the data.</useLimit>
</LegConsts>
</resConst>
<dataChar>
<CharSetCd Sync="FALSE" value="004">
</CharSetCd>
</dataChar>
<idStatus>
<ProgCd value="001">
</ProgCd>
</idStatus>
<suppInfo>Equipment and Methodology
Survey Vessel: 20 ft Oquawka 2072
Patch Test Date: 02/19/2013
Date of lever arms measurement: 4/22/2012
Multibeam Sonar Bathymetry System: Sonar: R2Sonic 2022 Multibeam Echo Sounder // Position/GPS: Applanix POS MV WaveMaster II // Motion control: Applanix POS MV WaveMaster II // Sound velocity: Odom Hydrographic Digibar Pro Sound Velocimeter
Field Practices: Field calibration tests (including multibeam patch tests, fixed surface comparisons and GPS checks) are regularly performed in order to ensure data quality and positional accuracy. Multibeam data were collected on the survey vessel and recorded using Hypack Hydrographic Survey software (Hypack).</suppInfo>
<resMaint>
<maintFreq>
<MaintFreqCd value="009">
</MaintFreqCd>
</maintFreq>
</resMaint>
<placeKeys>
<keyword>Grant Line Canal</keyword>
<keyword>Old River</keyword>
<keyword>Salmon Slough</keyword>
<keyword>Sugar Cut Slough</keyword>
<keyword>Tom Paine Slough</keyword>
<keyword>Paradise Cut</keyword>
<keyword>Middle River</keyword>
</placeKeys>
<tempKeys>
<keyword>June</keyword>
<keyword>July 2013</keyword>
</tempKeys>
<envirDesc Sync="FALSE">Esri ArcGIS 13.6.0.59527</envirDesc>
<dataLang>
<languageCode Sync="TRUE" value="eng">
</languageCode>
<countryCode Sync="TRUE" value="USA">
</countryCode>
</dataLang>
<spatRpType>
<SpatRepTypCd Sync="TRUE" value="002">
</SpatRepTypCd>
</spatRpType>
<dataExt>
<geoEle>
<GeoBndBox esriExtentType="search">
<exTypeCode Sync="TRUE">1</exTypeCode>
<westBL Sync="TRUE">-121.451065</westBL>
<eastBL Sync="TRUE">-121.372384</eastBL>
<northBL Sync="TRUE">37.822285</northBL>
<southBL Sync="TRUE">37.782127</southBL>
</GeoBndBox>
</geoEle>
</dataExt>
<tpCat>
<TopicCatCd value="006">
</TopicCatCd>
</tpCat>
<tpCat>
<TopicCatCd value="012">
</TopicCatCd>
</tpCat>
</dataIdInfo>
<dqInfo>
<dqScope>
<scpLvl>
<ScopeCd value="005">
</ScopeCd>
</scpLvl>
</dqScope>
<dataLineage>
<dataSource>
<srcDesc>This is an original dataset produced by the California Department of Water Resources, Division of Regional Assistance, North Central Region Office, Hydrography and Technical Support Section.</srcDesc>
<srcMedName>
<MedNameCd value="none">
</MedNameCd>
</srcMedName>
<srcCitatn>
<citRespParty>
<rpOrgName>California Department of Water Resources, Division of Regional Assistance, North Central Region Office, Hydrography and Technical Support.</rpOrgName>
<role>
<RoleCd value="006">
</RoleCd>
</role>
</citRespParty>
</srcCitatn>
</dataSource>
<prcStep>
<stepDesc>Field data collection: This dataset is comprised of elevation points collected using multibeam sonar bathymetry equipment corrected with GPS position data. Raw multibeam data requires processing to become usable. Because sound velocity varies both temporally and spatially, the field crew breaks down the river stretch to be surveyed into manageable sections of approximately 1 hour of logged survey time. Each section overlaps slightly to prevent missing data. Field data collection was completed July 24, 2013.</stepDesc>
<stepProc>
<rpIndName>Scott Flory</rpIndName>
<rpOrgName>Department of Water Resources, Division of Regional Assistance, North Central Region Office, Bathymetry Data Collection</rpOrgName>
<rpPosName>Senior Environmental Scientist</rpPosName>
<rpCntInfo>
<cntAddress addressType="physical">
<eMailAdd>Scott.Flory@water.ca.gov</eMailAdd>
<delPoint>3500 Industrial Blvd.</delPoint>
<city>West Sacramento</city>
<adminArea>CA</adminArea>
<postCode>95691</postCode>
<country>US</country>
</cntAddress>
<cntPhone>
<voiceNum>916-820-7608</voiceNum>
</cntPhone>
</rpCntInfo>
<role>
<RoleCd value="009">
</RoleCd>
</role>
</stepProc>
</prcStep>
<prcStep>
<stepDesc>GNSS Processing: Ground truth measurements were taken each day of the survey to verify that the positioning and sonar instrumentation were functioning properly. Some inconsistencies were found from loss of radio input from multibeam system caused outages in tide values in real time. These tide values were small enough to be corrected in post processing. Aside from that occurance, DWR NCRO did not experience any positional inconsistency with the information broadcasted by the base station GPS other than the inherent error of the Trimble R-8 RTK GPS: Horizontal Error 10mm + 1 ppm RMS. Error induced by motion of the vessel was corrected using the Applanix POS MV Wavemaster System. The documented error for the POS MV System is : • Horizontal Position +/- (8 mm + 1 ppm x baseline length)2 • Roll and Pitch 0.02° (0.015° with post processing) • Heave 5 cm or 5%3 • True Heave 2 cm or 2%4 Please see associated survey report for full control and QC check details. Orthometric heights were derived from Geoid 12A.</stepDesc>
<stepProc>
<rpIndName>Scott Flory</rpIndName>
<rpOrgName>Department of Water Resources, Division of Regional Assistance, North Central Region Office, Bathymetry Data Collection</rpOrgName>
<rpPosName>Senior Environmental Scientist</rpPosName>
<rpCntInfo>
<cntAddress addressType="physical">
<eMailAdd>Scott.Flory@water.ca.gov</eMailAdd>
<delPoint>3500 Industrial Blvd.</delPoint>
<city>West Sacramento</city>
<adminArea>CA</adminArea>
<postCode>95691</postCode>
<country>US</country>
</cntAddress>
<cntPhone>
<voiceNum>916-820-7608</voiceNum>
</cntPhone>
</rpCntInfo>
<role>
<RoleCd value="009">
</RoleCd>
</role>
</stepProc>
</prcStep>
<prcStep>
<stepDesc>Data post-processing: Initial multibeam processing was performed with Hypack Hydrographic Software. Typically, the multibeam point cloud is loaded into the review software a section at a time and calibration parameters are checked for accuracy and consistency. Erroneous data, outliers and submerged aquatic vegetation are then filtered out by the hydrographer. Once all sections collected during a survey have been reviewed and processed, they are combined together to create a single seamless surface and exported in bag raster format. These rasters are imported in GIS software and reviewed for consistency. Further products and analyses are carried out upon request. Metadata are established and the data are stored. Data processing was completed in July 2013.</stepDesc>
<stepProc>
<rpIndName>Shawn Mayr</rpIndName>
<rpOrgName>Department of Water Resources, Division of Regional Assistance, North Central Region Office, Hydrography and Technical Support</rpOrgName>
<rpPosName>Senior Water Resources Engineer</rpPosName>
<rpCntInfo>
<cntAddress addressType="physical">
<eMailAdd>Shawn.Mayr@water.ca.gov</eMailAdd>
<delPoint>3500 Industrial Blvd</delPoint>
<city>West Sacramento</city>
<adminArea>CA</adminArea>
<postCode>95691</postCode>
<country>US</country>
</cntAddress>
<cntPhone>
<voiceNum>916-820-8198</voiceNum>
</cntPhone>
</rpCntInfo>
<role>
<RoleCd value="009">
</RoleCd>
</role>
</stepProc>
</prcStep>
</dataLineage>
<report type="DQQuanAttAcc">
<measDesc>Ground truth measurements were taken each day of the survey to verify that the positioning and sonar instrumentation were functioning properly. Prior to the survey, DWR NCRO staff set up a base station RTK GPS on a DWR monument, "DC_1", located at 2120307.2 ft northing, 6294449.4 ft easting, and at an elevation of 20.7 ft. The proper functioning of the RTK system was verified by daily surveying of a known location, "Rebar", at 2120475.8 ft northing, 6294342.0 ft easting and 20.2 ft elevation. The observed values were compared with the established values and, if inconsistency was discovered, adjustments were made.</measDesc>
<evalMethDesc>Total uncertainty depends on combined contributions from sound velocity, offsets, beam angle, and range. Error introduced from the motion of the vessel was corrected using the Applanix POS MV OceanMaster System. Sound velocity profiles were taken regularly to correct the depth recorded by the transducer for changes in temperature and salinity. Orthometric heights were derived from Geoid 12A.</evalMethDesc>
</report>
<report type="DQConcConsis">
<measDesc>These data were collected using advanced hydrographic sonar and GPS technologies. They are believed to be logically consistent. Visual inspection was conducted and data were reviewed in both hydrographic processing and GIS software packages.</measDesc>
</report>
<report type="DQCompOm">
<measDesc>Because multibeam echosounder technology is much less efficient at gathering complete surface coverage in shallow water, these areas are often omitted. Subsequent surveys with a singlebeam sounder may be conducted to fill in these gaps -- please contact the metadata distributor listed in the Distribution section if you need information on data availability for projects not listed under "related datasets" in the abstract. Dense aquatic vegetation also interferes with the sounder's ability to record reliable bathymetric information. Therefore, in order to properly represent the bathymetry of the entire channel, elevation data in most areas of the channel occupied by dense aquatic vegetation were omitted from the final data set and appear as gaps in the data.</measDesc>
</report>
<report dimension="horizontal" type="DQAbsExtPosAcc">
<measDesc>This dataset was produced for 3 foot grid contours to exceed IHO Order 1a standards for hydrographic surveys.</measDesc>
<evalMethDesc>Sounding uncertainty at 95% confidence interval: &lt; 0.5 ft</evalMethDesc>
</report>
<report dimension="vertical" type="DQAbsExtPosAcc">
<measDesc>This dataset was produced for 3 foot grid contours to exceed IHO Order 1a standards for hydrographic surveys.</measDesc>
<evalMethDesc>Sounding uncertainty at 95% confidence interval: &lt; 0.5 ft</evalMethDesc>
</report>
</dqInfo>
<spatRepInfo>
<Georect>
<cellGeo>
<CellGeoCd Sync="TRUE" value="002">
</CellGeoCd>
</cellGeo>
<numDims Sync="TRUE">2</numDims>
<tranParaAv Sync="TRUE">1</tranParaAv>
<chkPtAv Sync="TRUE">0</chkPtAv>
<cornerPts>
<pos Sync="TRUE">6286965.999976 2108646.999883</pos>
</cornerPts>
<cornerPts>
<pos Sync="TRUE">6286965.999976 2123049.999883</pos>
</cornerPts>
<cornerPts>
<pos Sync="TRUE">6309558.999976 2123049.999883</pos>
</cornerPts>
<cornerPts>
<pos Sync="TRUE">6309558.999976 2108646.999883</pos>
</cornerPts>
<centerPt>
<pos Sync="TRUE">6298262.499976 2115848.499883</pos>
</centerPt>
<axisDimension type="002">
<dimSize Sync="TRUE">7531</dimSize>
<dimResol>
<value Sync="TRUE" uom="ftUS">3.000000</value>
</dimResol>
</axisDimension>
<axisDimension type="001">
<dimSize Sync="TRUE">4801</dimSize>
<dimResol>
<value Sync="TRUE" uom="ftUS">3.000000</value>
</dimResol>
</axisDimension>
<ptInPixel>
<PixOrientCd Sync="TRUE" value="001">
</PixOrientCd>
</ptInPixel>
</Georect>
</spatRepInfo>
<refSysInfo>
<RefSystem>
<refSysID>
<identCode Sync="TRUE" code="2227">
</identCode>
<idCodeSpace Sync="TRUE">EPSG</idCodeSpace>
<idVersion Sync="TRUE">5.3(9.0.0)</idVersion>
</refSysID>
</RefSystem>
</refSysInfo>
<contInfo>
<ImgDesc>
<contentTyp>
<ContentTypCd Sync="TRUE" value="001">
</ContentTypCd>
</contentTyp>
<covDim>
<Band>
<dimDescrp Sync="TRUE">Band_1</dimDescrp>
<maxVal Sync="TRUE">1.710000</maxVal>
<minVal Sync="TRUE">-36.320000</minVal>
<bitsPerVal Sync="TRUE">32</bitsPerVal>
<valUnit>
<UOM type="length">
</UOM>
</valUnit>
</Band>
</covDim>
</ImgDesc>
</contInfo>
<eainfo>
<overview>
<eaover>The pixel values in this raster dataset correspond to the elevation or z-value in the stated vertical datum.</eaover>
</overview>
</eainfo>
</metadata>
