<?xml version="1.0" encoding="UTF-8" standalone="no"?>
<metadata xml:lang="en">
<Esri>
<CreaDate>20151224</CreaDate>
<CreaTime>09490100</CreaTime>
<ArcGISFormat>1.0</ArcGISFormat>
<ArcGISstyle>FGDC CSDGM Metadata</ArcGISstyle>
<SyncOnce>FALSE</SyncOnce>
<DataProperties>
<itemProps>
<itemName Sync="TRUE">Bathy_NCRO_20160623_SanJoaquinRvr_at_FishermansCut.tif</itemName>
<nativeExtBox>
<westBL Sync="TRUE">6225641.769940</westBL>
<eastBL Sync="TRUE">6232670.769940</eastBL>
<southBL Sync="TRUE">2218830.040017</southBL>
<northBL Sync="TRUE">2223116.040017</northBL>
<exTypeCode Sync="TRUE">1</exTypeCode>
</nativeExtBox>
<imsContentType Sync="TRUE">002</imsContentType>
</itemProps>
<coordRef>
<type Sync="TRUE">Projected</type>
<geogcsn Sync="TRUE">GCS_North_American_1983</geogcsn>
<csUnits Sync="TRUE">Linear Unit: Foot_US (0.304801)</csUnits>
<projcsn Sync="TRUE">NAD_1983_StatePlane_California_III_FIPS_0403_Feet</projcsn>
<peXml Sync="TRUE">&lt;ProjectedCoordinateSystem xsi:type='typens:ProjectedCoordinateSystem' xmlns:xsi='http://www.w3.org/2001/XMLSchema-instance' xmlns:xs='http://www.w3.org/2001/XMLSchema' xmlns:typens='http://www.esri.com/schemas/ArcGIS/10.5'&gt;&lt;WKT&gt;PROJCS[&amp;quot;NAD_1983_StatePlane_California_III_FIPS_0403_Feet&amp;quot;,GEOGCS[&amp;quot;GCS_North_American_1983&amp;quot;,DATUM[&amp;quot;D_North_American_1983&amp;quot;,SPHEROID[&amp;quot;GRS_1980&amp;quot;,6378137.0,298.257222101]],PRIMEM[&amp;quot;Greenwich&amp;quot;,0.0],UNIT[&amp;quot;Degree&amp;quot;,0.0174532925199433]],PROJECTION[&amp;quot;Lambert_Conformal_Conic&amp;quot;],PARAMETER[&amp;quot;False_Easting&amp;quot;,6561666.666666666],PARAMETER[&amp;quot;False_Northing&amp;quot;,1640416.666666667],PARAMETER[&amp;quot;Central_Meridian&amp;quot;,-120.5],PARAMETER[&amp;quot;Standard_Parallel_1&amp;quot;,37.06666666666667],PARAMETER[&amp;quot;Standard_Parallel_2&amp;quot;,38.43333333333333],PARAMETER[&amp;quot;Latitude_Of_Origin&amp;quot;,36.5],UNIT[&amp;quot;Foot_US&amp;quot;,0.3048006096012192],AUTHORITY[&amp;quot;EPSG&amp;quot;,2227]]&lt;/WKT&gt;&lt;XOrigin&gt;-115860600&lt;/XOrigin&gt;&lt;YOrigin&gt;-93269500&lt;/YOrigin&gt;&lt;XYScale&gt;36787427.345686711&lt;/XYScale&gt;&lt;ZOrigin&gt;-100000&lt;/ZOrigin&gt;&lt;ZScale&gt;10000&lt;/ZScale&gt;&lt;MOrigin&gt;-100000&lt;/MOrigin&gt;&lt;MScale&gt;10000&lt;/MScale&gt;&lt;XYTolerance&gt;0.0032808333333333331&lt;/XYTolerance&gt;&lt;ZTolerance&gt;0.001&lt;/ZTolerance&gt;&lt;MTolerance&gt;0.001&lt;/MTolerance&gt;&lt;HighPrecision&gt;true&lt;/HighPrecision&gt;&lt;WKID&gt;102643&lt;/WKID&gt;&lt;LatestWKID&gt;2227&lt;/LatestWKID&gt;&lt;/ProjectedCoordinateSystem&gt;</peXml>
</coordRef>
<RasterProperties>
<General>
<PixelDepth Sync="TRUE">32</PixelDepth>
<HasColormap Sync="TRUE">FALSE</HasColormap>
<CompressionType Sync="TRUE">LZW</CompressionType>
<NumBands Sync="TRUE">1</NumBands>
<Format Sync="TRUE">TIFF</Format>
<HasPyramids Sync="TRUE">TRUE</HasPyramids>
<SourceType Sync="TRUE">continuous</SourceType>
<PixelType Sync="TRUE">floating point</PixelType>
<NoDataValue Sync="TRUE">-3.4028231e+038</NoDataValue>
</General>
</RasterProperties>
</DataProperties>
<SyncDate>20190618</SyncDate>
<SyncTime>16090000</SyncTime>
<ModDate>20190618</ModDate>
<ModTime>16090000</ModTime>
<scaleRange>
<minScale>150000000</minScale>
<maxScale>5000</maxScale>
</scaleRange>
<ArcGISProfile>FGDC</ArcGISProfile>
</Esri>
<mdLang>
<languageCode value="eng">
</languageCode>
<countryCode Sync="TRUE" value="USA">
</countryCode>
</mdLang>
<mdChar>
<CharSetCd value="004">
</CharSetCd>
</mdChar>
<mdHrLv>
<ScopeCd value="005">
</ScopeCd>
</mdHrLv>
<mdContact>
<rpIndName>Amy Zuber</rpIndName>
<rpOrgName>Department of Water Resources, Division of Integrated Regional Water Management, North Central Region Office, Bathymetry and Technical Support</rpOrgName>
<rpPosName>Environmental Scientist</rpPosName>
<rpCntInfo>
<cntPhone>
<voiceNum>916-376-1927</voiceNum>
</cntPhone>
<cntAddress addressType="physical">
<delPoint>3500 Industrial Blvd</delPoint>
<city>West Sacramento</city>
<adminArea>CA</adminArea>
<postCode>95691</postCode>
<country>US</country>
<eMailAdd>Amy.Zuber@water.ca.gov</eMailAdd>
</cntAddress>
</rpCntInfo>
<role>
<RoleCd value="007">
</RoleCd>
</role>
</mdContact>
<mdStanName>ArcGIS Metadata</mdStanName>
<mdStanVer>1.0</mdStanVer>
<distInfo>
<distributor>
<distorCont>
<rpIndName>Shawn Mayr</rpIndName>
<rpOrgName>Department of Water Resources, Division of Integrated Regional Water Management, North Central Region Office, Bathymetry and Technical Support</rpOrgName>
<rpPosName>Senior Engineer</rpPosName>
<rpCntInfo>
<cntPhone>
<voiceNum>916-376-9664</voiceNum>
</cntPhone>
<cntAddress addressType="physical">
<delPoint>3500 Industrial Blvd</delPoint>
<city>West Sacramento</city>
<adminArea>CA</adminArea>
<postCode>95691</postCode>
<country>US</country>
<eMailAdd>Shawn.Mayr@water.ca.gov</eMailAdd>
</cntAddress>
<cntHours>8AM-5PM Mon-Fri</cntHours>
<cntInstr>Call or email</cntInstr>
</rpCntInfo>
<role>
<RoleCd value="005">
</RoleCd>
</role>
</distorCont>
<distorOrdPrc>
<resFees>To be determined.</resFees>
<ordInstr>Call or email data request.</ordInstr>
</distorOrdPrc>
<distorFormat>
<formatName>Text File</formatName>
<formatVer>XYZ</formatVer>
</distorFormat>
</distributor>
<distFormat>
<formatName Sync="TRUE">Raster Dataset</formatName>
</distFormat>
</distInfo>
<dataIdInfo>
<idCitation>
<date>
<pubDate>2015-12-24</pubDate>
</date>
<resEd>Original</resEd>
<citRespParty>
<rpOrgName>Department of Water Resources, Division of Integrated Regional Water Management, North Central Region Office, Bathymetry and Technical Support, Shawn Mayr, Senior Engineer</rpOrgName>
<role>
<RoleCd value="006">
</RoleCd>
</role>
</citRespParty>
<presForm>
<PresFormCd value="005">
</PresFormCd>
</presForm>
<presForm>
<fgdcGeoform>Raster Digital Data</fgdcGeoform>
</presForm>
<datasetSeries>
<seriesName>CA-DWR NCRO Delta Bathymetry</seriesName>
<issId>San Joaquin River June 2015</issId>
</datasetSeries>
<resTitle Sync="TRUE">Bathy_NCRO_20160623_SanJoaquinRvr_at_FishermansCut.tif</resTitle>
</idCitation>
<idAbs>&lt;DIV STYLE="text-align:Left;"&gt;&lt;DIV&gt;&lt;DIV&gt;&lt;P&gt;&lt;SPAN&gt;The California Department of Water Resources (CA-DWR), North Central Region Office (NCRO), Bathymetry and Technical Support Section, conducted a bathymetric survey of the San Joaquin River for the CA-DWR Bay Delta Office (BDO). The main purpose of the data is to collect baseline measurements to determine potential scour and sediment impacts in nearby channels due to the installation of the emergency drought barrier (EDB) on False River. The survey took place on June 23rd, 2015 using multibeam echo sounder technology. The data were positionally corrected using Real-Time Kinematic (RTK) GPS. The data conforms with the NAD83 (California State Plane Zone III coordinate system) and NAVD88 datums. The final density level of the multibeam data points is a 1 foot grid.&lt;/SPAN&gt;&lt;/P&gt;&lt;/DIV&gt;&lt;/DIV&gt;&lt;/DIV&gt;</idAbs>
<idPurp>This bathymetric dataset is intended to be used as a base component of studies in the Sacramento-San Joaquin Delta.</idPurp>
<idCredit>California Department of Water Resources, Division of Integrated Regional Water Management, North Central Region Office, Bathymetry and Technical Support Section.</idCredit>
<idStatus>
<ProgCd value="001">
</ProgCd>
</idStatus>
<idPoC>
<rpIndName>Scott Flory</rpIndName>
<rpOrgName>Department of Water Resources, Division of Integrated Regional Water Management, North Central Region Office, Bathymetry and Technical Support</rpOrgName>
<rpPosName>Senior Environmental Scientist</rpPosName>
<rpCntInfo>
<cntPhone>
<voiceNum>916-376-9603</voiceNum>
<faxNum>916-376-9676</faxNum>
</cntPhone>
<cntAddress addressType="physical">
<delPoint>3500 Industrial Blvd.</delPoint>
<city>West Sacramento</city>
<adminArea>CA</adminArea>
<postCode>95691</postCode>
<country>US</country>
<eMailAdd>Scott.Flory@water.ca.gov</eMailAdd>
</cntAddress>
<cntHours>8AM-5PM Weekdays</cntHours>
</rpCntInfo>
<role>
<RoleCd value="007">
</RoleCd>
</role>
</idPoC>
<idPoC>
<rpIndName>Shawn Mayr</rpIndName>
<rpOrgName>Department of Water Resources, Division of Integrated Regional Water Management, North Central Region Office, Bathymetry and Technical Support</rpOrgName>
<rpPosName>Senior Engineer</rpPosName>
<rpCntInfo>
<cntPhone>
<voiceNum>916-376-9664</voiceNum>
</cntPhone>
<cntAddress addressType="physical">
<delPoint>3500 Industrial Blvd.</delPoint>
<city>West Sacramento</city>
<adminArea>CA</adminArea>
<postCode>95691</postCode>
<country>US</country>
<eMailAdd>Shawn.Mayr@water.ca.gov</eMailAdd>
</cntAddress>
<cntHours>8AM-5PM Weekdays</cntHours>
<cntInstr>Call or Email</cntInstr>
</rpCntInfo>
<role>
<RoleCd value="007">
</RoleCd>
</role>
</idPoC>
<resMaint>
<maintFreq>
<MaintFreqCd value="009">
</MaintFreqCd>
</maintFreq>
</resMaint>
<placeKeys>
<keyword>Sacramento - San Joaquin Delta, CA, Fisherman's Cut, Stockton Deep Water Ship Channel, Bradford Island, ATON, Navigation Marker, "34" R, San Joaquin River</keyword>
</placeKeys>
<tempKeys>
<keyword>June 23, 2015</keyword>
</tempKeys>
<themeKeys>
<thesaName>
<resTitle>ISO 19115 Topic Categories</resTitle>
<resAltTitle>ISO 006</resAltTitle>
</thesaName>
<keyword>Elevation</keyword>
<keyword>Sonar</keyword>
<keyword>Bathymetry</keyword>
<keyword>Multibeam</keyword>
</themeKeys>
<searchKeys>
<keyword>Elevation</keyword>
<keyword>June 23</keyword>
<keyword>2015</keyword>
<keyword>Sonar</keyword>
<keyword>Sacramento - San Joaquin Delta</keyword>
<keyword>CA</keyword>
<keyword>Fisherman's Cut</keyword>
<keyword>Stockton Deep Water Ship Channel</keyword>
<keyword>Bradford Island</keyword>
<keyword>ATON</keyword>
<keyword>Navigation Marker</keyword>
<keyword>"34" R</keyword>
<keyword>San Joaquin River</keyword>
<keyword>Bathymetry</keyword>
<keyword>Multibeam</keyword>
</searchKeys>
<resConst>
<LegConsts>
<useLimit>The Department of Water Resources makes no warranties or guarantees, either expressed or implied, as to the completeness, accuracy or correctness of the data, nor accepts or assumes any liability arising from or for any incorrect, incomplete or misleading subject data. The official CA-DWR GIS Data Steward for this dataset is Shawn Mayr, who may be contacted at 916-376-9664, or at Shawn.Mayr@water.ca.gov. Comments, problems, improvements, updates, or suggestions should be forwarded to the official GIS Data Steward.</useLimit>
</LegConsts>
</resConst>
<resConst>
<Consts>
<useLimit>&lt;DIV STYLE="text-align:Left;"&gt;&lt;DIV&gt;&lt;DIV&gt;&lt;P&gt;&lt;SPAN&gt;Not for use as a navigation aid. Do not share or publish this data without including proper attribution.&lt;/SPAN&gt;&lt;/P&gt;&lt;/DIV&gt;&lt;/DIV&gt;&lt;/DIV&gt;</useLimit>
</Consts>
</resConst>
<dataLang>
<languageCode value="eng">
</languageCode>
<countryCode Sync="TRUE" value="USA">
</countryCode>
</dataLang>
<dataExt>
<exDesc>The San Joaquin River from Fisherman's Cut on the East to the north west side of Bradford Island.</exDesc>
<tempEle>
<TempExtent>
<exTemp>
<TM_Period>
<tmBegin date="Please See Description/Abstract">2015-06-23T00:00:00</tmBegin>
<tmEnd date="Please See Description/Abstract">2015-06-23T00:00:00</tmEnd>
</TM_Period>
</exTemp>
</TempExtent>
</tempEle>
</dataExt>
<suppInfo>Equipment and Methodology
NCRO's multibeam bathymetry and positioning systems are composed of the following items: Multibeam Sonar Bathymetry System: • R2Sonic 2022 Multibeam Echo Sounder,
• Applanix POS MV WaveMaster - Inertial Measurement Unit (IMU), • Odom Hydrographic Digibar Pro Sound Velocimeter,
• Valeport Mini SVS Sound Velocimeter, and
• Oquawka 2072 Vessel RTK Positioning System: • Trimble R-8 GNSS GPS Real Time Kinematic (RTK) positioning system, and • Trimble TDL 450L Radio Field Practices: Field calibration tests (including multibeam patch tests, sound velocity readings, and RTK GPS observations) were regularly performed in order to ensure data quality and positional accuracy. Multibeam data were collected aboard an Oquawka 2072 Vessel and recorded using Hypack Hydrographic Survey software (Hypack). Data were processed using either Caris or Hypack, exported as XYZ text files, and imported as a raster in a geodatabase using ArcGIS software. For more detailed information please see the Data Quality Section.</suppInfo>
<dataChar>
<CharSetCd value="004">
</CharSetCd>
</dataChar>
<envirDesc Sync="TRUE"> Version 6.2 (Build 9200) ; Esri ArcGIS 10.5.1.7333</envirDesc>
<spatRpType>
<SpatRepTypCd Sync="TRUE" value="002">
</SpatRepTypCd>
</spatRpType>
<dataExt>
<geoEle>
<GeoBndBox esriExtentType="search">
<exTypeCode Sync="TRUE">1</exTypeCode>
<westBL Sync="TRUE">-121.667683</westBL>
<eastBL Sync="TRUE">-121.643078</eastBL>
<northBL Sync="TRUE">38.094799</northBL>
<southBL Sync="TRUE">38.082792</southBL>
</GeoBndBox>
</geoEle>
</dataExt>
<tpCat>
<TopicCatCd value="006">
</TopicCatCd>
</tpCat>
</dataIdInfo>
<dqInfo>
<dqScope>
<scpLvl>
<ScopeCd value="005">
</ScopeCd>
</scpLvl>
</dqScope>
<report dimension="" type="DQConcConsis">
<measDesc>These data are collected using advanced multibeam sonar and Real Time Kinematic (RTK) GPS technologies. They are believed to be logically consistent.</measDesc>
</report>
<report dimension="" type="DQCompOm">
<measDesc>During the survey, areas near the water's edge and areas of shallow water depth were occasionally occupied by aquatic vegetation. Dense aquatic vegetation interferes with the sounder's ability to record reliable bathymetric information. Therefore, in order to properly represent the bathymetry of the entire channel, elevation data in most areas of the channel occupied by dense aquatic vegetation were omitted from the final data set and appear as gaps in the data. </measDesc>
</report>
<report dimension="" type="DQQuanAttAcc">
<measDesc>Elevations are generally believed to be characteristic of the channel-bed; however, in some heavily vegetated areas, these data may be more indicative of the elevation of the submerged vegetation, rather than the “bare earth” surface. In deeper areas with low visibility, this discrepancy may not be immediately apparent. “Noisy” patterns in the data are investigated during data processing using Hypack Software. These patterns may signify dense submerged vegetation and are typically filtered.</measDesc>
<evalMethDesc>Ground truth measurements were taken each day of the survey to verify that the positioning and sonar instrumentation were functioning properly. Prior to the survey, CA-DWR Division of Engineering staff deployed an RTK GPS base station on benchmark "A 969 G", located at 2222204.197 ft. northing, 6235183.839 ft. easting, at an elevation of 11.93 ft. in CA State Plane ZIII. The proper functioning of the RTK system was verified by daily surveying of known locations. The observed values were compared with the established values and if inconsistency was discovered, adjustments were made.</evalMethDesc>
</report>
<report dimension="horizontal" type="DQAbsExtPosAcc">
<measDesc>Ground truth measurements were taken each day of the survey to verify that the positioning and sonar instrumentation were functioning properly. DWR NCRO did not experience any positional inconsistency with the information broadcasted by the base station GPS other than the inherent error of the Trimble R-8 RTK GPS: Horizontal Error 10mm + 1 ppm RMS. Error introduced from the motion of the vessel was corrected using the Applanix POS MV Wavemaster System. The documented error for the POS MV System is:
• Vertical Position +/- (15 mm + 1 ppm x baseline length)
• Roll and Pitch 0.02°
• Heave 5 cm or 5%</measDesc>
<evalMethDesc>Ground truth measurements were taken each day of the survey to verify that the positioning and sonar instrumentation were functioning properly. Prior to the survey, CA-DWR Division of Engineering staff deployed an RTK GPS base station on benchmark "A 969 G", located at 2222204.197 ft. northing, 6235183.839 ft. easting, at an elevation of 11.93 ft. in CA State Plane ZIII. The proper functioning of the RTK system was verified by daily surveying of known locations. The observed values were compared with the established values and if inconsistency was discovered, adjustments were made.</evalMethDesc>
<measResult>
<QuanResult>
<quanVal>10mm + 1 ppm RMS</quanVal>
<quanValUnit>
<UOM gmlID="" type="">
<unitSymbol>m</unitSymbol>
</UOM>
</quanValUnit>
</QuanResult>
</measResult>
</report>
<report dimension="vertical" type="DQAbsExtPosAcc">
<measDesc>Ground truth measurements were taken each day of the survey to verify that the positioning and sonar instrumentation were functioning properly. DWR NCRO did not experience any positional inconsistency with the information broadcasted by the base station GPS other than the inherent error of the Trimble R-8 RTK GPS: Vertical Error 20mm + 1 ppm RMS. Error introduced from the motion of the vessel was corrected using the Applanix POS MV Wavemaster System. The documented error for the POS MV System is:
• Vertical Position +/- (15 mm + 1 ppm x baseline length)
• Roll and Pitch 0.02°
• Heave 5 cm or 5%</measDesc>
<evalMethDesc>Ground truth measurements were taken each day of the survey to verify that the positioning and sonar instrumentation were functioning properly. Prior to the survey, CA-DWR Division of Engineering staff deployed an RTK GPS base station on benchmark "A 969 G", located at 2222204.197 ft. northing, 6235183.839 ft. easting, at an elevation of 11.93 ft. in CA State Plane ZIII. The proper functioning of the RTK system was verified by daily surveying of known locations. The observed values were compared with the established values and if inconsistency was discovered, adjustments were made.</evalMethDesc>
<measResult>
<QuanResult>
<quanVal>20mm + 1 ppm RMS</quanVal>
<quanValUnit>
<UOM gmlID="" type="">
<unitSymbol>m</unitSymbol>
</UOM>
</quanValUnit>
</QuanResult>
</measResult>
</report>
<dataLineage>
<dataSource type="">
<srcDesc>This is an original dataset produced by CA-DWR, Division of Integrated Regional Water Management (DIRWM), NCRO, Bathymetry and Technical Support Section. Hypack and Caris are the data collecting and processing software packages used by CA-DWR NCRO.</srcDesc>
</dataSource>
<prcStep>
<stepDesc>Raw multibeam data requires processing to become usable. Because of the significant computing resources needed for processing, the field crew breaks down the river stretch to be surveyed into manageable sections of approximately 1 hour of logged measuring time. Each section overlaps slightly to prevent missing data. After the survey, initial multibeam processing is performed with either Caris or Hysweep Editor within Hypack’s Hydrographic Survey software suite. One section of river is loaded at a time into the HYSWEEP Editor where calibration parameters are checked for accuracy and correctness. Erroneous data is then filtered out by the hydrographer. After all the sections collected during a day are reviewed and processed within Hysweep, they are combined together to create a single 1x1 or 3x3 foot grid for that day and exported to a daily XYZ text file. The daily text files are then brought into ESRI ArcGIS and further combined to create a final raster grid of the entire project area and reviewed for consistency. Metadata are established and the data are stored. The multibeam processing was completed on July 6th, 2015.</stepDesc>
<stepProc>
<rpIndName>Scott Flory</rpIndName>
<rpOrgName>Department of Water Resources, Division of Integrated Regional Water Management, North Central Region Office, Bathymetry and Technical Services</rpOrgName>
<rpPosName>Senior Environmental Scientist</rpPosName>
<rpCntInfo>
<cntPhone>
<voiceNum>916-376-9603</voiceNum>
<faxNum>916-376-9676</faxNum>
</cntPhone>
<cntAddress addressType="physical">
<delPoint>3500 Industrial Blvd</delPoint>
<city>West Sacramento</city>
<adminArea>CA</adminArea>
<postCode>95691</postCode>
<country>US</country>
<eMailAdd>Scott.Flory@water.ca.gov</eMailAdd>
</cntAddress>
<cntHours>8AM-5PM Weekdays</cntHours>
</rpCntInfo>
<role>
<RoleCd value="009">
</RoleCd>
</role>
</stepProc>
<stepDateTm>2015-07-06T00:00:00</stepDateTm>
</prcStep>
</dataLineage>
</dqInfo>
<spatRepInfo>
<Georect>
<numDims>3</numDims>
<axisDimension type="001">
<dimSize>4286</dimSize>
<dimResol>
<value Sync="TRUE" uom="ftUS">1.000000</value>
</dimResol>
</axisDimension>
<axisDimension type="002">
<dimSize>7029</dimSize>
<dimResol>
<value Sync="TRUE" uom="ftUS">1.000000</value>
</dimResol>
</axisDimension>
<cellGeo>
<CellGeoCd Sync="TRUE" value="002">
</CellGeoCd>
</cellGeo>
<tranParaAv>False</tranParaAv>
<chkPtAv>False</chkPtAv>
<ptInPixel>
<PixOrientCd Sync="TRUE" value="001">
</PixOrientCd>
</ptInPixel>
<axisDimension type="003">
<dimSize>57</dimSize>
<dimResol>
<value uom="[ft_us]">
</value>
</dimResol>
</axisDimension>
<cornerPts>
<pos Sync="TRUE">6225641.769940 2218830.040017</pos>
</cornerPts>
<cornerPts>
<pos Sync="TRUE">6225641.769940 2223116.040017</pos>
</cornerPts>
<cornerPts>
<pos Sync="TRUE">6232670.769940 2223116.040017</pos>
</cornerPts>
<cornerPts>
<pos Sync="TRUE">6232670.769940 2218830.040017</pos>
</cornerPts>
<centerPt>
<pos Sync="TRUE">6229156.269940 2220973.040017</pos>
</centerPt>
</Georect>
</spatRepInfo>
<eainfo>
<overview>
<eaover>The pixel values in this raster dataset correspond to the elevation or z-value in the NAVD88 datum. Each cell contains one attribute value and location coordinates.</eaover>
<eadetcit>ESRI</eadetcit>
</overview>
</eainfo>
<mdHrLvName Sync="TRUE">dataset</mdHrLvName>
<refSysInfo>
<RefSystem>
<refSysID>
<identCode Sync="TRUE" code="2227">
</identCode>
<idCodeSpace Sync="TRUE">EPSG</idCodeSpace>
<idVersion Sync="TRUE">5.3(9.0.0)</idVersion>
</refSysID>
</RefSystem>
</refSysInfo>
<spdoinfo>
<rastinfo>
<rasttype Sync="TRUE">Pixel</rasttype>
<rowcount Sync="TRUE">4286</rowcount>
<colcount Sync="TRUE">7029</colcount>
<rastxsz Sync="TRUE">1.000000</rastxsz>
<rastysz Sync="TRUE">1.000000</rastysz>
<rastbpp Sync="TRUE">32</rastbpp>
<vrtcount Sync="TRUE">1</vrtcount>
<rastorig Sync="TRUE">Upper Left</rastorig>
<rastcmap Sync="TRUE">FALSE</rastcmap>
<rastcomp Sync="TRUE">LZ77</rastcomp>
<rastband Sync="TRUE">1</rastband>
<rastdtyp Sync="TRUE">pixel codes</rastdtyp>
<rastifor Sync="TRUE">FGDBR</rastifor>
<rastplyr Sync="TRUE">TRUE</rastplyr>
</rastinfo>
</spdoinfo>
<spref>
<horizsys>
<planar>
<planci>
<plance Sync="TRUE">row and column</plance>
<coordrep>
<absres Sync="TRUE">1.000000</absres>
<ordres Sync="TRUE">1.000000</ordres>
</coordrep>
</planci>
</planar>
</horizsys>
</spref>
<mdDateSt Sync="TRUE">20190618</mdDateSt>
<contInfo>
<ImgDesc>
<contentTyp>
<ContentTypCd Sync="TRUE" value="001">
</ContentTypCd>
</contentTyp>
<covDim>
<Band>
<dimDescrp Sync="TRUE">Band_1</dimDescrp>
<maxVal Sync="TRUE">-0.230000</maxVal>
<minVal Sync="TRUE">-57.250000</minVal>
<bitsPerVal Sync="TRUE">32</bitsPerVal>
<valUnit>
<UOM type="length">
</UOM>
</valUnit>
</Band>
</covDim>
</ImgDesc>
</contInfo>
</metadata>
