{
 "currentVersion": 11.3,
 "serviceDescription": "This is an official DWR Image Service, which meets all appropriate requirements of the DWR Spatial Data Standards, specifically the DWR Spatial Data Standard version 3.6, dated September 27, 2023. This archived dataset was developed by DWR for its internal use. This data is not suitable for property boundary determination, construction layout, legal descriptions, or any other professional land surveying or legal purpose. The data represents estimates of past conditions and measurements, may contain errors, and is no longer representative of current conditions. Neither the State of California, its agents, nor its employees, make any warranty, representation or guarantee, express or implied; nor assumes any liability or responsibility for the accuracy, completeness, or usefulness of this data.This Image Service was published on 02/24/2026 by Bianca Pertl of the DWR Division of Engineering, who may be contacted at 916-757-3593, or at bianca.pertl@water.ca.gov. Comments, problems, improvements, updates, or suggestions should be forwarded to the official DWR point of contact as available and appropriate.The California Department of Water Resources (CA-DWR), North Central Region Office (NCRO), Bathymetry Data Collection Section, conducted a bathymetric survey of Middle River from the conlfuence with Old River to Union Point. The main purpose of the data is to improve knowledge about water circulation and conveyance in the South Delta. The survey took place between March7th and March 13th, 2017 using multibeam echo sounder technology. The data were positionally corrected using Inertially Aided Post-Processed Kinematic (IAPPK) procedures. \u2022 Field Dates: March 7, March 8, March 9, March 13, 2017 \u2022 Survey Type: Multibeam \u2022 Data Density: 1 foot grid \u2022 Horizontal Datum: North American Datum of 1983 (NAD83) California Coordinate System (CCS83) State Plane Zone 3, US feet \u2022 Vertical Datum: North American Vertical Datum of 1988 (NAVD88) geoid 12A, US feet \u2022 Processing Epoch: 2017.197; CSRC Datum Epoch: 2010 \u2022 Related Datasets: Middle River 2011, Victoria Canal 2011, Old River 2013, Middle River South 2022, Old River @ Union Island 2022, Victoria Canal 2022, Paradise Cut 2022, Tom Paine Slough 2022, Old River 2022, Middle River South 2023, Middle River @ Undine 2024 \u2022 Involved Staff: Data collected and processed by NCRO Bathymetry and Hydrography sections \u2022 Survey Responsible Charge: Jacob Wright, PLS (CA 8717) Please see associated survey report for full control and QC check details. For complete metadata make sure the viewer (ArcGIS or other software) is set to view FGDC metadata.",
 "name": "Bathymetry/Bathy_NCRO_20170313_MiddlerRiver_at_OldRiver",
 "description": "",
 "extent": {
  "xmin": 6276035.947888082,
  "ymin": 2122656.2020239867,
  "xmax": 6309553.947888082,
  "ymax": 2148993.2020239867,
  "spatialReference": {
   "wkt": "PROJCS[\"NAD_1983_California_zone_3\",GEOGCS[\"GCS_North_American_1983\",DATUM[\"D_North_American_1983\",SPHEROID[\"GRS_1980\",6378137.0,298.257222101]],PRIMEM[\"Greenwich\",0.0],UNIT[\"degree (supplier to define representation)\",0.0174532925199433]],PROJECTION[\"Lambert_Conformal_Conic\"],PARAMETER[\"False_Easting\",6561666.66666667],PARAMETER[\"False_Northing\",1640416.66666667],PARAMETER[\"Central_Meridian\",-120.5],PARAMETER[\"Standard_Parallel_1\",37.0666666666667],PARAMETER[\"Standard_Parallel_2\",38.4333333333333],PARAMETER[\"Latitude_Of_Origin\",36.5],UNIT[\"Foot_US\",0.3048006096012192]]"
  }
 },
 "initialExtent": {
  "xmin": 6276035.947888082,
  "ymin": 2122656.2020239867,
  "xmax": 6309553.947888082,
  "ymax": 2148993.2020239867,
  "spatialReference": {
   "wkt": "PROJCS[\"NAD_1983_California_zone_3\",GEOGCS[\"GCS_North_American_1983\",DATUM[\"D_North_American_1983\",SPHEROID[\"GRS_1980\",6378137.0,298.257222101]],PRIMEM[\"Greenwich\",0.0],UNIT[\"degree (supplier to define representation)\",0.0174532925199433]],PROJECTION[\"Lambert_Conformal_Conic\"],PARAMETER[\"False_Easting\",6561666.66666667],PARAMETER[\"False_Northing\",1640416.66666667],PARAMETER[\"Central_Meridian\",-120.5],PARAMETER[\"Standard_Parallel_1\",37.0666666666667],PARAMETER[\"Standard_Parallel_2\",38.4333333333333],PARAMETER[\"Latitude_Of_Origin\",36.5],UNIT[\"Foot_US\",0.3048006096012192]]"
  }
 },
 "fullExtent": {
  "xmin": 6276035.947888082,
  "ymin": 2122656.2020239867,
  "xmax": 6309553.947888082,
  "ymax": 2148993.2020239867,
  "spatialReference": {
   "wkt": "PROJCS[\"NAD_1983_California_zone_3\",GEOGCS[\"GCS_North_American_1983\",DATUM[\"D_North_American_1983\",SPHEROID[\"GRS_1980\",6378137.0,298.257222101]],PRIMEM[\"Greenwich\",0.0],UNIT[\"degree (supplier to define representation)\",0.0174532925199433]],PROJECTION[\"Lambert_Conformal_Conic\"],PARAMETER[\"False_Easting\",6561666.66666667],PARAMETER[\"False_Northing\",1640416.66666667],PARAMETER[\"Central_Meridian\",-120.5],PARAMETER[\"Standard_Parallel_1\",37.0666666666667],PARAMETER[\"Standard_Parallel_2\",38.4333333333333],PARAMETER[\"Latitude_Of_Origin\",36.5],UNIT[\"Foot_US\",0.3048006096012192]]"
  }
 },
 "sortableFields": "MinPS,MaxPS,LowPS,HighPS,CenterX,CenterY,ZOrder,Shape_Length,Shape_Area,DateFrom,DateTo",
 "bandCount": 1,
 "pixelType": "F32",
 "minValues": [
  -20.85000038147
 ],
 "maxValues": [
  7.4099998474121
 ],
 "meanValues": [
  -1.5496128226585
 ],
 "stdvValues": [
  3.0527631784438
 ],
 "hasMultidimensions": false,
 "pixelSizeX": 1,
 "pixelSizeY": 1,
 "meanPixelSize": 0.30480060960121924,
 "datasetFormat": "TIFF",
 "uncompressedSize": 3531054264,
 "blockWidth": 512,
 "blockHeight": 512,
 "compressionType": "LZW",
 "bandNames": [
  "Band_1"
 ],
 "allowCopy": true,
 "allowAnalysis": true,
 "itemAccess": false,
 "inspectionCapabilities": "",
 "noDataValue": -3.4028230607370965E38,
 "noDataValues": [
  -3.4028230607370965E38
 ],
 "minPixelSize": 0,
 "maxPixelSize": 0,
 "copyrightText": "California Department of Water Resources, Division of Regional Assistance, North Central Region Office, Hydrography and Technical Support.",
 "serviceDataType": "esriImageServiceDataTypeGeneric",
 "serviceSourceType": "esriImageServiceSourceTypeDataset",
 "objectIdField": "",
 "fields": [],
 "capabilities": "Image,Metadata,Mensuration",
 "defaultMosaicMethod": "Center",
 "allowedMosaicMethods": "",
 "sortField": "",
 "sortValue": null,
 "sortAscending": true,
 "mosaicOperator": "First",
 "defaultCompressionQuality": 75,
 "defaultResamplingMethod": "Bilinear",
 "maxImageHeight": 4100,
 "maxImageWidth": 15000,
 "allowRasterFunction": true,
 "rasterFunctionInfos": [
  {
   "name": "DW_SacRioVista_CASP2_ColorRamp",
   "description": "color ramp 2",
   "help": ""
  },
  {
   "name": "None",
   "description": "Make a Raster or Raster Dataset into a Function Raster Dataset.",
   "help": ""
  }
 ],
 "rasterTypeInfos": [
  {
   "name": "Raster Dataset",
   "description": "Supports all ArcGIS Raster Datasets",
   "help": ""
  }
 ],
 "mensurationCapabilities": "Basic",
 "hasHistograms": true,
 "hasColormap": false,
 "hasRasterAttributeTable": false,
 "minScale": 0,
 "maxScale": 0,
 "exportTilesAllowed": false,
 "supportsStatistics": false,
 "supportsAdvancedQueries": false,
 "editFieldsInfo": null,
 "ownershipBasedAccessControlForRasters": null,
 "allowComputeTiePoints": false,
 "useStandardizedQueries": true,
 "advancedQueryCapabilities": {
  "useStandardizedQueries": true,
  "supportsStatistics": false,
  "supportsOrderBy": false,
  "supportsDistinct": false,
  "supportsPagination": false
 },
 "spatialReference": {
  "wkt": "PROJCS[\"NAD_1983_California_zone_3\",GEOGCS[\"GCS_North_American_1983\",DATUM[\"D_North_American_1983\",SPHEROID[\"GRS_1980\",6378137.0,298.257222101]],PRIMEM[\"Greenwich\",0.0],UNIT[\"degree (supplier to define representation)\",0.0174532925199433]],PROJECTION[\"Lambert_Conformal_Conic\"],PARAMETER[\"False_Easting\",6561666.66666667],PARAMETER[\"False_Northing\",1640416.66666667],PARAMETER[\"Central_Meridian\",-120.5],PARAMETER[\"Standard_Parallel_1\",37.0666666666667],PARAMETER[\"Standard_Parallel_2\",38.4333333333333],PARAMETER[\"Latitude_Of_Origin\",36.5],UNIT[\"Foot_US\",0.3048006096012192]]"
 }
}
