<?xml version="1.0" encoding="UTF-8" standalone="no"?>
<metadata xml:lang="en">
<Esri>
<CreaDate>20250528</CreaDate>
<CreaTime>08372300</CreaTime>
<ArcGISFormat>1.0</ArcGISFormat>
<SyncOnce>FALSE</SyncOnce>
<DataProperties>
<itemProps>
<itemName Sync="TRUE">Bathy_NCRO_20180921_SacramentoRvr_at_TwentymileBar_COG.tif</itemName>
<imsContentType Sync="TRUE">002</imsContentType>
<nativeExtBox>
<westBL Sync="TRUE">6590440.140000</westBL>
<eastBL Sync="TRUE">6592070.140000</eastBL>
<southBL Sync="TRUE">2158039.510000</southBL>
<northBL Sync="TRUE">2161779.510000</northBL>
<exTypeCode Sync="TRUE">1</exTypeCode>
</nativeExtBox>
</itemProps>
<coordRef>
<type Sync="TRUE">Projected</type>
<geogcsn Sync="TRUE">GCS_North_American_1983</geogcsn>
<csUnits Sync="TRUE">Linear Unit: Foot_US (0.304801)</csUnits>
<projcsn Sync="TRUE">NAD_1983_StatePlane_California_II_FIPS_0402_Feet</projcsn>
<peXml Sync="TRUE">&lt;ProjectedCoordinateSystem xsi:type='typens:ProjectedCoordinateSystem' xmlns:xsi='http://www.w3.org/2001/XMLSchema-instance' xmlns:xs='http://www.w3.org/2001/XMLSchema' xmlns:typens='http://www.esri.com/schemas/ArcGIS/3.4.0'&gt;&lt;WKT&gt;PROJCS[&amp;quot;NAD_1983_StatePlane_California_II_FIPS_0402_Feet&amp;quot;,GEOGCS[&amp;quot;GCS_North_American_1983&amp;quot;,DATUM[&amp;quot;D_North_American_1983&amp;quot;,SPHEROID[&amp;quot;GRS_1980&amp;quot;,6378137.0,298.257222101]],PRIMEM[&amp;quot;Greenwich&amp;quot;,0.0],UNIT[&amp;quot;Degree&amp;quot;,0.0174532925199433]],PROJECTION[&amp;quot;Lambert_Conformal_Conic&amp;quot;],PARAMETER[&amp;quot;False_Easting&amp;quot;,6561666.666666666],PARAMETER[&amp;quot;False_Northing&amp;quot;,1640416.666666667],PARAMETER[&amp;quot;Central_Meridian&amp;quot;,-122.0],PARAMETER[&amp;quot;Standard_Parallel_1&amp;quot;,38.33333333333334],PARAMETER[&amp;quot;Standard_Parallel_2&amp;quot;,39.83333333333334],PARAMETER[&amp;quot;Latitude_Of_Origin&amp;quot;,37.66666666666666],UNIT[&amp;quot;Foot_US&amp;quot;,0.3048006096012192],AUTHORITY[&amp;quot;EPSG&amp;quot;,2226]]&lt;/WKT&gt;&lt;XOrigin&gt;-115211800&lt;/XOrigin&gt;&lt;YOrigin&gt;-93821500&lt;/YOrigin&gt;&lt;XYScale&gt;36983428.057351544&lt;/XYScale&gt;&lt;ZOrigin&gt;-100000&lt;/ZOrigin&gt;&lt;ZScale&gt;10000&lt;/ZScale&gt;&lt;MOrigin&gt;-100000&lt;/MOrigin&gt;&lt;MScale&gt;10000&lt;/MScale&gt;&lt;XYTolerance&gt;0.0032808333333333331&lt;/XYTolerance&gt;&lt;ZTolerance&gt;0.001&lt;/ZTolerance&gt;&lt;MTolerance&gt;0.001&lt;/MTolerance&gt;&lt;HighPrecision&gt;true&lt;/HighPrecision&gt;&lt;WKID&gt;102642&lt;/WKID&gt;&lt;LatestWKID&gt;2226&lt;/LatestWKID&gt;&lt;/ProjectedCoordinateSystem&gt;</peXml>
</coordRef>
<RasterProperties>
<General>
<PixelDepth Sync="TRUE">32</PixelDepth>
<HasColormap Sync="TRUE">FALSE</HasColormap>
<CompressionType Sync="TRUE">LZW</CompressionType>
<NumBands Sync="TRUE">1</NumBands>
<Format Sync="TRUE">TIFF</Format>
<HasPyramids Sync="TRUE">TRUE</HasPyramids>
<SourceType Sync="TRUE">continuous</SourceType>
<PixelType Sync="TRUE">floating point</PixelType>
<NoDataValue Sync="TRUE">-3.4028231e+38</NoDataValue>
</General>
</RasterProperties>
</DataProperties>
<SyncDate>20250529</SyncDate>
<SyncTime>07390000</SyncTime>
<ModDate>20260813</ModDate>
<ModTime>12461700</ModTime>
<scaleRange>
<minScale>150000000</minScale>
<maxScale>5000</maxScale>
</scaleRange>
<ArcGISProfile>FGDC</ArcGISProfile>
</Esri>
<mdChar>
<CharSetCd value="004">
</CharSetCd>
</mdChar>
<mdHrLv>
<ScopeCd value="005">
</ScopeCd>
</mdHrLv>
<mdContact>
<rpIndName>Lillian Hayden</rpIndName>
<rpOrgName>Department of Water Resources, Division of Regional Assistance, North Central Region Office, Hydrography and Technical Support</rpOrgName>
<rpPosName>Environmental Scientist</rpPosName>
<rpCntInfo>
<cntPhone>
<voiceNum>916-376-1979</voiceNum>
</cntPhone>
<cntAddress addressType="physical">
<delPoint>3500 Industrial Blvd</delPoint>
<city>West Sacramento</city>
<adminArea>CA</adminArea>
<postCode>95691</postCode>
<country>US</country>
<eMailAdd>Lillian.Hayden@water.ca.gov</eMailAdd>
</cntAddress>
</rpCntInfo>
<role>
<RoleCd value="007">
</RoleCd>
</role>
</mdContact>
<mdDateSt Sync="TRUE">20260813</mdDateSt>
<mdStanName>ArcGIS Metadata</mdStanName>
<mdStanVer>1.0</mdStanVer>
<distInfo>
<distributor>
<distorCont>
<rpIndName>Shawn Mayr</rpIndName>
<rpOrgName>Department of Water Resources, Division of Regional Assistance, North Central Region Office, Hydrography and Technical Support</rpOrgName>
<rpPosName>Senior Engineer</rpPosName>
<rpCntInfo>
<cntPhone>
<voiceNum>916-376-9664</voiceNum>
</cntPhone>
<cntAddress addressType="physical">
<delPoint>3500 Industrial Blvd</delPoint>
<city>West Sacramento</city>
<adminArea>CA</adminArea>
<postCode>95691</postCode>
<country>US</country>
<eMailAdd>Shawn.Mayr@water.ca.gov</eMailAdd>
</cntAddress>
<cntHours>8AM-5PM Mon-Fri</cntHours>
<cntInstr>Call or email</cntInstr>
</rpCntInfo>
<role>
<RoleCd value="005">
</RoleCd>
</role>
</distorCont>
<distorOrdPrc>
<resFees>To be determined.</resFees>
<ordInstr>Call or email data request.</ordInstr>
</distorOrdPrc>
<distorFormat>
<formatName>Raster</formatName>
</distorFormat>
</distributor>
<distFormat>
<formatName Sync="TRUE">Raster Dataset</formatName>
</distFormat>
</distInfo>
<dataIdInfo>
<idCitation>
<resTitle>Bathy_NCRO_20180921_SacramentoRvr_at_TwentymileBar</resTitle>
<date>
<pubDate>2019-09-30</pubDate>
</date>
<resEd>Original</resEd>
<citRespParty>
<rpOrgName>Department of Water Resources, Division of Regional Assistance, North Central Region Office, Hydrography and Technical Support, Shawn Mayr, Senior Engineer</rpOrgName>
<role>
<RoleCd value="006">
</RoleCd>
</role>
</citRespParty>
<presForm>
<PresFormCd value="005">
</PresFormCd>
</presForm>
<presForm>
<fgdcGeoform>Raster Digital Data</fgdcGeoform>
</presForm>
<datasetSeries>
<seriesName>CA-DWR NCRO Delta Bathymetry</seriesName>
<issId>Sacramento River, September 2018</issId>
</datasetSeries>
</idCitation>
<idAbs>&lt;div style='text-align:Left;'&gt;&lt;div&gt;&lt;div&gt;&lt;p&gt;&lt;span&gt;This archived dataset was developed by DWR for its internal use. This data is not suitable for property boundary determination, construction layout, legal descriptions, or any other professional land surveying or legal purpose. The data represents estimates of past conditions and measurements, may contain errors, and is no longer representative of current conditions. Neither the State of California, its agents, nor its employees, make any warranty, representation or guarantee, express or implied; nor assumes any liability or responsibility for the accuracy, completeness, or usefulness of this data.&lt;/span&gt;&lt;/p&gt;&lt;p&gt;&lt;span&gt;The California Department of Water Resources (DWR), North Central Region Office (NCRO), Bathymetry Data Collection Section, conducted a bathymetric survey of the Sacramento River South of Meridian near Twentymile Bar for the Division of Engineering Geodedic Branch. The main purpose of this data is to support a levee stability study.• Survey Dates: September 21, 2018 • Instrumentation: Multibeam echo sounder with Inertially-Aided Post-Processed Kinematic (IAPPK) GPS procedures• Density: 1 ft grid • Datum: NAD83 (California State Plane Zone II) horizontal, NAVD88 vertical&lt;/span&gt;&lt;/p&gt;&lt;/div&gt;&lt;/div&gt;&lt;/div&gt;</idAbs>
<idPurp>This bathymetric dataset is intended to be used as a base component of studies in the Sacramento-San Joaquin Delta.
This is an official DWR Image Service, which meets all appropriate requirements of the DWR Spatial Data Standards, specifically the DWR Spatial Data Standard version 3.6, dated September 27, 2023.
DWR makes no warranties or guarantees — either expressed or implied — as to the completeness, accuracy, or correctness of the data. DWR neither accepts nor assumes liability arising from or for any incorrect, incomplete, or misleading subject data.
This Image Service was published on 5/30/2025, by Bianca Pertl of the DWR Division of Engineering, who may be contacted at 916-757-3593, or at bianca.pertl@water.ca.gov. Comments, problems, improvements, updates, or suggestions should be forwarded to the official DWR point of contact as available and appropriate.</idPurp>
<idCredit>California Department of Water Resources, Division of Regional Assistance, North Central Region Office, Hydrography and Technical Support Section.</idCredit>
<idStatus>
<ProgCd value="001">
</ProgCd>
</idStatus>
<idPoC>
<rpIndName>Shawn Mayr</rpIndName>
<rpOrgName>Department of Water Resources, Division of Regional Assistance, North Central Region Office, Hydrography and Technical Support</rpOrgName>
<rpPosName>Senior Engineer</rpPosName>
<rpCntInfo>
<cntPhone>
<voiceNum>916-376-9664</voiceNum>
</cntPhone>
<cntAddress addressType="physical">
<delPoint>3500 Industrial Blvd.</delPoint>
<city>West Sacramento</city>
<adminArea>CA</adminArea>
<postCode>95691</postCode>
<country>US</country>
<eMailAdd>Shawn.Mayr@water.ca.gov</eMailAdd>
</cntAddress>
<cntHours>8AM-5PM Weekdays</cntHours>
<cntInstr>Call or Email</cntInstr>
</rpCntInfo>
<role>
<RoleCd value="007">
</RoleCd>
</role>
</idPoC>
<resMaint>
<maintFreq>
<MaintFreqCd value="009">
</MaintFreqCd>
</maintFreq>
</resMaint>
<placeKeys>
<keyword>Sacramento River</keyword>
</placeKeys>
<tempKeys>
<keyword>September, 2018</keyword>
</tempKeys>
<themeKeys>
<keyword>Bathymetry</keyword>
<keyword>Multibeam</keyword>
<keyword>Sonar</keyword>
</themeKeys>
<themeKeys>
<thesaName>
<resTitle>ISO 19115 Topic Categories</resTitle>
</thesaName>
<keyword>Elevation</keyword>
<keyword>Inland Waters</keyword>
</themeKeys>
<searchKeys>
<keyword>Bathymetry</keyword>
<keyword>Multibeam</keyword>
<keyword>Sonar</keyword>
<keyword>Elevation</keyword>
<keyword>Inland Waters</keyword>
<keyword>Sacramento River</keyword>
<keyword>September</keyword>
<keyword>2018</keyword>
</searchKeys>
<resConst>
<Consts>
<useLimit>&lt;div style='text-align:Left;'&gt;&lt;div&gt;&lt;div&gt;&lt;p&gt;&lt;span&gt;Not to be used for navigation.&lt;/span&gt;&lt;/p&gt;&lt;/div&gt;&lt;/div&gt;&lt;/div&gt;</useLimit>
</Consts>
</resConst>
<resConst>
<LegConsts>
<useLimit>The Department of Water Resources makes no warranties, representations or guarantees, either expressed or implied, as to the completeness, accuracy or correctness of the data, nor accepts or assumes any liability arising from its use. Any comments, problems, improvements, updates, or suggestions should be forwarded to the distribution contact for this dataset as detailed in these metadata.</useLimit>
</LegConsts>
</resConst>
<spatRpType>
<SpatRepTypCd value="002">
</SpatRepTypCd>
</spatRpType>
<envirDesc> Version 6.2 (Build 9200) ; Esri ArcGIS 10.7.0.10450</envirDesc>
<dataExt>
<geoEle>
<GeoBndBox>
<exTypeCode>true</exTypeCode>
<westBL>-121.898624</westBL>
<eastBL>-121.892866</eastBL>
<northBL>39.098190</northBL>
<southBL>39.087916</southBL>
</GeoBndBox>
</geoEle>
</dataExt>
<dataExt>
<exDesc>Sacramento River South of Meridian near Twentymile Bar</exDesc>
</dataExt>
<suppInfo>Equipment and Methodology Survey Vessel: 20 ft Oquawka 2072 Multibeam Sonar Bathymetry System: Sonar: Reson T20-P Dual-Head MBES // Position/GPS: Applanix POS MV OceanMaster // Motion control: Applanix POS MV OceanMaster // Sound velocity: AML Base X2 Sound Velocity Profiler Field Practices: Field calibration tests (including multibeam patch tests, sound velocity readings, and GPS observations) were regularly performed in order to ensure data quality and positional accuracy. Multibeam data were collected on the survey vessel and recorded using Hypack Hydrographic Survey software (Hypack). Data were processed with either Caris or Hypack software packages, exported as a raster dataset, and imported to a geodatabase with ArcGIS software. For more detailed information please see the Data Quality Section.</suppInfo>
<dataLang>
<languageCode Sync="TRUE" value="eng">
</languageCode>
<countryCode Sync="TRUE" value="USA">
</countryCode>
</dataLang>
<dataExt>
<geoEle>
<GeoBndBox esriExtentType="search">
<exTypeCode Sync="TRUE">1</exTypeCode>
<westBL Sync="TRUE">-121.898624</westBL>
<eastBL Sync="TRUE">-121.892866</eastBL>
<northBL Sync="TRUE">39.098190</northBL>
<southBL Sync="TRUE">39.087916</southBL>
</GeoBndBox>
</geoEle>
</dataExt>
<tpCat>
<TopicCatCd value="006">
</TopicCatCd>
</tpCat>
<tpCat>
<TopicCatCd value="012">
</TopicCatCd>
</tpCat>
</dataIdInfo>
<dqInfo>
<dqScope>
<scpLvl>
<ScopeCd value="005">
</ScopeCd>
</scpLvl>
</dqScope>
<report type="DQQuanAttAcc">
<measDesc>Elevations are generally believed to be characteristic of the channel-bed; however, in some heavily vegetated areas, these data may be more indicative of the elevation of the submerged vegetation, rather than the “bare earth” surface. In deeper areas with low visibility, this discrepancy may not be immediately apparent. “Noisy” patterns in the data are investigated during data processing; these patterns may signify dense submerged vegetation and are typically filtered.</measDesc>
<evalMethDesc>GPS post processing was completed using Continuously Operating Reference Stations (CORS) and the National Geodetic Survey website at http://www.ngs.noaa.gov/CORS/.</evalMethDesc>
</report>
<report type="DQConcConsis">
<measDesc>These data were collected using advanced multibeam sonar and GPS technologies. They are believed to be logically consistent. Visual inspection was conducted and data were reviewed in ArcGIS software packages.</measDesc>
</report>
<report type="DQCompOm">
<measDesc>Because multibeam echosounder technology is much less efficient at gathering complete surface coverage in shallow water, these areas are often omitted. Subsequent singlebeam surveys may be conducted to fill in these gaps -- if so they will be listed under "related datasets" in the abstract. Dense aquatic vegetation also interferes with the sounder's ability to record reliable bathymetric information. Therefore, in order to properly represent the bathymetry of the entire channel, elevation data in most areas of the channel occupied by dense aquatic vegetation were omitted from the final data set and appear as gaps in the data.</measDesc>
</report>
<report dimension="horizontal" type="DQAbsExtPosAcc">
<measDesc>Documented horizontal accuracy: Reson T20-P: 6 mm resolution // POS MV System: 8 mm + 1 ppm x baseline length, Roll and Pitch 0.015°, Heading 0.03° // AML Base X2 SVP: n/a</measDesc>
<evalMethDesc>GPS post processing was completed using Continuously Operating Reference Stations (CORS) and the National Geodetic Survey website at http://www.ngs.noaa.gov/CORS/.</evalMethDesc>
</report>
<report dimension="vertical" type="DQAbsExtPosAcc">
<measDesc>Documented vertical accuracy: Reson T20-P: 6 mm resolution // POS MV System: 15 mm + 1 ppm x baseline length, Heave 5 cm or 5% // AML Base X2 SVP: 0.025 m/s</measDesc>
<evalMethDesc>GPS post processing was completed using Continuously Operating Reference Stations (CORS) and the National Geodetic Survey website at http://www.ngs.noaa.gov/CORS/.</evalMethDesc>
</report>
<dataLineage>
<prcStep>
<stepDesc>This data set is comprised of elevation points collected using multibeam sonar bathymetry equipment corrected with GPS position data. Raw multibeam data requires processing to become usable. Because sound velocity varies both temporally and spatially, the field crew breaks down the river stretch to be surveyed into manageable sections of approximately 1 hour of logged survey time. Each section overlaps slightly to prevent missing data. After the survey, initial multibeam processing is performed with either Caris HIPS and SIPS software or HYSWEEP Editor within the Hypack Hydrographic Survey software suite. The multibeam point cloud is loaded into the review software a section at a time and calibration parameters are checked for accuracy and consistency. Erroneous data, outliers and submerged aquatic vegetation are then filtered out by the hydrographer. Once all sections collected during a survey have been reviewed and processed, they are combined together to create a single seamless surface and exported in bag raster format. These rasters are imported in ArcGIS Desktop and reviewed for consistency. Further products and analyses are carried out upon request. Metadata are established and the data are stored. Data processing was completed in April 2019.</stepDesc>
<stepProc>
<rpIndName>Scott Flory</rpIndName>
<rpOrgName>Department of Water Resources, Division of Regional Assistance, North Central Region Office, Bathymetry Data Collection</rpOrgName>
<rpPosName>Senior Environmental Scientist</rpPosName>
<rpCntInfo>
<cntPhone>
<voiceNum>916-376-9603</voiceNum>
</cntPhone>
<cntAddress addressType="physical">
<delPoint>3500 Industrial Blvd.</delPoint>
<city>West Sacramento</city>
<adminArea>CA</adminArea>
<postCode>95691</postCode>
<country>US</country>
<eMailAdd>Scott.Flory@water.ca.gov</eMailAdd>
</cntAddress>
<cntHours>8AM-5PM Weekdays</cntHours>
<cntInstr>Call or Email</cntInstr>
</rpCntInfo>
<role>
<RoleCd value="009">
</RoleCd>
</role>
</stepProc>
</prcStep>
<dataSource>
<srcDesc>This is an original dataset produced by the California Department of Water Resources, Division of Regional Assistance, North Central Region Office, Hydrography and Technical Support Section.</srcDesc>
<srcMedName>
<MedNameCd value="none">
</MedNameCd>
</srcMedName>
<srcCitatn>
<citRespParty>
<rpOrgName>Department of Water Resources, Division of Regional Assistance, North Central Region Office, Hydrography and Technical Support</rpOrgName>
<role>
<RoleCd value="006">
</RoleCd>
</role>
</citRespParty>
</srcCitatn>
</dataSource>
</dataLineage>
</dqInfo>
<spatRepInfo>
<Georect>
<numDims>2</numDims>
<axisDimension type="001">
<dimSize>3740</dimSize>
<dimResol>
<value Sync="TRUE" uom="ftUS">1.000000</value>
</dimResol>
</axisDimension>
<axisDimension type="002">
<dimSize>1630</dimSize>
<dimResol>
<value Sync="TRUE" uom="ftUS">1.000000</value>
</dimResol>
</axisDimension>
<cellGeo>
<CellGeoCd Sync="TRUE" value="002">
</CellGeoCd>
</cellGeo>
<tranParaAv Sync="TRUE">1</tranParaAv>
<chkPtAv Sync="TRUE">0</chkPtAv>
<cornerPts>
<pos Sync="TRUE">6590440.140000 2158039.510000</pos>
</cornerPts>
<cornerPts>
<pos Sync="TRUE">6590440.140000 2161779.510000</pos>
</cornerPts>
<cornerPts>
<pos Sync="TRUE">6592070.140000 2161779.510000</pos>
</cornerPts>
<cornerPts>
<pos Sync="TRUE">6592070.140000 2158039.510000</pos>
</cornerPts>
<centerPt>
<pos Sync="TRUE">6591255.140000 2159909.510000</pos>
</centerPt>
<ptInPixel>
<PixOrientCd Sync="TRUE" value="001">
</PixOrientCd>
</ptInPixel>
</Georect>
</spatRepInfo>
<eainfo>
<overview>
<eaover>The pixel values in this raster dataset correspond to the elevation or z-value in the stated vertical datum.</eaover>
</overview>
</eainfo>
<mdLang>
<languageCode Sync="TRUE" value="eng">
</languageCode>
<countryCode Sync="TRUE" value="USA">
</countryCode>
</mdLang>
<mdHrLvName Sync="TRUE">dataset</mdHrLvName>
<refSysInfo>
<RefSystem>
<refSysID>
<identCode Sync="TRUE" code="2226">
</identCode>
<idCodeSpace Sync="TRUE">EPSG</idCodeSpace>
<idVersion Sync="TRUE">5.3(9.0.0)</idVersion>
</refSysID>
</RefSystem>
</refSysInfo>
<contInfo>
<ImgDesc>
<contentTyp>
<ContentTypCd Sync="TRUE" value="001">
</ContentTypCd>
</contentTyp>
<covDim>
<Band>
<dimDescrp Sync="TRUE">Band_1</dimDescrp>
<maxVal Sync="TRUE">32.180000</maxVal>
<minVal Sync="TRUE">3.774610</minVal>
<bitsPerVal Sync="TRUE">32</bitsPerVal>
<valUnit>
<UOM type="length">
</UOM>
</valUnit>
</Band>
</covDim>
</ImgDesc>
</contInfo>
</metadata>
