{ "currentVersion": 11.3, "serviceDescription": "
This archived dataset was developed by DWR for its internal use. This data is not suitable for property boundary determination, construction layout, legal descriptions, or any other professional land surveying or legal purpose. The data represents estimates of past conditions and measurements, may contain errors, and is no longer representative of current conditions. Neither the State of California, its agents, nor its employees, make any warranty, representation or guarantee, express or implied; nor assumes any liability or responsibility for the accuracy, completeness, or usefulness of this data.<\/SPAN><\/P> The California Department of Water Resources (DWR), North Central Region Office (NCRO), Bathymetry Data Collection Section, conducted a bathymetric survey of the Sacramento River South of Meridian near Twentymile Bar for the Division of Engineering Geodedic Branch. The main purpose of this data is to support a levee stability study.\u2022 Survey Dates: September 21, 2018 \u2022 Instrumentation: Multibeam echo sounder with Inertially-Aided Post-Processed Kinematic (IAPPK) GPS procedures\u2022 Density: 1 ft grid \u2022 Datum: NAD83 (California State Plane Zone II) horizontal, NAVD88 vertical<\/SPAN><\/P><\/DIV><\/DIV><\/DIV>",
"name": "Bathymetry/Bathy_NCRO_20180921_SacramentoRvr_at_TwentymileBar",
"description": "",
"extent": {
"xmin": 6590440.14,
"ymin": 2158039.51,
"xmax": 6592070.14,
"ymax": 2161779.51,
"spatialReference": {"wkt": "PROJCS[\"NAD_1983_StatePlane_California_II_FIPS_0402_Feet\",GEOGCS[\"GCS_North_American_1983\",DATUM[\"D_North_American_1983\",SPHEROID[\"GRS_1980\",6378137.0,298.257222101]],PRIMEM[\"Greenwich\",0.0],UNIT[\"Degree\",0.0174532925199433]],PROJECTION[\"Lambert_Conformal_Conic\"],PARAMETER[\"False_Easting\",6561666.667],PARAMETER[\"False_Northing\",1640416.667],PARAMETER[\"Central_Meridian\",-122.0],PARAMETER[\"Standard_Parallel_1\",38.3333333333333],PARAMETER[\"Standard_Parallel_2\",39.8333333333333],PARAMETER[\"Latitude_Of_Origin\",37.6666666666667],UNIT[\"Foot_US\",0.3048006096012192]]"}
},
"initialExtent": {
"xmin": 6590440.14,
"ymin": 2158039.51,
"xmax": 6592070.14,
"ymax": 2161779.51,
"spatialReference": {"wkt": "PROJCS[\"NAD_1983_StatePlane_California_II_FIPS_0402_Feet\",GEOGCS[\"GCS_North_American_1983\",DATUM[\"D_North_American_1983\",SPHEROID[\"GRS_1980\",6378137.0,298.257222101]],PRIMEM[\"Greenwich\",0.0],UNIT[\"Degree\",0.0174532925199433]],PROJECTION[\"Lambert_Conformal_Conic\"],PARAMETER[\"False_Easting\",6561666.667],PARAMETER[\"False_Northing\",1640416.667],PARAMETER[\"Central_Meridian\",-122.0],PARAMETER[\"Standard_Parallel_1\",38.3333333333333],PARAMETER[\"Standard_Parallel_2\",39.8333333333333],PARAMETER[\"Latitude_Of_Origin\",37.6666666666667],UNIT[\"Foot_US\",0.3048006096012192]]"}
},
"fullExtent": {
"xmin": 6590440.14,
"ymin": 2158039.51,
"xmax": 6592070.14,
"ymax": 2161779.51,
"spatialReference": {"wkt": "PROJCS[\"NAD_1983_StatePlane_California_II_FIPS_0402_Feet\",GEOGCS[\"GCS_North_American_1983\",DATUM[\"D_North_American_1983\",SPHEROID[\"GRS_1980\",6378137.0,298.257222101]],PRIMEM[\"Greenwich\",0.0],UNIT[\"Degree\",0.0174532925199433]],PROJECTION[\"Lambert_Conformal_Conic\"],PARAMETER[\"False_Easting\",6561666.667],PARAMETER[\"False_Northing\",1640416.667],PARAMETER[\"Central_Meridian\",-122.0],PARAMETER[\"Standard_Parallel_1\",38.3333333333333],PARAMETER[\"Standard_Parallel_2\",39.8333333333333],PARAMETER[\"Latitude_Of_Origin\",37.6666666666667],UNIT[\"Foot_US\",0.3048006096012192]]"}
},
"sortableFields": "MinPS,MaxPS,LowPS,HighPS,CenterX,CenterY,ZOrder,Shape_Length,Shape_Area,DateFrom,DateTo",
"bandCount": 1,
"pixelType": "F32",
"minValues": [
3.7746095657349
],
"maxValues": [
32.180000305176
],
"meanValues": [
21.925278596518
],
"stdvValues": [
4.0779037561343
],
"hasMultidimensions": false,
"pixelSizeX": 1,
"pixelSizeY": 1,
"meanPixelSize": 0.30480060960121924,
"datasetFormat": "TIFF",
"uncompressedSize": 24384800,
"blockWidth": 512,
"blockHeight": 512,
"compressionType": "LZW",
"bandNames": [
"Band_1"
],
"allowCopy": true,
"allowAnalysis": true,
"itemAccess": false,
"inspectionCapabilities": "",
"noDataValue": -3.4028230607370965E38,
"noDataValues": [
-3.4028230607370965E38
],
"minPixelSize": 0,
"maxPixelSize": 0,
"copyrightText": "California Department of Water Resources, Division of Regional Assistance, North Central Region Office, Hydrography and Technical Support Section.",
"serviceDataType": "esriImageServiceDataTypeGeneric",
"serviceSourceType": "esriImageServiceSourceTypeDataset",
"objectIdField": "",
"fields": [],
"capabilities": "Image,Metadata,Mensuration",
"defaultMosaicMethod": "Center",
"allowedMosaicMethods": "",
"sortField": "",
"sortValue": null,
"sortAscending": true,
"mosaicOperator": "First",
"defaultCompressionQuality": 75,
"defaultResamplingMethod": "Bilinear",
"maxImageHeight": 4100,
"maxImageWidth": 15000,
"allowRasterFunction": true,
"rasterFunctionInfos": [
{
"name": "None",
"description": "Make a Raster or Raster Dataset into a Function Raster Dataset.",
"help": ""
},
{
"name": "DW_SacRioVista_CASP2_ColorRamp",
"description": "color ramp 2",
"help": ""
}
],
"rasterTypeInfos": [
{
"name": "Raster Dataset",
"description": "Supports all ArcGIS Raster Datasets",
"help": ""
}
],
"mensurationCapabilities": "Basic",
"hasHistograms": true,
"hasColormap": false,
"hasRasterAttributeTable": false,
"minScale": 0,
"maxScale": 0,
"exportTilesAllowed": false,
"supportsStatistics": false,
"supportsAdvancedQueries": false,
"editFieldsInfo": null,
"ownershipBasedAccessControlForRasters": null,
"allowComputeTiePoints": false,
"useStandardizedQueries": true,
"advancedQueryCapabilities": {
"useStandardizedQueries": true,
"supportsStatistics": false,
"supportsOrderBy": false,
"supportsDistinct": false,
"supportsPagination": false
},
"spatialReference": {"wkt": "PROJCS[\"NAD_1983_StatePlane_California_II_FIPS_0402_Feet\",GEOGCS[\"GCS_North_American_1983\",DATUM[\"D_North_American_1983\",SPHEROID[\"GRS_1980\",6378137.0,298.257222101]],PRIMEM[\"Greenwich\",0.0],UNIT[\"Degree\",0.0174532925199433]],PROJECTION[\"Lambert_Conformal_Conic\"],PARAMETER[\"False_Easting\",6561666.667],PARAMETER[\"False_Northing\",1640416.667],PARAMETER[\"Central_Meridian\",-122.0],PARAMETER[\"Standard_Parallel_1\",38.3333333333333],PARAMETER[\"Standard_Parallel_2\",39.8333333333333],PARAMETER[\"Latitude_Of_Origin\",37.6666666666667],UNIT[\"Foot_US\",0.3048006096012192]]"}
}