<?xml version="1.0" encoding="UTF-8" standalone="no"?>
<metadata xml:lang="en">
<Esri>
<CreaDate>20200115</CreaDate>
<CreaTime>06322300</CreaTime>
<ArcGISFormat>1.0</ArcGISFormat>
<ArcGISstyle>FGDC CSDGM Metadata</ArcGISstyle>
<SyncOnce>FALSE</SyncOnce>
<DataProperties>
<itemProps>
<itemName Sync="TRUE">Bathy_NCRO_20190819_SacramentoRvr_Lidar.tif</itemName>
<nativeExtBox>
<westBL Sync="TRUE">6251913.983609</westBL>
<eastBL Sync="TRUE">6276489.983609</eastBL>
<southBL Sync="TRUE">2306516.750601</southBL>
<northBL Sync="TRUE">2406231.750601</northBL>
<exTypeCode Sync="TRUE">1</exTypeCode>
</nativeExtBox>
<imsContentType Sync="TRUE">002</imsContentType>
</itemProps>
<coordRef>
<type Sync="TRUE">Projected</type>
<geogcsn Sync="TRUE">GCS_North_American_1983</geogcsn>
<csUnits Sync="TRUE">Linear Unit: Foot_US (0.304801)</csUnits>
<projcsn Sync="TRUE">NAD_1983_StatePlane_California_III_FIPS_0403_Feet</projcsn>
<peXml Sync="TRUE">&lt;ProjectedCoordinateSystem xsi:type='typens:ProjectedCoordinateSystem' xmlns:xsi='http://www.w3.org/2001/XMLSchema-instance' xmlns:xs='http://www.w3.org/2001/XMLSchema' xmlns:typens='http://www.esri.com/schemas/ArcGIS/10.7'&gt;&lt;WKT&gt;PROJCS[&amp;quot;NAD_1983_StatePlane_California_III_FIPS_0403_Feet&amp;quot;,GEOGCS[&amp;quot;GCS_North_American_1983&amp;quot;,DATUM[&amp;quot;D_North_American_1983&amp;quot;,SPHEROID[&amp;quot;GRS_1980&amp;quot;,6378137.0,298.257222101]],PRIMEM[&amp;quot;Greenwich&amp;quot;,0.0],UNIT[&amp;quot;Degree&amp;quot;,0.0174532925199433]],PROJECTION[&amp;quot;Lambert_Conformal_Conic&amp;quot;],PARAMETER[&amp;quot;False_Easting&amp;quot;,6561666.666666666],PARAMETER[&amp;quot;False_Northing&amp;quot;,1640416.666666667],PARAMETER[&amp;quot;Central_Meridian&amp;quot;,-120.5],PARAMETER[&amp;quot;Standard_Parallel_1&amp;quot;,37.06666666666667],PARAMETER[&amp;quot;Standard_Parallel_2&amp;quot;,38.43333333333333],PARAMETER[&amp;quot;Latitude_Of_Origin&amp;quot;,36.5],UNIT[&amp;quot;Foot_US&amp;quot;,0.3048006096012192],AUTHORITY[&amp;quot;EPSG&amp;quot;,2227]]&lt;/WKT&gt;&lt;XOrigin&gt;-115860600&lt;/XOrigin&gt;&lt;YOrigin&gt;-93269500&lt;/YOrigin&gt;&lt;XYScale&gt;36787427.345686711&lt;/XYScale&gt;&lt;ZOrigin&gt;-100000&lt;/ZOrigin&gt;&lt;ZScale&gt;10000&lt;/ZScale&gt;&lt;MOrigin&gt;-100000&lt;/MOrigin&gt;&lt;MScale&gt;10000&lt;/MScale&gt;&lt;XYTolerance&gt;0.0032808333333333331&lt;/XYTolerance&gt;&lt;ZTolerance&gt;0.001&lt;/ZTolerance&gt;&lt;MTolerance&gt;0.001&lt;/MTolerance&gt;&lt;HighPrecision&gt;true&lt;/HighPrecision&gt;&lt;WKID&gt;102643&lt;/WKID&gt;&lt;LatestWKID&gt;2227&lt;/LatestWKID&gt;&lt;/ProjectedCoordinateSystem&gt;</peXml>
</coordRef>
<RasterProperties>
<General>
<PixelDepth Sync="TRUE">32</PixelDepth>
<HasColormap Sync="TRUE">FALSE</HasColormap>
<CompressionType Sync="TRUE">None</CompressionType>
<NumBands Sync="TRUE">1</NumBands>
<Format Sync="TRUE">TIFF</Format>
<HasPyramids Sync="TRUE">TRUE</HasPyramids>
<SourceType Sync="TRUE">continuous</SourceType>
<PixelType Sync="TRUE">floating point</PixelType>
<NoDataValue Sync="TRUE">-3.4028231e+38</NoDataValue>
</General>
</RasterProperties>
</DataProperties>
<SyncDate>20200115</SyncDate>
<SyncTime>06455100</SyncTime>
<ModDate>20200115</ModDate>
<ModTime>06455100</ModTime>
<scaleRange>
<minScale>150000000</minScale>
<maxScale>5000</maxScale>
</scaleRange>
<ArcGISProfile>FGDC</ArcGISProfile>
</Esri>
<mdLang>
<languageCode value="eng">
</languageCode>
<countryCode Sync="TRUE" value="USA">
</countryCode>
</mdLang>
<mdChar>
<CharSetCd value="004">
</CharSetCd>
</mdChar>
<mdHrLv>
<ScopeCd value="005">
</ScopeCd>
</mdHrLv>
<mdContact>
<rpIndName>Lillian Hayden</rpIndName>
<rpPosName>Environmental Scientist</rpPosName>
<rpOrgName>Department of Water Resources, Division of Regional Assistance, North Central Region Office, Hydrography and Technical Support</rpOrgName>
<rpCntInfo>
<cntAddress addressType="both">
<delPoint>3500 Industrial Blvd.</delPoint>
<city>West Sacramento</city>
<adminArea>Ca</adminArea>
<postCode>95691</postCode>
<eMailAdd>lillian.hayden@water.ca.gov</eMailAdd>
<country>US</country>
</cntAddress>
<cntPhone>
<voiceNum>(916) 376-1979</voiceNum>
</cntPhone>
</rpCntInfo>
<displayName>Lillian Hayden</displayName>
<role>
<RoleCd value="007">
</RoleCd>
</role>
</mdContact>
<mdStanName>ArcGIS Metadata</mdStanName>
<mdStanVer>1.0</mdStanVer>
<distInfo>
<distributor>
<distorCont>
<rpIndName>Shawn Mayr</rpIndName>
<rpOrgName>Department of Water Resources, Division of Integrated Regional Water Management, North Central Region Office, Hydrography and Technical Support</rpOrgName>
<rpPosName>Senior Engineer</rpPosName>
<rpCntInfo>
<cntPhone>
<voiceNum>916-376-9664</voiceNum>
</cntPhone>
<cntAddress addressType="physical">
<delPoint>3500 Industrial Blvd</delPoint>
<city>West Sacramento</city>
<adminArea>CA</adminArea>
<postCode>95691</postCode>
<country>US</country>
<eMailAdd>Shawn.Mayr@water.ca.gov</eMailAdd>
</cntAddress>
<cntHours>8AM-5PM Mon-Fri</cntHours>
<cntInstr>Call or email</cntInstr>
</rpCntInfo>
<role>
<RoleCd value="005">
</RoleCd>
</role>
</distorCont>
<distorOrdPrc>
<resFees>To be determined.</resFees>
<ordInstr>Call or email data request.</ordInstr>
</distorOrdPrc>
</distributor>
<distFormat>
<formatName Sync="TRUE">Raster Dataset</formatName>
</distFormat>
</distInfo>
<dataIdInfo>
<idCitation>
<date>
<pubDate>2019-07-15T00:00:00</pubDate>
</date>
<resEd>Original</resEd>
<citRespParty>
<rpOrgName>Department of Water Resources, Division of Integrated Regional Water Management, North Central Region Office, Hydrography and Technical Support, Shawn Mayr, Senior Engineer</rpOrgName>
<role>
<RoleCd value="006">
</RoleCd>
</role>
</citRespParty>
<presForm>
<PresFormCd value="005">
</PresFormCd>
</presForm>
<presForm>
<fgdcGeoform>raster digital data</fgdcGeoform>
</presForm>
<datasetSeries>
<seriesName>CA-DWR NCRO Delta Bathymetry</seriesName>
<issId>Sacramento River, August 2019</issId>
</datasetSeries>
<resTitle Sync="TRUE">Bathy_NCRO_20190819_SacramentoRvr_Lidar.tif</resTitle>
</idCitation>
<idAbs>&lt;DIV STYLE="text-align:Left;"&gt;&lt;DIV&gt;&lt;DIV&gt;&lt;P&gt;&lt;SPAN&gt;The California Department of Water Resources (CA-DWR), North Central Region Office (NCRO), Bathymetry Data Collection Section, conducted a bathymetric survey on the Sacramento River from the confluence with the American River to Courtland for the Delta Conveyance Office. The main purpose of the data is to understand river bed elevations and dynamics for planning of diversion intakes on the Sacramento River when the river is carryin 18,000 cfs +/- 5,000 cfs. An additional measurement in April 2019 provides a comparison during high flow condtions. This version of the data combines the bathymetry with the best available LiDAR.&lt;/SPAN&gt;&lt;/P&gt;&lt;P&gt;&lt;SPAN&gt;Bathymetry:&lt;/SPAN&gt;&lt;/P&gt;&lt;P&gt;&lt;SPAN&gt;• Survey Dates: July 29 - August 19, 2019&lt;/SPAN&gt;&lt;/P&gt;&lt;P&gt;&lt;SPAN&gt;• Instrumentation: Multibeam echo sounder with Inertially-Aided Post-Processed Kinematic (IAPPK) GPS procedures&lt;/SPAN&gt;&lt;/P&gt;&lt;P&gt;&lt;SPAN&gt;• Density: 1 ft grid &lt;/SPAN&gt;&lt;/P&gt;&lt;P&gt;&lt;SPAN&gt;• Datum: NAD83 (California State Plane Zone III) horizontal (Epoch 2017.5), NAVD88 vertical &lt;/SPAN&gt;&lt;/P&gt;&lt;P&gt;&lt;SPAN&gt;• Related datasets: April 2019 NCRO bathymetry dataset collected at 70,000 cfs from Clarksburg to Randal Island on the Sacramento River&lt;/SPAN&gt;&lt;/P&gt;&lt;P&gt;&lt;SPAN /&gt;&lt;/P&gt;&lt;P&gt;&lt;SPAN&gt;Lidar: &lt;/SPAN&gt;&lt;/P&gt;&lt;P&gt;&lt;SPAN&gt;• Survey Dates: Lidar data for the entire Delta was collected in 19 missions from December 19, 2017 through January 21, 2018&lt;/SPAN&gt;&lt;/P&gt;&lt;P&gt;&lt;SPAN&gt;• Instrumentation: Leica AL580-HP&lt;/SPAN&gt;&lt;/P&gt;&lt;P&gt;&lt;SPAN&gt;• Density: 0.5 m grid &lt;/SPAN&gt;&lt;/P&gt;&lt;P&gt;&lt;SPAN&gt;• Original Datum: NAD83 (California State Plane Zone III) horizontal (Epoch 2017.95, NAVD88 vertical&lt;/SPAN&gt;&lt;/P&gt;&lt;P&gt;&lt;SPAN /&gt;&lt;/P&gt;&lt;/DIV&gt;&lt;/DIV&gt;&lt;/DIV&gt;</idAbs>
<idPurp>This bathymetric &amp; lidar dataset is intended for use as a base component of studies in the Sacramento-San Joaquin Delta and specifically for planning efforts...</idPurp>
<idCredit>Bathymetric Data: California Department of Water Resources, Division of Integrated Regional Water Management, North Central Region Office, Hydrography and Technical Support Section.
Lidar: California Department of Water Resources, USGS, Woolpert</idCredit>
<idStatus>
<ProgCd value="001">
</ProgCd>
</idStatus>
<idPoC>
<rpIndName>Shawn Mayr</rpIndName>
<rpOrgName>Department of Water Resources, Division of Integrated Regional Water Management, North Central Region Office, Hydrography and Technical Support</rpOrgName>
<rpPosName>Senior Engineer</rpPosName>
<rpCntInfo>
<cntPhone>
<voiceNum>916-376-9664</voiceNum>
</cntPhone>
<cntAddress addressType="physical">
<delPoint>3500 Industrial Blvd.</delPoint>
<city>West Sacramento</city>
<adminArea>CA</adminArea>
<postCode>95691</postCode>
<country>US</country>
<eMailAdd>Shawn.Mayr@water.ca.gov</eMailAdd>
</cntAddress>
<cntHours>8AM-5PM Weekdays</cntHours>
<cntInstr>Call or Email</cntInstr>
</rpCntInfo>
<role>
<RoleCd value="007">
</RoleCd>
</role>
</idPoC>
<resMaint>
<maintFreq>
<MaintFreqCd value="009">
</MaintFreqCd>
</maintFreq>
</resMaint>
<placeKeys>
<keyword>Sacramento River, Clarksburg, Courtland</keyword>
</placeKeys>
<tempKeys>
<keyword>December 2017, January 2018, July 2019, August 2019</keyword>
</tempKeys>
<themeKeys>
<keyword>Multibeam</keyword>
<keyword>Sonar</keyword>
<keyword>Bathymetry</keyword>
<keyword>LiDAR</keyword>
</themeKeys>
<themeKeys>
<thesaName>
<resTitle>ISO 19115 Topic Categories</resTitle>
</thesaName>
<keyword>Elevation</keyword>
<keyword>Inland Waters</keyword>
</themeKeys>
<searchKeys>
<keyword>Multibeam</keyword>
<keyword>Elevation</keyword>
<keyword>July 2019</keyword>
<keyword>August 2019</keyword>
<keyword>Sonar</keyword>
<keyword>Bathymetry</keyword>
<keyword>Inland Waters</keyword>
<keyword>Sacramento River</keyword>
<keyword>Courtland</keyword>
<keyword>Merrit Island</keyword>
<keyword>American River</keyword>
<keyword>Freeport</keyword>
<keyword>Sacamento-San Joaquin Delta</keyword>
<keyword>Digital Elevation Model</keyword>
<keyword>LiDAR</keyword>
<keyword>California</keyword>
<keyword>Sacramento</keyword>
<keyword>San Joaquin</keyword>
<keyword>Delta</keyword>
</searchKeys>
<resConst>
<LegConsts>
<useLimit>The Department of Water Resources makes no warranties, representations or guarantees, either expressed or implied, as to the completeness, accuracy or correctness of the data, nor accepts or assumes any liability arising from its use. Any comments, problems, improvements, updates, or suggestions should be forwarded to the distribution contact for this dataset as detailed in these metadata.</useLimit>
</LegConsts>
</resConst>
<resConst>
<Consts>
<useLimit>&lt;DIV STYLE="text-align:Left;"&gt;&lt;DIV&gt;&lt;DIV&gt;&lt;P&gt;&lt;SPAN&gt;Not to be used for navigation.&lt;/SPAN&gt;&lt;/P&gt;&lt;/DIV&gt;&lt;/DIV&gt;&lt;/DIV&gt;</useLimit>
</Consts>
</resConst>
<dataLang>
<languageCode value="eng">
</languageCode>
<countryCode Sync="TRUE" value="USA">
</countryCode>
</dataLang>
<dataExt>
<exDesc>Sacramento River near The American River Confluence to Courtland</exDesc>
<tempEle>
<TempExtent>
<exTemp>
<TM_Period>
<tmBegin date="Please See Description/Abstract">
</tmBegin>
<tmEnd date="Please See Description/Abstract">
</tmEnd>
</TM_Period>
</exTemp>
</TempExtent>
</tempEle>
</dataExt>
<suppInfo>Equipment and Methodology Survey Vessel: 20 ft Oquawka 2072 Multibeam Sonar Bathymetry System: Sonar: Reson T20-P Dual-Head MBES Position/GPS: Applanix POS MV OceanMaster Motion control: Applanix POS MV OceanMaster Sound velocity: AML Base X2 Sound Velocity Profiler Field Practices: Field calibration tests (including multibeam patch tests, sound velocity readings, and GPS observations) were regularly performed in order to ensure data quality and positional accuracy. Multibeam data were collected on the survey vessel and recorded using Hypack Hydrographic Survey software (Hypack). Data were processed with either Caris or Hypack software packages, exported as a raster dataset, and imported to a geodatabase with ArcGIS software. For more detailed information please see the Data Quality Section.
Additional information regarding Lidar data collection &amp; processing can be found at:
http://gisarchive.cnra.ca.gov/iso/ImageryBaseMapsLandCover/LIDAR/DeltaLIDAR2017/metadata/reports/</suppInfo>
<dataChar>
<CharSetCd value="004">
</CharSetCd>
</dataChar>
<envirDesc Sync="TRUE"> Version 6.2 (Build 9200) ; Esri ArcGIS 10.7.0.10450</envirDesc>
<spatRpType>
<SpatRepTypCd Sync="TRUE" value="002">
</SpatRepTypCd>
</spatRpType>
<dataExt>
<geoEle>
<GeoBndBox esriExtentType="search">
<exTypeCode Sync="TRUE">1</exTypeCode>
<westBL Sync="TRUE">-121.583765</westBL>
<eastBL Sync="TRUE">-121.494079</eastBL>
<northBL Sync="TRUE">38.598963</northBL>
<southBL Sync="TRUE">38.324433</southBL>
</GeoBndBox>
</geoEle>
</dataExt>
</dataIdInfo>
<mdMaint>
<maintFreq>
<MaintFreqCd value="009">
</MaintFreqCd>
</maintFreq>
</mdMaint>
<dqInfo>
<dqScope>
<scpLvl>
<ScopeCd value="005">
</ScopeCd>
</scpLvl>
</dqScope>
<report type="DQConcConsis">
<measDesc>These data were collected using advanced multibeam sonar and GPS technologies. They are believed to be logically consistent. Visual inspection was conducted and data were reviewed in ArcGIS software packages.
Additional information regarding Lidar data collection &amp; processing can be found at:
http://gisarchive.cnra.ca.gov/iso/ImageryBaseMapsLandCover/LIDAR/DeltaLIDAR2017/metadata/reports/</measDesc>
</report>
<report type="DQCompOm">
<measDesc>Dense aquatic vegetation interferes with the sounder's ability to record reliable bathymetric information. Therefore, in order to properly represent the bathymetry of the entire channel, elevation data in most areas of the channel occupied by dense aquatic vegetation were omitted from the final data set and appear as gaps in the data. For the most part this is limited to a few areas along the banks.
Additional information regarding Lidar data collection &amp; processing can be found at:
http://gisarchive.cnra.ca.gov/iso/ImageryBaseMapsLandCover/LIDAR/DeltaLIDAR2017/metadata/reports/</measDesc>
</report>
<report type="DQQuanAttAcc">
<measDesc>Elevations are generally believed to be characteristic of the channel-bed; however, in some heavily vegetated areas, these data may be more indicative of the elevation of the submerged vegetation, rather than the “bare earth” surface. In deeper areas with low visibility, this discrepancy may not be immediately apparent. “Noisy” patterns in the data are investigated during data processing; these patterns may signify dense submerged vegetation and are typically filtered. The estimated elevation accuracy is generally +/- 0.5 foot and depends on depth, acoustic characteristics of the channel bed, and
vegetation.
Additional information regarding Lidar data collection &amp; processing can be found at:
http://gisarchive.cnra.ca.gov/iso/ImageryBaseMapsLandCover/LIDAR/DeltaLIDAR2017/metadata/reports/</measDesc>
<evalMethDesc>Visual consistency checks, comparing overlapping sonar passes, making comparisons of bathymetry where channel bottoms are stable, and checking post processing statistics.</evalMethDesc>
</report>
<report dimension="horizontal" type="DQAbsExtPosAcc">
<measDesc>Documented horizontal accuracy: Reson T20-P: 6 mm resolution POS MV System: 8 mm + 1 ppm x baseline length
Roll and Pitch 0.015°, Heading 0.03° AML Base X2 SVP: n/a
Additional information regarding Lidar data collection &amp; processing can be found at:
http://gisarchive.cnra.ca.gov/iso/ImageryBaseMapsLandCover/LIDAR/DeltaLIDAR2017/metadata/reports/</measDesc>
<evalMethDesc>Documented accuracies are from manufacturer’s literature. Component accuracies contribute to but do not reflect the final raster accuracy.</evalMethDesc>
</report>
<report dimension="vertical" type="DQAbsExtPosAcc">
<measDesc>Documented vertical accuracy: Reson T20-P: 6 mm resolution POS MV System: 15 mm + 1 ppm x baseline length
Heave 5 cm or 5% AML Base X2 SVP: 0.025 m/s
Additional information regarding Lidar data collection &amp; processing can be found at:
http://gisarchive.cnra.ca.gov/iso/ImageryBaseMapsLandCover/LIDAR/DeltaLIDAR2017/metadata/reports/</measDesc>
<evalMethDesc>Documented accuracies are from manufacturer’s literature. Component accuracies contribute to but do not reflect the final raster accuracy.</evalMethDesc>
</report>
<dataLineage>
<prcStep>
<stepDesc>This data set is comprised of X,Y,Z points collected using multibeam sonar bathymetry equipment corrected with GPS position data. Survey vessel Applanix data is collected to apply corrections and is processed with PosPac in conjunction with valid Continuously Operating Reference Stations (CORS) to produce a valid Smoothed Best Estimate Trajectory (SBET) correction file. GPS post processing was completed using CORS and the National Geodetic Survey website at: http://www.ngs.noaa.gov/CORS/.</stepDesc>
<stepRat>Raw multibeam data requires processing to become usable. Because sound velocity varies both temporally and spatially, the field crew breaks down the river stretch to be surveyed into manageable sections of approximately 1 hour of logged survey time. Each section overlaps slightly to prevent missing data. After the survey, initial multibeam processing is performed with either Caris HIPS and SIPS software or HYSWEEP Editor within the Hypack Hydrographic Survey software suite. The multibeam point cloud is loaded into the hydrographic software a section at a time and calibration parameters are checked for
accuracy and consistency. Erroneous data, outliers and submerged aquatic vegetation are then filtered out by the hydrographer. Once all sections have been reviewed and processed, they are combined and processed with the NOAA approved Combined Uncertainty and Bathymetric Estimator (CUBE) to create a single seamless raster surface and exported in Bathymetric Attributed Grid (BAG) raster format. These rasters are imported in ArcGIS Desktop and reviewed for consistency. Further products and analyses are carried out upon request. Metadata are established and the data are stored. Data processing was completed in October 2019.</stepRat>
</prcStep>
<dataSource>
<srcDesc>This is an original dataset produced by the California Department of Water Resources, Division of Integrated Regional Water Management, North Central Region Office, Hydrography and Technical Support Section.
Additional information regarding Lidar data collection &amp; processing can be found at:
http://gisarchive.cnra.ca.gov/iso/ImageryBaseMapsLandCover/LIDAR/DeltaLIDAR2017/metadata/reports/</srcDesc>
<srcCitatn>
<citRespParty>
<rpOrgName>Department of Water Resources, Division of Integrated Regional Water Management, North Central Region Office, Hydrography and Technical Support</rpOrgName>
<role>
<RoleCd value="006">
</RoleCd>
</role>
</citRespParty>
</srcCitatn>
</dataSource>
<prcStep>
<stepDesc>Bathymetric data was combined with lidar to a distance of 200ft beyond waters edge or to the levee crown if not within 200ft.
Lidar data was reprojected to conform with the bathymetric data. (NAD_1983_StatePlane_California_III_FIPS_0403_Feet
WKID: 2227 Authority: EPSG)
Areas of water surface were excluded from lidar data by removing areas of 0 slope. Bathymetric data and lidar within 35 ft of waters edge were then combined by creating a 70ft wide TIN across the gaps between datasets and then mosaicking this TIN together with the original bathymetric and lidar datasets.
</stepDesc>
<stepProc>
<rpIndName>Lillian Hayden</rpIndName>
<rpPosName>Environmental Scientist</rpPosName>
<role>
<RoleCd value="009">
</RoleCd>
</role>
</stepProc>
</prcStep>
<prcStep>
<stepDesc>DWR/DOE staff certified the data for the NAD 83 and NAVD88 datums as detailed in the
report “2019 Sacramento River Bathymetry Mapping for Delta Conveyance Alternatives”</stepDesc>
<stepProc>
<rpIndName>Anthony Squellati</rpIndName>
<rpOrgName>Department of Water Resources, Division of Engineering, Geodetic Branch</rpOrgName>
<rpPosName>Senior Land Surveyor</rpPosName>
<role>
<RoleCd value="001">
</RoleCd>
</role>
<rpCntInfo>
<cntAddress>
<delPoint>1419 Ninth Street</delPoint>
<city>Sacramento</city>
<adminArea>Ca</adminArea>
<postCode>95814</postCode>
<eMailAdd>Anthony.Squellati@water.ca.gov</eMailAdd>
</cntAddress>
<cntPhone>
<voiceNum>916-653-8521</voiceNum>
</cntPhone>
<cntHours>8AM-5PM Weekdays</cntHours>
<cntInstr>Call or Email</cntInstr>
</rpCntInfo>
</stepProc>
</prcStep>
</dataLineage>
</dqInfo>
<mdHrLvName Sync="TRUE">dataset</mdHrLvName>
<refSysInfo>
<RefSystem>
<refSysID>
<identCode Sync="TRUE" code="2227">
</identCode>
<idCodeSpace Sync="TRUE">EPSG</idCodeSpace>
<idVersion Sync="TRUE">5.3(9.0.0)</idVersion>
</refSysID>
</RefSystem>
</refSysInfo>
<spatRepInfo>
<Georect>
<cellGeo>
<CellGeoCd Sync="TRUE" value="002">
</CellGeoCd>
</cellGeo>
<numDims Sync="TRUE">2</numDims>
<tranParaAv Sync="TRUE">1</tranParaAv>
<chkPtAv Sync="TRUE">0</chkPtAv>
<cornerPts>
<pos Sync="TRUE">6251913.983609 2306516.750601</pos>
</cornerPts>
<cornerPts>
<pos Sync="TRUE">6251913.983609 2406231.750601</pos>
</cornerPts>
<cornerPts>
<pos Sync="TRUE">6276489.983609 2406231.750601</pos>
</cornerPts>
<cornerPts>
<pos Sync="TRUE">6276489.983609 2306516.750601</pos>
</cornerPts>
<centerPt>
<pos Sync="TRUE">6264201.983609 2356374.250601</pos>
</centerPt>
<axisDimension type="002">
<dimSize Sync="TRUE">24576</dimSize>
<dimResol>
<value Sync="TRUE" uom="ftUS">1.000000</value>
</dimResol>
</axisDimension>
<axisDimension type="001">
<dimSize Sync="TRUE">99715</dimSize>
<dimResol>
<value Sync="TRUE" uom="ftUS">1.000000</value>
</dimResol>
</axisDimension>
<ptInPixel>
<PixOrientCd Sync="TRUE" value="001">
</PixOrientCd>
</ptInPixel>
</Georect>
</spatRepInfo>
<contInfo>
<ImgDesc>
<contentTyp>
<ContentTypCd Sync="TRUE" value="001">
</ContentTypCd>
</contentTyp>
<covDim>
<Band>
<dimDescrp Sync="TRUE">Band_1</dimDescrp>
<maxVal Sync="TRUE">53.259998</maxVal>
<minVal Sync="TRUE">-53.575466</minVal>
<bitsPerVal Sync="TRUE">32</bitsPerVal>
<valUnit>
<UOM type="length">
</UOM>
</valUnit>
</Band>
</covDim>
</ImgDesc>
</contInfo>
<mdDateSt Sync="TRUE">20200115</mdDateSt>
</metadata>
