{ "currentVersion": 11.3, "serviceDescription": "
The California Department of Water Resources (DWR), North Central Region Office (NCRO), Bathymetry Data Collection Section, conducted a bathymetric survey of the Sacramento River near Clarksburg for DWR's Delta Conveyance Office on behalf of the Delta Conveyance Authority. The purpose of this survey is for assessment of patterns of deposition and scour in the channel reach, bed stability and suitability for future intake planning. This measurement was collected after an early season high-flow event during which the flow was recorded to be between 50,000 to 80,000 cfs for three weeks.<\/SPAN><\/P> \u2022 Survey Dates: January 31, 2023 to Febrauary 8, 2023 <\/SPAN><\/P> \u2022 Instrumentation: Multibeam echo sounder and Inertially-Aided Post-Processed Kinematic (IAPPK) GPS procedures <\/SPAN><\/P> \u2022 Density: 1 ft grid <\/SPAN><\/P> \u2022 Horizontal Datum: North American Datum of 1983 (NAD83) (2011) California Coordinate System (CCS83) State Plane Zone III , USft <\/SPAN><\/P> \u2022 Vertical Datum: North American Vertical Datum of 1988 (NAVD88), USft <\/SPAN><\/P> \u2022 Data Epoch: 2017.5<\/SPAN><\/P> \u2022 Related Datasets: Sacramento River at Clarksburg, 4/17/2019; Sacramento River 8/19/2019<\/SPAN><\/P> \u2022 Involved Staff: Data collected and processed by NCRO Bathymetry and Hydrography sections <\/SPAN><\/P> \u2022 Survey Responsible Charge: Jacob Wright, PLS (CA 8717) <\/SPAN><\/P> Please contact the distributor for questions regarding survey control or QC checks. For complete metadata make sure the viewer (ArcGIS or other software) is set to view FGDC metadata.<\/SPAN><\/P> <\/P><\/DIV><\/DIV><\/DIV>",
"name": "Bathymetry/Bathy_NCRO_20230208_SacramentoRiver",
"description": "",
"extent": {
"xmin": 6205363.338915164,
"ymin": 2291584.0237851706,
"xmax": 6360041.338915164,
"ymax": 2362936.0237851706,
"spatialReference": {"wkt": "PROJCS[\"NAD_1983_2011_StatePlane_California_III_FIPS_0403_Ft_US\",GEOGCS[\"GCS_NAD_1983_2011\",DATUM[\"D_NAD_1983_2011\",SPHEROID[\"GRS_1980\",6378137.0,298.257222101]],PRIMEM[\"Greenwich\",0.0],UNIT[\"Degree\",0.0174532925199433]],PROJECTION[\"Lambert_Conformal_Conic\"],PARAMETER[\"False_Easting\",6561666.667],PARAMETER[\"False_Northing\",1640416.667],PARAMETER[\"Central_Meridian\",-120.5],PARAMETER[\"Standard_Parallel_1\",37.0666666666667],PARAMETER[\"Standard_Parallel_2\",38.4333333333333],PARAMETER[\"Latitude_Of_Origin\",36.5],UNIT[\"Foot_US\",0.3048006096012192]]"}
},
"initialExtent": {
"xmin": 6205363.338915164,
"ymin": 2291584.0237851706,
"xmax": 6360041.338915164,
"ymax": 2362936.0237851706,
"spatialReference": {"wkt": "PROJCS[\"NAD_1983_2011_StatePlane_California_III_FIPS_0403_Ft_US\",GEOGCS[\"GCS_NAD_1983_2011\",DATUM[\"D_NAD_1983_2011\",SPHEROID[\"GRS_1980\",6378137.0,298.257222101]],PRIMEM[\"Greenwich\",0.0],UNIT[\"Degree\",0.0174532925199433]],PROJECTION[\"Lambert_Conformal_Conic\"],PARAMETER[\"False_Easting\",6561666.667],PARAMETER[\"False_Northing\",1640416.667],PARAMETER[\"Central_Meridian\",-120.5],PARAMETER[\"Standard_Parallel_1\",37.0666666666667],PARAMETER[\"Standard_Parallel_2\",38.4333333333333],PARAMETER[\"Latitude_Of_Origin\",36.5],UNIT[\"Foot_US\",0.3048006096012192]]"}
},
"fullExtent": {
"xmin": 6205363.338915164,
"ymin": 2291584.0237851706,
"xmax": 6360041.338915164,
"ymax": 2362936.0237851706,
"spatialReference": {"wkt": "PROJCS[\"NAD_1983_2011_StatePlane_California_III_FIPS_0403_Ft_US\",GEOGCS[\"GCS_NAD_1983_2011\",DATUM[\"D_NAD_1983_2011\",SPHEROID[\"GRS_1980\",6378137.0,298.257222101]],PRIMEM[\"Greenwich\",0.0],UNIT[\"Degree\",0.0174532925199433]],PROJECTION[\"Lambert_Conformal_Conic\"],PARAMETER[\"False_Easting\",6561666.667],PARAMETER[\"False_Northing\",1640416.667],PARAMETER[\"Central_Meridian\",-120.5],PARAMETER[\"Standard_Parallel_1\",37.0666666666667],PARAMETER[\"Standard_Parallel_2\",38.4333333333333],PARAMETER[\"Latitude_Of_Origin\",36.5],UNIT[\"Foot_US\",0.3048006096012192]]"}
},
"sortableFields": "MinPS,MaxPS,LowPS,HighPS,CenterX,CenterY,ZOrder,Shape_Length,Shape_Area",
"bandCount": 1,
"pixelType": "F32",
"minValues": [
-46.738986968994
],
"maxValues": [
8.9210710525513
],
"meanValues": [
-16.090228352307
],
"stdvValues": [
8.0628745491914
],
"hasMultidimensions": false,
"pixelSizeX": 1,
"pixelSizeY": 1,
"meanPixelSize": 0.30480060960121924,
"datasetFormat": "TIFF",
"uncompressedSize": 44146338624,
"blockWidth": 512,
"blockHeight": 512,
"compressionType": "LZW",
"bandNames": [
"Band_1"
],
"allowCopy": true,
"allowAnalysis": true,
"itemAccess": false,
"inspectionCapabilities": "",
"noDataValue": -3.4028230607370965E38,
"noDataValues": [
-3.4028230607370965E38
],
"minPixelSize": 0,
"maxPixelSize": 0,
"copyrightText": "California Department of Water Resources, Division of Regional Assistance, North Central Region Office, Hydrography and Technical Support Section.",
"serviceDataType": "esriImageServiceDataTypeGeneric",
"serviceSourceType": "esriImageServiceSourceTypeDataset",
"objectIdField": "",
"fields": [],
"capabilities": "Image,Metadata,Mensuration",
"defaultMosaicMethod": "Center",
"allowedMosaicMethods": "",
"sortField": "",
"sortValue": null,
"sortAscending": true,
"mosaicOperator": "First",
"defaultCompressionQuality": 75,
"defaultResamplingMethod": "Bilinear",
"maxImageHeight": 4100,
"maxImageWidth": 15000,
"allowRasterFunction": true,
"rasterFunctionInfos": [
{
"name": "None",
"description": "Make a Raster or Raster Dataset into a Function Raster Dataset.",
"help": ""
},
{
"name": "DW_SacRioVista_CASP2_ColorRamp",
"description": "color ramp 2",
"help": ""
}
],
"rasterTypeInfos": [
{
"name": "Raster Dataset",
"description": "Supports all ArcGIS Raster Datasets",
"help": ""
}
],
"mensurationCapabilities": "Basic",
"hasHistograms": true,
"hasColormap": false,
"hasRasterAttributeTable": false,
"minScale": 0,
"maxScale": 0,
"exportTilesAllowed": false,
"supportsStatistics": false,
"supportsAdvancedQueries": false,
"editFieldsInfo": null,
"ownershipBasedAccessControlForRasters": null,
"allowComputeTiePoints": false,
"useStandardizedQueries": true,
"advancedQueryCapabilities": {
"useStandardizedQueries": true,
"supportsStatistics": false,
"supportsOrderBy": false,
"supportsDistinct": false,
"supportsPagination": false
},
"spatialReference": {"wkt": "PROJCS[\"NAD_1983_2011_StatePlane_California_III_FIPS_0403_Ft_US\",GEOGCS[\"GCS_NAD_1983_2011\",DATUM[\"D_NAD_1983_2011\",SPHEROID[\"GRS_1980\",6378137.0,298.257222101]],PRIMEM[\"Greenwich\",0.0],UNIT[\"Degree\",0.0174532925199433]],PROJECTION[\"Lambert_Conformal_Conic\"],PARAMETER[\"False_Easting\",6561666.667],PARAMETER[\"False_Northing\",1640416.667],PARAMETER[\"Central_Meridian\",-120.5],PARAMETER[\"Standard_Parallel_1\",37.0666666666667],PARAMETER[\"Standard_Parallel_2\",38.4333333333333],PARAMETER[\"Latitude_Of_Origin\",36.5],UNIT[\"Foot_US\",0.3048006096012192]]"}
}