{ "currentVersion": 11.3, "serviceDescription": "
The California Department of Water Resources (DWR), North Central Region Office (NCRO), Bathymetry Data Collection Section, conducted a bathymetric survey on Grant Line Canal & Fabian Bell Canal as part of the Delta Wide Bathymetry Program. The main purpose of the data is to help complete bathymetric datasets of the South Delta.<\/SPAN><\/P> \u2022 Survey Dates: May 2-4, June 5-7, 14-15, 2023<\/SPAN><\/P> \u2022 Vessels Used: NCRO R/V Oquawka<\/SPAN><\/P> \u2022 Instrumentation: Multibeam echo sounder with Inertially-Aided Post-Processed Kinematic (IAPPK) GPS procedures. <\/SPAN><\/P> \u2022 Density: 1 ft grid <\/SPAN><\/P> \u2022 Horizontal Datum: North American Datum of 1983 (NAD83) California Coordinate System (CCS83) State Plane Zone III , USft<\/SPAN><\/P> \u2022 Vertical Datum: North American Vertical Datum of 1988 (NAVD88), USft<\/SPAN><\/P> \u2022 Process Epoch: 2023.45; Datum Epoch: 2017.5<\/SPAN><\/P> \u2022 Related datasets: Grant Line Canal 2022, Grant Line Canal 2017, Fabian Bell Canal 2014, Old River at Salmon Slough 2013, Fabian Bell Canal 2013, Grant Line Canal 2012, Fabian Bell Canal 2012 <\/SPAN><\/P> \u2022 Survey Responsible Charge: Jacob Wright, PLS (CA 8717)<\/SPAN><\/P> Please contact the distributor for questions regarding survey control or QC checks. <\/SPAN><\/P> For complete metadata make sure the viewer (ArcGIS or other software) is set to view FGDC metadata.<\/SPAN><\/P> <\/P><\/DIV><\/DIV><\/DIV>",
"name": "Bathymetry/Bathy_NCRO_20230615_GrantLine_Fabian_Canal",
"description": "",
"extent": {
"xmin": 6248366,
"ymin": 2112428,
"xmax": 6311359,
"ymax": 2136607,
"spatialReference": {"wkt": "PROJCS[\"NAD_1983_StatePlane_California_III_FIPS_0403_Feet\",GEOGCS[\"GCS_North_American_1983\",DATUM[\"D_North_American_1983\",SPHEROID[\"GRS_1980\",6378137.0,298.257222101]],PRIMEM[\"Greenwich\",0.0],UNIT[\"Degree\",0.0174532925199433]],PROJECTION[\"Lambert_Conformal_Conic\"],PARAMETER[\"False_Easting\",6561666.667],PARAMETER[\"False_Northing\",1640416.667],PARAMETER[\"Central_Meridian\",-120.5],PARAMETER[\"Standard_Parallel_1\",37.0666666666667],PARAMETER[\"Standard_Parallel_2\",38.4333333333333],PARAMETER[\"Latitude_Of_Origin\",36.5],UNIT[\"Foot_US\",0.3048006096012192]]"}
},
"initialExtent": {
"xmin": 6248366,
"ymin": 2112428,
"xmax": 6311359,
"ymax": 2136607,
"spatialReference": {"wkt": "PROJCS[\"NAD_1983_StatePlane_California_III_FIPS_0403_Feet\",GEOGCS[\"GCS_North_American_1983\",DATUM[\"D_North_American_1983\",SPHEROID[\"GRS_1980\",6378137.0,298.257222101]],PRIMEM[\"Greenwich\",0.0],UNIT[\"Degree\",0.0174532925199433]],PROJECTION[\"Lambert_Conformal_Conic\"],PARAMETER[\"False_Easting\",6561666.667],PARAMETER[\"False_Northing\",1640416.667],PARAMETER[\"Central_Meridian\",-120.5],PARAMETER[\"Standard_Parallel_1\",37.0666666666667],PARAMETER[\"Standard_Parallel_2\",38.4333333333333],PARAMETER[\"Latitude_Of_Origin\",36.5],UNIT[\"Foot_US\",0.3048006096012192]]"}
},
"fullExtent": {
"xmin": 6248366,
"ymin": 2112428,
"xmax": 6311359,
"ymax": 2136607,
"spatialReference": {"wkt": "PROJCS[\"NAD_1983_StatePlane_California_III_FIPS_0403_Feet\",GEOGCS[\"GCS_North_American_1983\",DATUM[\"D_North_American_1983\",SPHEROID[\"GRS_1980\",6378137.0,298.257222101]],PRIMEM[\"Greenwich\",0.0],UNIT[\"Degree\",0.0174532925199433]],PROJECTION[\"Lambert_Conformal_Conic\"],PARAMETER[\"False_Easting\",6561666.667],PARAMETER[\"False_Northing\",1640416.667],PARAMETER[\"Central_Meridian\",-120.5],PARAMETER[\"Standard_Parallel_1\",37.0666666666667],PARAMETER[\"Standard_Parallel_2\",38.4333333333333],PARAMETER[\"Latitude_Of_Origin\",36.5],UNIT[\"Foot_US\",0.3048006096012192]]"}
},
"sortableFields": "MinPS,MaxPS,LowPS,HighPS,CenterX,CenterY,ZOrder,Shape_Length,Shape_Area,Date",
"bandCount": 1,
"pixelType": "F32",
"minValues": [
-30.29762840271
],
"maxValues": [
5.8638877868652
],
"meanValues": [
-8.1807239532834
],
"stdvValues": [
5.0913363922096
],
"hasMultidimensions": false,
"pixelSizeX": 1,
"pixelSizeY": 1,
"meanPixelSize": 0.30480060960121924,
"datasetFormat": "TIFF",
"uncompressedSize": 6092430988,
"blockWidth": 512,
"blockHeight": 512,
"compressionType": "LZW",
"bandNames": [
"Band_1"
],
"allowCopy": true,
"allowAnalysis": true,
"itemAccess": false,
"inspectionCapabilities": "",
"noDataValue": -3.4028230607370965E38,
"noDataValues": [
-3.4028230607370965E38
],
"minPixelSize": 0,
"maxPixelSize": 0,
"copyrightText": "California Department of Water Resources, Division of Regional Assistance, North Central Region Office, Hydrography and Technical Support Section.",
"serviceDataType": "esriImageServiceDataTypeGeneric",
"serviceSourceType": "esriImageServiceSourceTypeDataset",
"objectIdField": "",
"fields": [],
"capabilities": "Image,Metadata,Mensuration",
"defaultMosaicMethod": "Center",
"allowedMosaicMethods": "",
"sortField": "",
"sortValue": null,
"sortAscending": true,
"mosaicOperator": "First",
"defaultCompressionQuality": 75,
"defaultResamplingMethod": "Bilinear",
"maxImageHeight": 4100,
"maxImageWidth": 15000,
"allowRasterFunction": true,
"rasterFunctionInfos": [
{
"name": "None",
"description": "Make a Raster or Raster Dataset into a Function Raster Dataset.",
"help": ""
},
{
"name": "DW_SacRioVista_CASP2_ColorRamp",
"description": "color ramp 2",
"help": ""
}
],
"rasterTypeInfos": [
{
"name": "Raster Dataset",
"description": "Supports all ArcGIS Raster Datasets",
"help": ""
}
],
"mensurationCapabilities": "Basic",
"hasHistograms": true,
"hasColormap": false,
"hasRasterAttributeTable": false,
"minScale": 0,
"maxScale": 0,
"exportTilesAllowed": false,
"supportsStatistics": false,
"supportsAdvancedQueries": false,
"editFieldsInfo": null,
"ownershipBasedAccessControlForRasters": null,
"allowComputeTiePoints": false,
"useStandardizedQueries": true,
"advancedQueryCapabilities": {
"useStandardizedQueries": true,
"supportsStatistics": false,
"supportsOrderBy": false,
"supportsDistinct": false,
"supportsPagination": false
},
"spatialReference": {"wkt": "PROJCS[\"NAD_1983_StatePlane_California_III_FIPS_0403_Feet\",GEOGCS[\"GCS_North_American_1983\",DATUM[\"D_North_American_1983\",SPHEROID[\"GRS_1980\",6378137.0,298.257222101]],PRIMEM[\"Greenwich\",0.0],UNIT[\"Degree\",0.0174532925199433]],PROJECTION[\"Lambert_Conformal_Conic\"],PARAMETER[\"False_Easting\",6561666.667],PARAMETER[\"False_Northing\",1640416.667],PARAMETER[\"Central_Meridian\",-120.5],PARAMETER[\"Standard_Parallel_1\",37.0666666666667],PARAMETER[\"Standard_Parallel_2\",38.4333333333333],PARAMETER[\"Latitude_Of_Origin\",36.5],UNIT[\"Foot_US\",0.3048006096012192]]"}
}