{ "currentVersion": 11.3, "serviceDescription": "
The California Department of Water Resources (DWR), North Central Region Office (NCRO), Bathymetry Data Collection Section, conducted a bathymetric survey of Old River as part of the Delta Wide Bathymetry Program. The main purpose of the data is to help complete bathymetric datasets of the South Delta and allow for relevant comparisons. <\/SPAN><\/P> \u2022 Field Dates: July 3-6, 2023 <\/SPAN><\/P> \u2022 Survey Type: Multibeam <\/SPAN><\/P> \u2022 Data Density: 1 ft grid <\/SPAN><\/P> \u2022 Horizontal Datum: North American Datum of 1983 (NAD83) California Coordinate System (CCS83) State Plane Zone III US ft <\/SPAN><\/P> \u2022 Vertical Datum: North American Vertical Datum of 1988 (NAVD88) US ft <\/SPAN><\/P> \u2022 Process Epoch: 2023.512; Datum Epoch: 2017.5 <\/SPAN><\/P> \u2022 Related Datasets: Old River at Salmon Slough 2013, Old River Five Points 2018, Old River East 2022, Paradise Cut 2022, Old River 2022 <\/SPAN><\/P> \u2022 Involved Staff: Data collected and processed by NCRO Bathymetry and Hydrography sections <\/SPAN><\/P> \u2022 Survey Responsible Charge: Jacob Wright, PLS (CA 8717)<\/SPAN><\/P> Please contact the distributor for questions regarding survey control or QC checks. For complete metadata make sure the viewer (ArcGIS or other software) is set to view FGDC metadata.<\/SPAN><\/P> <\/P><\/DIV><\/DIV><\/DIV>",
"name": "Bathymetry/Bathy_NCRO_20230706_OldRiver_at_ParadiseCut",
"description": "",
"extent": {
"xmin": 6294368.429090392,
"ymin": 2111659.359299237,
"xmax": 6316042.429090392,
"ymax": 2120702.359299237,
"spatialReference": {"wkt": "PROJCS[\"NAD_1983_StatePlane_California_III_FIPS_0403_Feet\",GEOGCS[\"GCS_North_American_1983\",DATUM[\"D_North_American_1983\",SPHEROID[\"GRS_1980\",6378137.0,298.257222101]],PRIMEM[\"Greenwich\",0.0],UNIT[\"Degree\",0.0174532925199433]],PROJECTION[\"Lambert_Conformal_Conic\"],PARAMETER[\"False_Easting\",6561666.666666666],PARAMETER[\"False_Northing\",1640416.666666667],PARAMETER[\"Central_Meridian\",-120.5],PARAMETER[\"Standard_Parallel_1\",37.06666666666667],PARAMETER[\"Standard_Parallel_2\",38.43333333333333],PARAMETER[\"Latitude_Of_Origin\",36.5],UNIT[\"Foot_US\",0.3048006096012192]],VERTCS[\"NAVD88\",VDATUM[\"North_American_Vertical_Datum_1988\"],PARAMETER[\"Vertical_Shift\",0.0],PARAMETER[\"Direction\",1.0],UNIT[\"Meter\",1.0]]"}
},
"initialExtent": {
"xmin": 6294368.429090392,
"ymin": 2111659.359299237,
"xmax": 6316042.429090392,
"ymax": 2120702.359299237,
"spatialReference": {"wkt": "PROJCS[\"NAD_1983_StatePlane_California_III_FIPS_0403_Feet\",GEOGCS[\"GCS_North_American_1983\",DATUM[\"D_North_American_1983\",SPHEROID[\"GRS_1980\",6378137.0,298.257222101]],PRIMEM[\"Greenwich\",0.0],UNIT[\"Degree\",0.0174532925199433]],PROJECTION[\"Lambert_Conformal_Conic\"],PARAMETER[\"False_Easting\",6561666.666666666],PARAMETER[\"False_Northing\",1640416.666666667],PARAMETER[\"Central_Meridian\",-120.5],PARAMETER[\"Standard_Parallel_1\",37.06666666666667],PARAMETER[\"Standard_Parallel_2\",38.43333333333333],PARAMETER[\"Latitude_Of_Origin\",36.5],UNIT[\"Foot_US\",0.3048006096012192]],VERTCS[\"NAVD88\",VDATUM[\"North_American_Vertical_Datum_1988\"],PARAMETER[\"Vertical_Shift\",0.0],PARAMETER[\"Direction\",1.0],UNIT[\"Meter\",1.0]]"}
},
"fullExtent": {
"xmin": 6294368.429090392,
"ymin": 2111659.359299237,
"xmax": 6316042.429090392,
"ymax": 2120702.359299237,
"spatialReference": {"wkt": "PROJCS[\"NAD_1983_StatePlane_California_III_FIPS_0403_Feet\",GEOGCS[\"GCS_North_American_1983\",DATUM[\"D_North_American_1983\",SPHEROID[\"GRS_1980\",6378137.0,298.257222101]],PRIMEM[\"Greenwich\",0.0],UNIT[\"Degree\",0.0174532925199433]],PROJECTION[\"Lambert_Conformal_Conic\"],PARAMETER[\"False_Easting\",6561666.666666666],PARAMETER[\"False_Northing\",1640416.666666667],PARAMETER[\"Central_Meridian\",-120.5],PARAMETER[\"Standard_Parallel_1\",37.06666666666667],PARAMETER[\"Standard_Parallel_2\",38.43333333333333],PARAMETER[\"Latitude_Of_Origin\",36.5],UNIT[\"Foot_US\",0.3048006096012192]],VERTCS[\"NAVD88\",VDATUM[\"North_American_Vertical_Datum_1988\"],PARAMETER[\"Vertical_Shift\",0.0],PARAMETER[\"Direction\",1.0],UNIT[\"Meter\",1.0]]"}
},
"sortableFields": "MinPS,MaxPS,LowPS,HighPS,CenterX,CenterY,ZOrder,Shape_Length,Shape_Area,DateFrom,DateTo",
"heightModelInfo": {
"heightModel": "gravity_related_height",
"vertCRS": "NAVD88",
"heightUnit": "meter"
},
"bandCount": 1,
"pixelType": "F64",
"minValues": [
-29.689912796021
],
"maxValues": [
6.8412437438965
],
"meanValues": [
-1.964445695771
],
"stdvValues": [
3.8006207083405
],
"hasMultidimensions": false,
"pixelSizeX": 1,
"pixelSizeY": 1,
"meanPixelSize": 0.30480060960121924,
"datasetFormat": "TIFF",
"uncompressedSize": 1567983856,
"blockWidth": 512,
"blockHeight": 512,
"compressionType": "LZW",
"bandNames": [
"Band_1"
],
"allowCopy": true,
"allowAnalysis": true,
"itemAccess": false,
"inspectionCapabilities": "",
"noDataValue": 0,
"noDataValues": [
0
],
"minPixelSize": 0,
"maxPixelSize": 0,
"copyrightText": "California Department of Water Resources, Division of Regional Assistance, North Central Region Office",
"serviceDataType": "esriImageServiceDataTypeGeneric",
"serviceSourceType": "esriImageServiceSourceTypeDataset",
"objectIdField": "",
"fields": [],
"capabilities": "Image,Metadata,Mensuration",
"defaultMosaicMethod": "Center",
"allowedMosaicMethods": "",
"sortField": "",
"sortValue": null,
"sortAscending": true,
"mosaicOperator": "First",
"defaultCompressionQuality": 75,
"defaultResamplingMethod": "Bilinear",
"maxImageHeight": 4100,
"maxImageWidth": 15000,
"allowRasterFunction": true,
"rasterFunctionInfos": [
{
"name": "None",
"description": "Make a Raster or Raster Dataset into a Function Raster Dataset.",
"help": ""
},
{
"name": "DW_SacRioVista_CASP2_ColorRamp",
"description": "color ramp 2",
"help": ""
}
],
"rasterTypeInfos": [
{
"name": "Raster Dataset",
"description": "Supports all ArcGIS Raster Datasets",
"help": ""
}
],
"mensurationCapabilities": "Basic",
"hasHistograms": true,
"hasColormap": false,
"hasRasterAttributeTable": false,
"minScale": 0,
"maxScale": 0,
"exportTilesAllowed": false,
"supportsStatistics": false,
"supportsAdvancedQueries": false,
"editFieldsInfo": null,
"ownershipBasedAccessControlForRasters": null,
"allowComputeTiePoints": false,
"useStandardizedQueries": true,
"advancedQueryCapabilities": {
"useStandardizedQueries": true,
"supportsStatistics": false,
"supportsOrderBy": false,
"supportsDistinct": false,
"supportsPagination": false
},
"spatialReference": {"wkt": "PROJCS[\"NAD_1983_StatePlane_California_III_FIPS_0403_Feet\",GEOGCS[\"GCS_North_American_1983\",DATUM[\"D_North_American_1983\",SPHEROID[\"GRS_1980\",6378137.0,298.257222101]],PRIMEM[\"Greenwich\",0.0],UNIT[\"Degree\",0.0174532925199433]],PROJECTION[\"Lambert_Conformal_Conic\"],PARAMETER[\"False_Easting\",6561666.666666666],PARAMETER[\"False_Northing\",1640416.666666667],PARAMETER[\"Central_Meridian\",-120.5],PARAMETER[\"Standard_Parallel_1\",37.06666666666667],PARAMETER[\"Standard_Parallel_2\",38.43333333333333],PARAMETER[\"Latitude_Of_Origin\",36.5],UNIT[\"Foot_US\",0.3048006096012192]],VERTCS[\"NAVD88\",VDATUM[\"North_American_Vertical_Datum_1988\"],PARAMETER[\"Vertical_Shift\",0.0],PARAMETER[\"Direction\",1.0],UNIT[\"Meter\",1.0]]"}
}