{ "currentVersion": 11.3, "serviceDescription": "
The California Department of Water Resources (DWR), North Central Region Office (NCRO), Bathymetry Data Collection Section, conducted a bathymetric survey of the Sacramento River as part of the Delta Wide Bathymetry Program. The main purpose of the data is to help complete bathymetric datasets of the North Delta and allow for relevant comparisons. <\/SPAN><\/P> \u2022 Field Dates: August 17-31, September 5,8,18, October 23-31, November 7-13, 27-30, December 11 2023; January 3-4, 16-18, 29-30, February 1, 2024 <\/SPAN><\/P> \u2022 Survey Type: Multibeam <\/SPAN><\/P> \u2022 Data Density: 1 foot grid <\/SPAN><\/P> \u2022 Horizontal Datum: North American Datum of 1983 (NAD83) California Coordinate System (CCS83) State Plane Zone 2, US feet <\/SPAN><\/P> \u2022 Vertical Datum: North American Vertical Datum of 1988 (NAVD88) geoid 12B, US feet <\/SPAN><\/P> \u2022 Processing Epoch: 2024.088; CSRC Datum Epoch: 2017.5 <\/SPAN><\/P> \u2022 Related Datasets: Cache Slough 2024; Sacramento River near Walnut Grove 2023; Sacramento River at Decker Island 2015, Steamboat Slough 2023; Sacramento River Singlebeam 2024, Threemile Slough 2019 <\/SPAN><\/P> \u2022 Involved Staff: Data collected and processed by NCRO Bathymetry and Hydrography sections <\/SPAN><\/P> \u2022 Survey Responsible Charge: Jacob Wright, PLS (CA 8717) <\/SPAN><\/P> Please contact the distributor for questions regarding survey control or QC checks. For complete metadata make sure the viewer (ArcGIS or other software) is set to view FGDC metadata.<\/SPAN><\/P><\/DIV><\/DIV><\/DIV>",
"name": "Bathymetry/Bathy_NCRO_20240201_SacramentoRvr_at_RioVista",
"description": "",
"extent": {
"xmin": 6621147.257345662,
"ymin": 1791827.7906216795,
"xmax": 6663028.257345662,
"ymax": 1854518.7906216795,
"spatialReference": {"wkt": "PROJCS[\"NAD_1983_StatePlane_California_II_FIPS_0402_Feet\",GEOGCS[\"GCS_North_American_1983\",DATUM[\"D_North_American_1983\",SPHEROID[\"GRS_1980\",6378137.0,298.257222101]],PRIMEM[\"Greenwich\",0.0],UNIT[\"Degree\",0.0174532925199433]],PROJECTION[\"Lambert_Conformal_Conic\"],PARAMETER[\"False_Easting\",6561666.667],PARAMETER[\"False_Northing\",1640416.667],PARAMETER[\"Central_Meridian\",-122.0],PARAMETER[\"Standard_Parallel_1\",38.3333333333333],PARAMETER[\"Standard_Parallel_2\",39.8333333333333],PARAMETER[\"Latitude_Of_Origin\",37.6666666666667],UNIT[\"Foot_US\",0.3048006096012192]]"}
},
"initialExtent": {
"xmin": 6621147.257345662,
"ymin": 1791827.7906216795,
"xmax": 6663028.257345662,
"ymax": 1854518.7906216795,
"spatialReference": {"wkt": "PROJCS[\"NAD_1983_StatePlane_California_II_FIPS_0402_Feet\",GEOGCS[\"GCS_North_American_1983\",DATUM[\"D_North_American_1983\",SPHEROID[\"GRS_1980\",6378137.0,298.257222101]],PRIMEM[\"Greenwich\",0.0],UNIT[\"Degree\",0.0174532925199433]],PROJECTION[\"Lambert_Conformal_Conic\"],PARAMETER[\"False_Easting\",6561666.667],PARAMETER[\"False_Northing\",1640416.667],PARAMETER[\"Central_Meridian\",-122.0],PARAMETER[\"Standard_Parallel_1\",38.3333333333333],PARAMETER[\"Standard_Parallel_2\",39.8333333333333],PARAMETER[\"Latitude_Of_Origin\",37.6666666666667],UNIT[\"Foot_US\",0.3048006096012192]]"}
},
"fullExtent": {
"xmin": 6621147.257345662,
"ymin": 1791827.7906216795,
"xmax": 6663028.257345662,
"ymax": 1854518.7906216795,
"spatialReference": {"wkt": "PROJCS[\"NAD_1983_StatePlane_California_II_FIPS_0402_Feet\",GEOGCS[\"GCS_North_American_1983\",DATUM[\"D_North_American_1983\",SPHEROID[\"GRS_1980\",6378137.0,298.257222101]],PRIMEM[\"Greenwich\",0.0],UNIT[\"Degree\",0.0174532925199433]],PROJECTION[\"Lambert_Conformal_Conic\"],PARAMETER[\"False_Easting\",6561666.667],PARAMETER[\"False_Northing\",1640416.667],PARAMETER[\"Central_Meridian\",-122.0],PARAMETER[\"Standard_Parallel_1\",38.3333333333333],PARAMETER[\"Standard_Parallel_2\",39.8333333333333],PARAMETER[\"Latitude_Of_Origin\",37.6666666666667],UNIT[\"Foot_US\",0.3048006096012192]]"}
},
"sortableFields": "MinPS,MaxPS,LowPS,HighPS,CenterX,CenterY,ZOrder,Shape_Length,Shape_Area",
"bandCount": 1,
"pixelType": "F32",
"minValues": [
-119.97371673584
],
"maxValues": [
8.2579727172852
],
"meanValues": [
-24.315473259663
],
"stdvValues": [
12.477493295183
],
"hasMultidimensions": false,
"pixelSizeX": 1,
"pixelSizeY": 1,
"meanPixelSize": 0.30480060960121924,
"datasetFormat": "TIFF",
"uncompressedSize": 10502247084,
"blockWidth": 512,
"blockHeight": 512,
"compressionType": "LZW",
"bandNames": [
"Band_1"
],
"allowCopy": true,
"allowAnalysis": true,
"itemAccess": false,
"inspectionCapabilities": "",
"noDataValue": -3.4028230607370965E38,
"noDataValues": [
-3.4028230607370965E38
],
"minPixelSize": 0,
"maxPixelSize": 0,
"copyrightText": "California Department of Water Resources, Division of Regional Assistance, North Central Region Office, Hydrography and Technical Support.",
"serviceDataType": "esriImageServiceDataTypeGeneric",
"serviceSourceType": "esriImageServiceSourceTypeDataset",
"objectIdField": "",
"fields": [],
"capabilities": "Image,Metadata,Mensuration",
"defaultMosaicMethod": "Center",
"allowedMosaicMethods": "",
"sortField": "",
"sortValue": null,
"sortAscending": true,
"mosaicOperator": "First",
"defaultCompressionQuality": 75,
"defaultResamplingMethod": "Bilinear",
"maxImageHeight": 4100,
"maxImageWidth": 15000,
"allowRasterFunction": true,
"rasterFunctionInfos": [
{
"name": "None",
"description": "Make a Raster or Raster Dataset into a Function Raster Dataset.",
"help": ""
},
{
"name": "None",
"description": "Make a Raster or Raster Dataset into a Function Raster Dataset.",
"help": ""
},
{
"name": "DW_SacRioVista_CASP2_ColorRamp",
"description": "color ramp 2",
"help": ""
}
],
"rasterTypeInfos": [
{
"name": "Raster Dataset",
"description": "Supports all ArcGIS Raster Datasets",
"help": ""
}
],
"mensurationCapabilities": "Basic",
"hasHistograms": true,
"hasColormap": false,
"hasRasterAttributeTable": false,
"minScale": 0,
"maxScale": 0,
"exportTilesAllowed": false,
"supportsStatistics": false,
"supportsAdvancedQueries": false,
"editFieldsInfo": null,
"ownershipBasedAccessControlForRasters": null,
"allowComputeTiePoints": false,
"useStandardizedQueries": true,
"advancedQueryCapabilities": {
"useStandardizedQueries": true,
"supportsStatistics": false,
"supportsOrderBy": false,
"supportsDistinct": false,
"supportsPagination": false
},
"spatialReference": {"wkt": "PROJCS[\"NAD_1983_StatePlane_California_II_FIPS_0402_Feet\",GEOGCS[\"GCS_North_American_1983\",DATUM[\"D_North_American_1983\",SPHEROID[\"GRS_1980\",6378137.0,298.257222101]],PRIMEM[\"Greenwich\",0.0],UNIT[\"Degree\",0.0174532925199433]],PROJECTION[\"Lambert_Conformal_Conic\"],PARAMETER[\"False_Easting\",6561666.667],PARAMETER[\"False_Northing\",1640416.667],PARAMETER[\"Central_Meridian\",-122.0],PARAMETER[\"Standard_Parallel_1\",38.3333333333333],PARAMETER[\"Standard_Parallel_2\",39.8333333333333],PARAMETER[\"Latitude_Of_Origin\",37.6666666666667],UNIT[\"Foot_US\",0.3048006096012192]]"}
}