{ "currentVersion": 11.3, "serviceDescription": "
The California Department of Water Resources (DWR), North Central Region Office (NCRO), Bathymetry Data Collection Section, conducted a bathymetric survey of Grizzly Bay as part of the Delta Wide Bathymetry Program. The main purpose of the data is to help complete bathymetric datasets of Suisun Marsh and allow for relevant comparisons. Due to conditions in the field, the extents of this multibeam dataset were limited and the rest of the bay was canvassed in a corresponding singlebeam survey.<\/SPAN><\/P> \u2022 Field Dates: February 20, 22, 27-28, March 4-7, 11, 2024 <\/SPAN><\/P> \u2022 Survey Type: Multibeam <\/SPAN><\/P> \u2022 Data Density: 1 meter grid <\/SPAN><\/P> \u2022 Horizontal Datum: North American Datum of 1983 (NAD83) California Coordinate System (CCS83) State Plane Zone 2, US feet <\/SPAN><\/P> \u2022 Vertical Datum: North American Vertical Datum of 1988 (NAVD88) geoid 12B, US feet <\/SPAN><\/P> \u2022 Processing Epoch: 2024.195; CSRC Datum Epoch: 2017.5 <\/SPAN><\/P> \u2022 Related Datasets: Grizzly Bay Singlebeam 2024, Montezuma Slough Multibeam 2018, Suisun Slough 2018 <\/SPAN><\/P> \u2022 Involved Staff: Data collected and processed by NCRO Bathymetry and Hydrography sections <\/SPAN><\/P> \u2022 Survey Responsible Charge: Jacob Wright, PLS (CA 8717) <\/SPAN><\/P> Please contact the distributor for questions regarding survey control or QC checks. <\/SPAN><\/P> For complete metadata make sure the viewer (ArcGIS or other software) is set to view FGDC metadata.<\/SPAN><\/P> <\/P><\/DIV><\/DIV><\/DIV>",
"name": "Bathymetry/Bathy_NCRO_20240311_GrizzlyBay",
"description": "",
"extent": {
"xmin": 1986123.8916,
"ymin": 542333.246,
"xmax": 2013897.8916,
"ymax": 555180.246,
"spatialReference": {"wkt": "PROJCS[\"NAD_1983_StatePlane_California_II_FIPS_0402_Feet\",GEOGCS[\"GCS_North_American_1983\",DATUM[\"D_North_American_1983\",SPHEROID[\"GRS_1980\",6378137.0,298.257222101]],PRIMEM[\"Greenwich\",0.0],UNIT[\"degree (supplier to define representation)\",0.0174532925199433]],PROJECTION[\"Lambert_Conformal_Conic\"],PARAMETER[\"False_Easting\",2000000.0001016],PARAMETER[\"False_Northing\",500000.0001016],PARAMETER[\"Central_Meridian\",-122.0],PARAMETER[\"Standard_Parallel_1\",38.3333333333333],PARAMETER[\"Standard_Parallel_2\",39.8333333333333],PARAMETER[\"Latitude_Of_Origin\",37.6666666666667],UNIT[\"Meter\",1.0]]"}
},
"initialExtent": {
"xmin": 1986123.8916,
"ymin": 542333.246,
"xmax": 2013897.8916,
"ymax": 555180.246,
"spatialReference": {"wkt": "PROJCS[\"NAD_1983_StatePlane_California_II_FIPS_0402_Feet\",GEOGCS[\"GCS_North_American_1983\",DATUM[\"D_North_American_1983\",SPHEROID[\"GRS_1980\",6378137.0,298.257222101]],PRIMEM[\"Greenwich\",0.0],UNIT[\"degree (supplier to define representation)\",0.0174532925199433]],PROJECTION[\"Lambert_Conformal_Conic\"],PARAMETER[\"False_Easting\",2000000.0001016],PARAMETER[\"False_Northing\",500000.0001016],PARAMETER[\"Central_Meridian\",-122.0],PARAMETER[\"Standard_Parallel_1\",38.3333333333333],PARAMETER[\"Standard_Parallel_2\",39.8333333333333],PARAMETER[\"Latitude_Of_Origin\",37.6666666666667],UNIT[\"Meter\",1.0]]"}
},
"fullExtent": {
"xmin": 1986123.8916,
"ymin": 542333.246,
"xmax": 2013897.8916,
"ymax": 555180.246,
"spatialReference": {"wkt": "PROJCS[\"NAD_1983_StatePlane_California_II_FIPS_0402_Feet\",GEOGCS[\"GCS_North_American_1983\",DATUM[\"D_North_American_1983\",SPHEROID[\"GRS_1980\",6378137.0,298.257222101]],PRIMEM[\"Greenwich\",0.0],UNIT[\"degree (supplier to define representation)\",0.0174532925199433]],PROJECTION[\"Lambert_Conformal_Conic\"],PARAMETER[\"False_Easting\",2000000.0001016],PARAMETER[\"False_Northing\",500000.0001016],PARAMETER[\"Central_Meridian\",-122.0],PARAMETER[\"Standard_Parallel_1\",38.3333333333333],PARAMETER[\"Standard_Parallel_2\",39.8333333333333],PARAMETER[\"Latitude_Of_Origin\",37.6666666666667],UNIT[\"Meter\",1.0]]"}
},
"sortableFields": "MinPS,MaxPS,LowPS,HighPS,CenterX,CenterY,ZOrder,Shape_Length,Shape_Area,DateFrom,DateTo",
"bandCount": 1,
"pixelType": "F32",
"minValues": [
-47.469413757324
],
"maxValues": [
4.5275592803955
],
"meanValues": [
-16.954990825105
],
"stdvValues": [
8.9073610414953
],
"hasMultidimensions": false,
"pixelSizeX": 1,
"pixelSizeY": 1,
"meanPixelSize": 1,
"datasetFormat": "TIFF",
"uncompressedSize": 1427250312,
"blockWidth": 512,
"blockHeight": 512,
"compressionType": "LZW",
"bandNames": [
"Band_1"
],
"allowCopy": true,
"allowAnalysis": true,
"itemAccess": false,
"inspectionCapabilities": "",
"noDataValue": 3.3999999521443642E38,
"noDataValues": [
3.3999999521443642E38
],
"minPixelSize": 0,
"maxPixelSize": 0,
"copyrightText": "California Department of Water Resources, Division of Regional Assistance, North Central Region Office, Hydrography and Technical Support.",
"serviceDataType": "esriImageServiceDataTypeGeneric",
"serviceSourceType": "esriImageServiceSourceTypeDataset",
"objectIdField": "",
"fields": [],
"capabilities": "Image,Metadata,Mensuration",
"defaultMosaicMethod": "Center",
"allowedMosaicMethods": "",
"sortField": "",
"sortValue": null,
"sortAscending": true,
"mosaicOperator": "First",
"defaultCompressionQuality": 75,
"defaultResamplingMethod": "Bilinear",
"maxImageHeight": 4100,
"maxImageWidth": 15000,
"allowRasterFunction": true,
"rasterFunctionInfos": [
{
"name": "None",
"description": "Make a Raster or Raster Dataset into a Function Raster Dataset.",
"help": ""
},
{
"name": "DW_SacRioVista_CASP2_ColorRamp",
"description": "color ramp 2",
"help": ""
}
],
"rasterTypeInfos": [
{
"name": "Raster Dataset",
"description": "Supports all ArcGIS Raster Datasets",
"help": ""
}
],
"mensurationCapabilities": "Basic",
"hasHistograms": true,
"hasColormap": false,
"hasRasterAttributeTable": false,
"minScale": 0,
"maxScale": 0,
"exportTilesAllowed": false,
"supportsStatistics": false,
"supportsAdvancedQueries": false,
"editFieldsInfo": null,
"ownershipBasedAccessControlForRasters": null,
"allowComputeTiePoints": false,
"useStandardizedQueries": true,
"advancedQueryCapabilities": {
"useStandardizedQueries": true,
"supportsStatistics": false,
"supportsOrderBy": false,
"supportsDistinct": false,
"supportsPagination": false
},
"spatialReference": {"wkt": "PROJCS[\"NAD_1983_StatePlane_California_II_FIPS_0402_Feet\",GEOGCS[\"GCS_North_American_1983\",DATUM[\"D_North_American_1983\",SPHEROID[\"GRS_1980\",6378137.0,298.257222101]],PRIMEM[\"Greenwich\",0.0],UNIT[\"degree (supplier to define representation)\",0.0174532925199433]],PROJECTION[\"Lambert_Conformal_Conic\"],PARAMETER[\"False_Easting\",2000000.0001016],PARAMETER[\"False_Northing\",500000.0001016],PARAMETER[\"Central_Meridian\",-122.0],PARAMETER[\"Standard_Parallel_1\",38.3333333333333],PARAMETER[\"Standard_Parallel_2\",39.8333333333333],PARAMETER[\"Latitude_Of_Origin\",37.6666666666667],UNIT[\"Meter\",1.0]]"}
}