{ "currentVersion": 11.3, "serviceDescription": "
The California Department of Water Resources (DWR), North Central Region Office (NCRO), Bathymetry Data Collection Section, conducted a bathymetric survey of Dyer Reservoir for the Delta Field Division. The main purpose of the data is to better understand sediment influx into the basin and to monitor submerged fixed works. <\/SPAN><\/P> \u2022 Field Dates: April 10, 2024 <\/SPAN><\/P> \u2022 Survey Type: Multibeam / Lidar<\/SPAN><\/P> \u2022 Data Density: 1 foot grid <\/SPAN><\/P> \u2022 Horizontal Datum: North American Datum of 1983 (NAD83), California Coordinate System (CCS83) State Plane Zone 3, US feet <\/SPAN><\/P> \u2022 Vertical Datum: North American Vertical Datum of 1988 (NAVD88) Geoid 18, US feet <\/SPAN><\/P> \u2022 Processing Epoch: 2017.5; CSRC Datum Epoch: 2017.5 <\/SPAN><\/P> \u2022 Related Datasets: Dyer Reservoir multibeam Feb. 2021 (NCRO); Dyer Reservoir lidar May. 2018 (DOE) <\/SPAN><\/P> \u2022 Involved Staff: Data collected and processed by NCRO Bathymetry and Hydrography sections <\/SPAN><\/P> \u2022 Survey Responsible Charge: Jacob Wright, PLS (CA 8717) <\/SPAN><\/P> Please see associated survey report for full control and QC check details. <\/SPAN><\/P> For complete metadata make sure the viewer (ArcGIS or other software) is set to view FGDC metadata.<\/SPAN><\/P><\/DIV><\/DIV><\/DIV>",
"name": "Bathymetry/Bathy_NCRO_20240410_DyerReservoir_Interpolated",
"description": "",
"extent": {
"xmin": 6221985.874000001,
"ymin": 2099792.244399969,
"xmax": 6222970.874000001,
"ymax": 2101242.244399969,
"spatialReference": {"wkt": "PROJCS[\"NAD_1983_StatePlane_California_III_FIPS_0403_Feet\",GEOGCS[\"GCS_North_American_1983\",DATUM[\"D_North_American_1983\",SPHEROID[\"GRS_1980\",6378137.0,298.257222101]],PRIMEM[\"Greenwich\",0.0],UNIT[\"Degree\",0.0174532925199433]],PROJECTION[\"Lambert_Conformal_Conic\"],PARAMETER[\"False_Easting\",6561666.667],PARAMETER[\"False_Northing\",1640416.667],PARAMETER[\"Central_Meridian\",-120.5],PARAMETER[\"Standard_Parallel_1\",37.0666666666667],PARAMETER[\"Standard_Parallel_2\",38.4333333333333],PARAMETER[\"Latitude_Of_Origin\",36.5],UNIT[\"Foot_US\",0.3048006096012192]]"}
},
"initialExtent": {
"xmin": 6221985.874000001,
"ymin": 2099792.244399969,
"xmax": 6222970.874000001,
"ymax": 2101242.244399969,
"spatialReference": {"wkt": "PROJCS[\"NAD_1983_StatePlane_California_III_FIPS_0403_Feet\",GEOGCS[\"GCS_North_American_1983\",DATUM[\"D_North_American_1983\",SPHEROID[\"GRS_1980\",6378137.0,298.257222101]],PRIMEM[\"Greenwich\",0.0],UNIT[\"Degree\",0.0174532925199433]],PROJECTION[\"Lambert_Conformal_Conic\"],PARAMETER[\"False_Easting\",6561666.667],PARAMETER[\"False_Northing\",1640416.667],PARAMETER[\"Central_Meridian\",-120.5],PARAMETER[\"Standard_Parallel_1\",37.0666666666667],PARAMETER[\"Standard_Parallel_2\",38.4333333333333],PARAMETER[\"Latitude_Of_Origin\",36.5],UNIT[\"Foot_US\",0.3048006096012192]]"}
},
"fullExtent": {
"xmin": 6221985.874000001,
"ymin": 2099792.244399969,
"xmax": 6222970.874000001,
"ymax": 2101242.244399969,
"spatialReference": {"wkt": "PROJCS[\"NAD_1983_StatePlane_California_III_FIPS_0403_Feet\",GEOGCS[\"GCS_North_American_1983\",DATUM[\"D_North_American_1983\",SPHEROID[\"GRS_1980\",6378137.0,298.257222101]],PRIMEM[\"Greenwich\",0.0],UNIT[\"Degree\",0.0174532925199433]],PROJECTION[\"Lambert_Conformal_Conic\"],PARAMETER[\"False_Easting\",6561666.667],PARAMETER[\"False_Northing\",1640416.667],PARAMETER[\"Central_Meridian\",-120.5],PARAMETER[\"Standard_Parallel_1\",37.0666666666667],PARAMETER[\"Standard_Parallel_2\",38.4333333333333],PARAMETER[\"Latitude_Of_Origin\",36.5],UNIT[\"Foot_US\",0.3048006096012192]]"}
},
"sortableFields": "MinPS,MaxPS,LowPS,HighPS,CenterX,CenterY,ZOrder,Shape_Length,Shape_Area",
"bandCount": 1,
"pixelType": "F32",
"minValues": [
779.46551513672
],
"maxValues": [
816.55303955078
],
"meanValues": [
788.56336822074
],
"stdvValues": [
8.9505088697472
],
"hasMultidimensions": false,
"pixelSizeX": 1,
"pixelSizeY": 1,
"meanPixelSize": 0.30480060960121924,
"datasetFormat": "TIFF",
"uncompressedSize": 5713000,
"blockWidth": 512,
"blockHeight": 512,
"compressionType": "LZW",
"bandNames": [
"Band_1"
],
"allowCopy": true,
"allowAnalysis": true,
"itemAccess": false,
"inspectionCapabilities": "",
"noDataValue": 3.3999999521443642E38,
"noDataValues": [
3.3999999521443642E38
],
"minPixelSize": 0,
"maxPixelSize": 0,
"copyrightText": "California Department of Water Resources, Division of Regional Assistance, North Central Region Office, Hydrography and Technical Support.",
"serviceDataType": "esriImageServiceDataTypeGeneric",
"serviceSourceType": "esriImageServiceSourceTypeDataset",
"objectIdField": "",
"fields": [],
"capabilities": "Image,Metadata,Mensuration",
"defaultMosaicMethod": "Center",
"allowedMosaicMethods": "",
"sortField": "",
"sortValue": null,
"sortAscending": true,
"mosaicOperator": "First",
"defaultCompressionQuality": 75,
"defaultResamplingMethod": "Bilinear",
"maxImageHeight": 4100,
"maxImageWidth": 15000,
"allowRasterFunction": true,
"rasterFunctionInfos": [
{
"name": "None",
"description": "Make a Raster or Raster Dataset into a Function Raster Dataset.",
"help": ""
},
{
"name": "None",
"description": "Make a Raster or Raster Dataset into a Function Raster Dataset.",
"help": ""
},
{
"name": "DW_SacRioVista_CASP2_ColorRamp",
"description": "color ramp 2",
"help": ""
}
],
"rasterTypeInfos": [
{
"name": "Raster Dataset",
"description": "Supports all ArcGIS Raster Datasets",
"help": ""
}
],
"mensurationCapabilities": "Basic",
"hasHistograms": true,
"hasColormap": false,
"hasRasterAttributeTable": false,
"minScale": 0,
"maxScale": 0,
"exportTilesAllowed": false,
"supportsStatistics": false,
"supportsAdvancedQueries": false,
"editFieldsInfo": null,
"ownershipBasedAccessControlForRasters": null,
"allowComputeTiePoints": false,
"useStandardizedQueries": true,
"advancedQueryCapabilities": {
"useStandardizedQueries": true,
"supportsStatistics": false,
"supportsOrderBy": false,
"supportsDistinct": false,
"supportsPagination": false
},
"spatialReference": {"wkt": "PROJCS[\"NAD_1983_StatePlane_California_III_FIPS_0403_Feet\",GEOGCS[\"GCS_North_American_1983\",DATUM[\"D_North_American_1983\",SPHEROID[\"GRS_1980\",6378137.0,298.257222101]],PRIMEM[\"Greenwich\",0.0],UNIT[\"Degree\",0.0174532925199433]],PROJECTION[\"Lambert_Conformal_Conic\"],PARAMETER[\"False_Easting\",6561666.667],PARAMETER[\"False_Northing\",1640416.667],PARAMETER[\"Central_Meridian\",-120.5],PARAMETER[\"Standard_Parallel_1\",37.0666666666667],PARAMETER[\"Standard_Parallel_2\",38.4333333333333],PARAMETER[\"Latitude_Of_Origin\",36.5],UNIT[\"Foot_US\",0.3048006096012192]]"}
}