<?xml version="1.0" encoding="UTF-8" standalone="no"?>
<metadata xml:lang="en">
<Esri>
<CreaDate>20250327</CreaDate>
<CreaTime>14133400</CreaTime>
<ArcGISFormat>1.0</ArcGISFormat>
<SyncOnce>FALSE</SyncOnce>
<scaleRange>
<minScale>150000000</minScale>
<maxScale>5000</maxScale>
</scaleRange>
<ArcGISProfile>FGDC</ArcGISProfile>
<DataProperties>
<itemProps>
<itemName Sync="TRUE">Bathy_NCRO_20240508_LakeDelValle_Interpolated_3ft_COG.tif</itemName>
<itemLocation>
<linkage Sync="TRUE">file://\\cnrastore-gis\DWR_RIL_4\bathymetry\Bath2024\Bathy_NCRO_20240508_LakeDelValle_Interpolated_3ft_COG.tif</linkage>
<protocol Sync="TRUE">Local Area Network</protocol>
</itemLocation>
<imsContentType Sync="TRUE">002</imsContentType>
<nativeExtBox>
<westBL Sync="TRUE">6200410.125627</westBL>
<eastBL Sync="TRUE">6217213.125627</eastBL>
<southBL Sync="TRUE">2034183.344748</southBL>
<northBL Sync="TRUE">2050686.344748</northBL>
<exTypeCode Sync="TRUE">1</exTypeCode>
</nativeExtBox>
</itemProps>
<coordRef>
<type Sync="TRUE">Projected</type>
<geogcsn Sync="TRUE">GCS_NAD_1983_2011</geogcsn>
<csUnits Sync="TRUE">Linear Unit: Foot_US (0.304801)</csUnits>
<projcsn Sync="TRUE">NAD_1983_2011_StatePlane_California_III_FIPS_0403_Ft_US</projcsn>
<peXml Sync="TRUE">&lt;ProjectedCoordinateSystem xsi:type='typens:ProjectedCoordinateSystem' xmlns:xsi='http://www.w3.org/2001/XMLSchema-instance' xmlns:xs='http://www.w3.org/2001/XMLSchema' xmlns:typens='http://www.esri.com/schemas/ArcGIS/10.8'&gt;&lt;WKT&gt;PROJCS[&amp;quot;NAD_1983_2011_StatePlane_California_III_FIPS_0403_Ft_US&amp;quot;,GEOGCS[&amp;quot;GCS_NAD_1983_2011&amp;quot;,DATUM[&amp;quot;D_NAD_1983_2011&amp;quot;,SPHEROID[&amp;quot;GRS_1980&amp;quot;,6378137.0,298.257222101]],PRIMEM[&amp;quot;Greenwich&amp;quot;,0.0],UNIT[&amp;quot;Degree&amp;quot;,0.0174532925199433]],PROJECTION[&amp;quot;Lambert_Conformal_Conic&amp;quot;],PARAMETER[&amp;quot;False_Easting&amp;quot;,6561666.667],PARAMETER[&amp;quot;False_Northing&amp;quot;,1640416.667],PARAMETER[&amp;quot;Central_Meridian&amp;quot;,-120.5],PARAMETER[&amp;quot;Standard_Parallel_1&amp;quot;,37.0666666666667],PARAMETER[&amp;quot;Standard_Parallel_2&amp;quot;,38.4333333333333],PARAMETER[&amp;quot;Latitude_Of_Origin&amp;quot;,36.5],UNIT[&amp;quot;Foot_US&amp;quot;,0.3048006096012192]],VERTCS[&amp;quot;NAVD88_height_(ftUS)&amp;quot;,VDATUM[&amp;quot;North_American_Vertical_Datum_1988&amp;quot;],PARAMETER[&amp;quot;Vertical_Shift&amp;quot;,0.0],PARAMETER[&amp;quot;Direction&amp;quot;,1.0],UNIT[&amp;quot;Foot_US&amp;quot;,0.3048006096012192],AUTHORITY[&amp;quot;EPSG&amp;quot;,6360]]&lt;/WKT&gt;&lt;XOrigin&gt;-115860600&lt;/XOrigin&gt;&lt;YOrigin&gt;-93269500&lt;/YOrigin&gt;&lt;XYScale&gt;36787427.345686711&lt;/XYScale&gt;&lt;ZOrigin&gt;-100000&lt;/ZOrigin&gt;&lt;ZScale&gt;10000&lt;/ZScale&gt;&lt;MOrigin&gt;-100000&lt;/MOrigin&gt;&lt;MScale&gt;10000&lt;/MScale&gt;&lt;XYTolerance&gt;0.0032808333333333331&lt;/XYTolerance&gt;&lt;ZTolerance&gt;0.001&lt;/ZTolerance&gt;&lt;MTolerance&gt;0.001&lt;/MTolerance&gt;&lt;HighPrecision&gt;true&lt;/HighPrecision&gt;&lt;VCSWKID&gt;105703&lt;/VCSWKID&gt;&lt;LatestVCSWKID&gt;6360&lt;/LatestVCSWKID&gt;&lt;/ProjectedCoordinateSystem&gt;</peXml>
</coordRef>
<RasterProperties>
<General>
<PixelDepth Sync="TRUE">32</PixelDepth>
<HasColormap Sync="TRUE">FALSE</HasColormap>
<CompressionType Sync="TRUE">LZW</CompressionType>
<NumBands Sync="TRUE">1</NumBands>
<Format Sync="TRUE">TIFF</Format>
<HasPyramids Sync="TRUE">TRUE</HasPyramids>
<SourceType Sync="TRUE">continuous</SourceType>
<PixelType Sync="TRUE">floating point</PixelType>
<NoDataValue Sync="TRUE">3.4e+38</NoDataValue>
</General>
</RasterProperties>
</DataProperties>
<SyncDate>20250422</SyncDate>
<SyncTime>15513800</SyncTime>
<ModDate>20250422</ModDate>
<ModTime>15513800</ModTime>
</Esri>
<dataIdInfo>
<idPurp>This bathymetric dataset is intended to be used to update bathymetry of the Lake, document any apparent issues with submerged fixed works, and serve as a component in studies of sediment accumulation rates.
This is an official DWR Image Service, which meets all appropriate requirements of the DWR Spatial Data Standards, specifically the DWR Spatial Data Standard version 3.6, dated September 27, 2023.
DWR makes no warranties or guarantees — either expressed or implied — as to the completeness, accuracy, or correctness of the data. DWR neither accepts nor assumes liability arising from or for any incorrect, incomplete, or misleading subject data.
This Image Service was published on 12/12/2024, by Bianca Pertl of the DWR Division of Engineering, who may be contacted at 916-757-3593, or at bianca.pertl@water.ca.gov. Comments, problems, improvements, updates, or suggestions should be forwarded to the official DWR point of contact as available and appropriate.</idPurp>
<idAbs>&lt;div style='text-align:Left;'&gt;&lt;div&gt;&lt;div&gt;&lt;p&gt;&lt;span&gt;The California Department of Water Resources (DWR), North Central Region Office (NCRO), Bathymetry Data Collection Section, conducted a bathymetric survey of Lake Del Valle for the Delta Field Division (DFD). The main purpose of the data is to provide an updated elevation surface for the Lake and to assess sedimentation rates. This dataset is an interpolated surface comprised of three components: multibeam bathymetry throughout most of the Lake, singlebeam bathymetry in the southermost shoal areas near the intlet from Arroyo Del Valle, and lidar data above elevation 705.5 ft NAVD88 flown by Towill, Inc. for DWR in May, 2023. Areas derived from interpolated regions beyond the bounds of relevant new data are denoted in the related layer in this geodatabase NCRO_Bathy_LakeDelValle_May2024_Data_Extents. &lt;/span&gt;&lt;/p&gt;&lt;p&gt;&lt;span&gt;• Field Dates: March 18-21 and May 6-8, 2024 &lt;/span&gt;&lt;/p&gt;&lt;p&gt;&lt;span&gt;• Survey Type: Multibeam and Singlebeam&lt;/span&gt;&lt;/p&gt;&lt;p&gt;&lt;span&gt;• Data Density: 3 foot grid &lt;/span&gt;&lt;/p&gt;&lt;p&gt;&lt;span&gt;• Horizontal Datum: North American Datum of 1983 (NAD83), California Coordinate System (CCS83) State Plane Zone 3, US feet &lt;/span&gt;&lt;/p&gt;&lt;p&gt;&lt;span&gt;• Vertical Datum: North American Vertical Datum of 1988 (NAVD88) geoid 18, US feet &lt;/span&gt;&lt;/p&gt;&lt;p&gt;&lt;span&gt;• Processing Epoch: 2024.353; CSRC Datum Epoch: 2017.5 &lt;/span&gt;&lt;/p&gt;&lt;p&gt;&lt;span&gt;• Related Datasets: Lake Del Valle NCRO bathymetry 2018, Towill Lidar, 2023 &lt;/span&gt;&lt;/p&gt;&lt;p&gt;&lt;span&gt;• Involved Staff: Data collected and processed by NCRO Bathymetry and Hydrography sections &lt;/span&gt;&lt;/p&gt;&lt;p&gt;&lt;span&gt;• Survey Responsible Charge: Jacob Wright, PLS (CA 8717) &lt;/span&gt;&lt;/p&gt;&lt;p&gt;&lt;span&gt;Please see associated survey report for full control and QC check details. &lt;/span&gt;&lt;/p&gt;&lt;p&gt;&lt;span&gt;For complete metadata make sure the viewer (ArcGIS or other software) is set to view FGDC metadata.&lt;/span&gt;&lt;/p&gt;&lt;p&gt;&lt;span /&gt;&lt;/p&gt;&lt;/div&gt;&lt;/div&gt;&lt;/div&gt;</idAbs>
<idCredit>California Department of Water Resources, Division of Regional Assistance, North Central Region Office, Hydrography and Technical Support. Lidar data credit: Towill, Inc., 2023.</idCredit>
<idCitation>
<resTitle>Bathy_NCRO_20240508_LakeDelValle_Interpolated_3ft</resTitle>
<presForm>
<PresFormCd Sync="TRUE" value="005"/>
</presForm>
</idCitation>
<searchKeys>
<keyword>Inland Waters</keyword>
<keyword>Lake Del Valle</keyword>
<keyword>East Bay Parks</keyword>
<keyword>Bathymetry</keyword>
<keyword>Sonar</keyword>
<keyword>Elevation</keyword>
<keyword>March</keyword>
<keyword>May</keyword>
<keyword>2024</keyword>
<keyword>Multibeam</keyword>
</searchKeys>
<resConst>
<Consts>
<useLimit>&lt;div style='text-align:Left;'&gt;&lt;div&gt;&lt;div&gt;&lt;p&gt;&lt;span&gt;This dataset was valid at the time it was measured, however, changes may have occurred since and these data may no longer represent actual surface conditions. Acknowledgement of the Department of Water Resources, NCRO, Hydrography and Technical Support is appreciated for products derived from these data. Towill, Inc. should additionally be acknowledged in any products that make use of the terrestrial lidar data above 705.5 ft NAVD88.&lt;/span&gt;&lt;/p&gt;&lt;/div&gt;&lt;/div&gt;&lt;/div&gt;</useLimit>
</Consts>
</resConst>
<envirDesc Sync="TRUE"> Version 6.2 (Build 9200) ; Esri ArcGIS 10.9.1.28388</envirDesc>
<dataLang>
<languageCode Sync="TRUE" value="eng"/>
<countryCode Sync="TRUE" value="USA"/>
</dataLang>
<spatRpType>
<SpatRepTypCd Sync="TRUE" value="002"/>
</spatRpType>
<dataExt>
<geoEle>
<GeoBndBox esriExtentType="search">
<exTypeCode Sync="TRUE">1</exTypeCode>
<westBL Sync="TRUE">-121.747367</westBL>
<eastBL Sync="TRUE">-121.688631</eastBL>
<northBL Sync="TRUE">37.620765</northBL>
<southBL Sync="TRUE">37.574845</southBL>
</GeoBndBox>
</geoEle>
</dataExt>
</dataIdInfo>
<mdHrLv>
<ScopeCd value="005"/>
</mdHrLv>
<mdDateSt Sync="TRUE">20250422</mdDateSt>
<mdLang>
<languageCode Sync="TRUE" value="eng"/>
<countryCode Sync="TRUE" value="USA"/>
</mdLang>
<distInfo>
<distFormat>
<formatName Sync="TRUE">Raster Dataset</formatName>
</distFormat>
</distInfo>
<mdHrLvName Sync="TRUE">dataset</mdHrLvName>
<refSysInfo>
<RefSystem>
<refSysID>
<identCode Sync="TRUE" code="0"/>
</refSysID>
</RefSystem>
</refSysInfo>
<spatRepInfo>
<Georect>
<cellGeo>
<CellGeoCd Sync="TRUE" value="002"/>
</cellGeo>
<numDims Sync="TRUE">2</numDims>
<tranParaAv Sync="TRUE">1</tranParaAv>
<chkPtAv Sync="TRUE">0</chkPtAv>
<cornerPts>
<pos Sync="TRUE">6200410.125627 2034183.344748</pos>
</cornerPts>
<cornerPts>
<pos Sync="TRUE">6200410.125627 2050686.344748</pos>
</cornerPts>
<cornerPts>
<pos Sync="TRUE">6217213.125627 2050686.344748</pos>
</cornerPts>
<cornerPts>
<pos Sync="TRUE">6217213.125627 2034183.344748</pos>
</cornerPts>
<centerPt>
<pos Sync="TRUE">6208811.625627 2042434.844748</pos>
</centerPt>
<axisDimension type="002">
<dimSize Sync="TRUE">5601</dimSize>
<dimResol>
<value Sync="TRUE" uom="ftUS">3.000000</value>
</dimResol>
</axisDimension>
<axisDimension type="001">
<dimSize Sync="TRUE">5501</dimSize>
<dimResol>
<value Sync="TRUE" uom="ftUS">3.000000</value>
</dimResol>
</axisDimension>
<ptInPixel>
<PixOrientCd Sync="TRUE" value="001"/>
</ptInPixel>
</Georect>
</spatRepInfo>
<contInfo>
<ImgDesc>
<contentTyp>
<ContentTypCd Sync="TRUE" value="001"/>
</contentTyp>
<covDim>
<Band>
<dimDescrp Sync="TRUE">Band_1</dimDescrp>
<maxVal Sync="TRUE">747.704163</maxVal>
<minVal Sync="TRUE">570.119141</minVal>
<bitsPerVal Sync="TRUE">32</bitsPerVal>
<valUnit>
<UOM type="length"/>
</valUnit>
</Band>
</covDim>
</ImgDesc>
</contInfo>
</metadata>
