<?xml version="1.0" encoding="UTF-8" standalone="no"?>
<metadata xml:lang="en">
<Esri>
<CreaDate>20260225</CreaDate>
<CreaTime>07572200</CreaTime>
<ArcGISFormat>1.0</ArcGISFormat>
<SyncOnce>FALSE</SyncOnce>
<DataProperties>
<itemProps>
<itemName Sync="TRUE">Bathy_NCRO_20250318_SanJoaquinRiver_COG.tif</itemName>
<imsContentType Sync="TRUE">002</imsContentType>
<nativeExtBox>
<westBL Sync="TRUE">6213365.052684</westBL>
<eastBL Sync="TRUE">6239863.052684</eastBL>
<southBL Sync="TRUE">2203012.044392</southBL>
<northBL Sync="TRUE">2226609.044392</northBL>
<exTypeCode Sync="TRUE">1</exTypeCode>
</nativeExtBox>
</itemProps>
<coordRef>
<type Sync="TRUE">Projected</type>
<geogcsn Sync="TRUE">GCS_North_American_1983</geogcsn>
<csUnits Sync="TRUE">Linear Unit: Foot_US (0.304801)</csUnits>
<projcsn Sync="TRUE">NAD_1983_StatePlane_California_III_FIPS_0403_Feet</projcsn>
<peXml Sync="TRUE">&lt;ProjectedCoordinateSystem xsi:type='typens:ProjectedCoordinateSystem' xmlns:xsi='http://www.w3.org/2001/XMLSchema-instance' xmlns:xs='http://www.w3.org/2001/XMLSchema' xmlns:typens='http://www.esri.com/schemas/ArcGIS/3.6.0'&gt;&lt;WKT&gt;PROJCS[&amp;quot;NAD_1983_StatePlane_California_III_FIPS_0403_Feet&amp;quot;,GEOGCS[&amp;quot;GCS_North_American_1983&amp;quot;,DATUM[&amp;quot;D_North_American_1983&amp;quot;,SPHEROID[&amp;quot;GRS_1980&amp;quot;,6378137.0,298.257222101]],PRIMEM[&amp;quot;Greenwich&amp;quot;,0.0],UNIT[&amp;quot;Degree&amp;quot;,0.0174532925199433]],PROJECTION[&amp;quot;Lambert_Conformal_Conic&amp;quot;],PARAMETER[&amp;quot;False_Easting&amp;quot;,6561666.666666666],PARAMETER[&amp;quot;False_Northing&amp;quot;,1640416.666666667],PARAMETER[&amp;quot;Central_Meridian&amp;quot;,-120.5],PARAMETER[&amp;quot;Standard_Parallel_1&amp;quot;,37.06666666666667],PARAMETER[&amp;quot;Standard_Parallel_2&amp;quot;,38.43333333333333],PARAMETER[&amp;quot;Latitude_Of_Origin&amp;quot;,36.5],UNIT[&amp;quot;Foot_US&amp;quot;,0.3048006096012192],AUTHORITY[&amp;quot;EPSG&amp;quot;,2227]],VERTCS[&amp;quot;NAVD88_height_(ftUS)&amp;quot;,VDATUM[&amp;quot;North_American_Vertical_Datum_1988&amp;quot;],PARAMETER[&amp;quot;Vertical_Shift&amp;quot;,0.0],PARAMETER[&amp;quot;Direction&amp;quot;,1.0],UNIT[&amp;quot;Foot_US&amp;quot;,0.3048006096012192],AUTHORITY[&amp;quot;EPSG&amp;quot;,6360]]&lt;/WKT&gt;&lt;XOrigin&gt;-115860600&lt;/XOrigin&gt;&lt;YOrigin&gt;-93269500&lt;/YOrigin&gt;&lt;XYScale&gt;36787427.345686711&lt;/XYScale&gt;&lt;ZOrigin&gt;-100000&lt;/ZOrigin&gt;&lt;ZScale&gt;10000&lt;/ZScale&gt;&lt;MOrigin&gt;-100000&lt;/MOrigin&gt;&lt;MScale&gt;10000&lt;/MScale&gt;&lt;XYTolerance&gt;0.0032808333333333331&lt;/XYTolerance&gt;&lt;ZTolerance&gt;0.001&lt;/ZTolerance&gt;&lt;MTolerance&gt;0.001&lt;/MTolerance&gt;&lt;HighPrecision&gt;true&lt;/HighPrecision&gt;&lt;WKID&gt;102643&lt;/WKID&gt;&lt;LatestWKID&gt;2227&lt;/LatestWKID&gt;&lt;VCSWKID&gt;105703&lt;/VCSWKID&gt;&lt;LatestVCSWKID&gt;6360&lt;/LatestVCSWKID&gt;&lt;/ProjectedCoordinateSystem&gt;</peXml>
</coordRef>
<RasterProperties>
<General>
<PixelDepth Sync="TRUE">32</PixelDepth>
<HasColormap Sync="TRUE">FALSE</HasColormap>
<CompressionType Sync="TRUE">LZW</CompressionType>
<NumBands Sync="TRUE">1</NumBands>
<Format Sync="TRUE">TIFF</Format>
<HasPyramids Sync="TRUE">TRUE</HasPyramids>
<SourceType Sync="TRUE">continuous</SourceType>
<PixelType Sync="TRUE">floating point</PixelType>
<NoDataValue Sync="TRUE">3.4e+38</NoDataValue>
</General>
</RasterProperties>
</DataProperties>
<SyncDate>20260225</SyncDate>
<SyncTime>14342000</SyncTime>
<ModDate>20260225</ModDate>
<ModTime>14342000</ModTime>
<scaleRange>
<minScale>150000000</minScale>
<maxScale>5000</maxScale>
</scaleRange>
<ArcGISProfile>FGDC</ArcGISProfile>
</Esri>
<mdChar>
<CharSetCd value="004">
</CharSetCd>
</mdChar>
<mdHrLv>
<ScopeCd value="005">
</ScopeCd>
</mdHrLv>
<mdContact>
<rpIndName>David Bridgman</rpIndName>
<rpOrgName>Department of Water Resources, Division of Regional Assistance, North Central Region Office, Hydrography and Technical Support</rpOrgName>
<rpPosName>Environmental Scientist</rpPosName>
<rpCntInfo>
<cntPhone>
<voiceNum>916-376-9634</voiceNum>
</cntPhone>
<cntAddress addressType="physical">
<delPoint>3500 Industrial Blvd</delPoint>
<city>West Sacramento</city>
<adminArea>CA</adminArea>
<postCode>95691</postCode>
<country>US</country>
<eMailAdd>David.Bridgman@water.ca.gov</eMailAdd>
</cntAddress>
</rpCntInfo>
<role>
<RoleCd value="007">
</RoleCd>
</role>
</mdContact>
<mdDateSt Sync="TRUE">20260225</mdDateSt>
<mdStanName>ArcGIS Metadata</mdStanName>
<mdStanVer>1.0</mdStanVer>
<dataIdInfo>
<idCitation>
<resTitle>Bathy_NCRO_20250318_SanJoaquinRiver</resTitle>
<resEd>Original</resEd>
<citRespParty>
<rpOrgName>California Department of Water Resources, Division of Regional Assistance, North Central Region Office, Hydrography and Technical Support.</rpOrgName>
<role>
<RoleCd value="006">
</RoleCd>
</role>
</citRespParty>
<presForm>
<PresFormCd value="005">
</PresFormCd>
</presForm>
<presForm>
<fgdcGeoform>remote-sensing image</fgdcGeoform>
</presForm>
<datasetSeries>
<seriesName>CA-DWR NCRO Hydrography</seriesName>
<issId>San Joaquin River, March 2025</issId>
</datasetSeries>
</idCitation>
<idAbs>&lt;div style='text-align:Left;'&gt;&lt;div&gt;&lt;div&gt;&lt;p&gt;&lt;span&gt;The California Department of Water Resources (DWR), North Central Region Office (NCRO), Bathymetry Data Collection Section, conducted a bathymetric survey of the San Joaquin River as part of the Delta Wide Bathymetry Program. The main purpose of the data is to help complete bathymetric datasets of the Central Delta and allow for relevant comparisons. &lt;/span&gt;&lt;/p&gt;&lt;p&gt;&lt;span&gt;• Field Dates: December 17,30 2024; January 13,16,21,23,29, 2025; February 10-12, 18, 24, 27 2025; March 3-4, 10-11, 18, 2025 &lt;/span&gt;&lt;/p&gt;&lt;p&gt;&lt;span&gt;• Survey Type: Multibeam &lt;/span&gt;&lt;/p&gt;&lt;p&gt;&lt;span&gt;• Data Density: 1 foot &lt;/span&gt;&lt;/p&gt;&lt;p&gt;&lt;span&gt;• Horizontal Datum: North American Datum of 1983 (NAD83) California Coordinate System (CCS83) State Plane Zone 3, US feet &lt;/span&gt;&lt;/p&gt;&lt;p&gt;&lt;span&gt;• Vertical Datum: North American Vertical Datum of 1988 (NAVD88) geoid 18, US feet &lt;/span&gt;&lt;/p&gt;&lt;p&gt;&lt;span&gt;• Processing Epoch: 2025.211; CSRC Datum Epoch: 2017.5 &lt;/span&gt;&lt;/p&gt;&lt;p&gt;&lt;span&gt;• Related Datasets: San Joaquin River at Bradford Island 2015, San Joaquin River at Fisherman's Cut 2015, San Joaquin River at Twitchell Island 2015, Three Mile Slough 2019, San Joaquin River Singlebeam 2020, San Joaquin River at Brannan Island 2022 &lt;/span&gt;&lt;/p&gt;&lt;p&gt;&lt;span&gt;• Involved Staff: Data collected and processed by NCRO Bathymetry and Hydrography sections &lt;/span&gt;&lt;/p&gt;&lt;p&gt;&lt;span&gt;• Survey Responsible Charge: Jacob Wright, PLS (CA 8717) &lt;/span&gt;&lt;/p&gt;&lt;p&gt;&lt;span&gt;Please contact the distributor for questions regarding survey control or QC checks. For complete metadata make sure the viewer (ArcGIS or other software) is set to view FGDC metadata.&lt;/span&gt;&lt;/p&gt;&lt;/div&gt;&lt;/div&gt;&lt;/div&gt;</idAbs>
<idPurp>This bathymetric dataset is intended to be used as a base component of studies in the Sacramento-San Joaquin Delta.
This is an official DWR Image Service, which meets all appropriate requirements of the DWR Spatial Data Standards, specifically the DWR Spatial Data Standard version 3.6, dated September 27, 2023. This archived dataset was developed by DWR for its internal use. This data is not suitable for property boundary determination, construction layout, legal descriptions, or any other professional land surveying or legal purpose. The data represents estimates of past conditions and measurements, may contain errors, and is no longer representative of current conditions. Neither the State of California, its agents, nor its employees, make any warranty, representation or guarantee, express or implied; nor assumes any liability or responsibility for the accuracy, completeness, or usefulness of this data. Comments, problems, improvements, updates, or suggestions should be forwarded to bathymetry@water.ca.gov as available and appropriate.</idPurp>
<idCredit>California Department of Water Resources, Division of Regional Assistance, North Central Region Office, Hydrography and Technical Support.</idCredit>
<idStatus>
<ProgCd value="001">
</ProgCd>
</idStatus>
<idPoC>
<rpIndName>Shawn Mayr</rpIndName>
<rpOrgName>Department of Water Resources, Division of Regional Assistance, North Central Region Office, Hydrography and Technical Support</rpOrgName>
<rpPosName>Senior Engineer</rpPosName>
<rpCntInfo>
<cntPhone>
<voiceNum>916-820-8198</voiceNum>
</cntPhone>
<cntAddress addressType="physical">
<delPoint>3500 Industrial Blvd.</delPoint>
<city>West Sacramento</city>
<adminArea>CA</adminArea>
<postCode>95691</postCode>
<country>US</country>
<eMailAdd>Shawn.Mayr@water.ca.gov</eMailAdd>
</cntAddress>
</rpCntInfo>
<role>
<RoleCd value="007">
</RoleCd>
</role>
</idPoC>
<resMaint>
<maintFreq>
<MaintFreqCd value="009">
</MaintFreqCd>
</maintFreq>
</resMaint>
<placeKeys>
<keyword>San Joaquin River, Bradford Island, Three Mile Slough, Fisherman's Cut, Twitchell Island, Jersey Island,</keyword>
</placeKeys>
<tempKeys>
<keyword>December 2024, January, February, March 2025</keyword>
</tempKeys>
<themeKeys>
<thesaName>
<resTitle>ISO 19115 Topic Categories</resTitle>
</thesaName>
<keyword>elevation</keyword>
<keyword>inlandWaters</keyword>
</themeKeys>
<themeKeys>
<keyword>Bathymetry</keyword>
<keyword>Multibeam</keyword>
<keyword>Sonar</keyword>
</themeKeys>
<searchKeys>
<keyword>elevation</keyword>
<keyword>inlandWaters</keyword>
<keyword>Bathymetry</keyword>
<keyword>Multibeam</keyword>
<keyword>Sonar</keyword>
<keyword>San Joaquin River</keyword>
<keyword>Bradford Island</keyword>
<keyword>Three Mile Slough</keyword>
<keyword>Fisherman's Cut</keyword>
<keyword>Twitchell Island</keyword>
<keyword>Jersey Island</keyword>
<keyword>December 2024</keyword>
<keyword>January</keyword>
<keyword>February</keyword>
<keyword>March 2025</keyword>
</searchKeys>
<resConst>
<Consts>
<useLimit>&lt;div style='text-align:Left;'&gt;&lt;div&gt;&lt;div&gt;&lt;p&gt;&lt;span&gt;This dataset was valid at the time it was measured, however, changes may have occurred since and these data may no longer represent actual surface conditions. The user is responsible for the results of any application of this data for other than its intended purpose. Acknowledgement of the Department of Water Resources, NCRO, Hydrography and Technical Support is appreciated for products derived from these data.&lt;/span&gt;&lt;/p&gt;&lt;/div&gt;&lt;/div&gt;&lt;/div&gt;</useLimit>
</Consts>
</resConst>
<spatRpType>
<SpatRepTypCd value="002">
</SpatRepTypCd>
</spatRpType>
<envirDesc>Esri ArcGIS 13.6.0.59527</envirDesc>
<dataExt>
<geoEle>
<GeoBndBox>
<exTypeCode>true</exTypeCode>
<westBL>-121.710497</westBL>
<eastBL>-121.617435</eastBL>
<northBL>38.104629</northBL>
<southBL>38.038928</southBL>
</GeoBndBox>
</geoEle>
</dataExt>
<suppInfo>Equipment and Methodology
Survey Vessel: 24 ft North River Seahawk "Marie Tharp"
Patch Test Date: 09/26/2023
Multibeam Sonar Bathymetry System: Sonar: Reson T20-P Dual-Head MBES // Position/GPS: Applanix POS MV OceanMaster // Motion control: Applanix POS MV OceanMaster // Sound velocity: AML Base X2 Sound Velocity Profiler
Field Practices: Field calibration tests (including multibeam patch tests, fixed surface comparisons and GPS checks) are regularly performed in order to ensure data quality and positional accuracy. Multibeam data were collected on the survey vessel and recorded using Hypack Hydrographic Survey software (Hypack).</suppInfo>
<dataLang>
<languageCode Sync="TRUE" value="eng">
</languageCode>
<countryCode Sync="TRUE" value="USA">
</countryCode>
</dataLang>
<dataExt>
<geoEle>
<GeoBndBox esriExtentType="search">
<exTypeCode Sync="TRUE">1</exTypeCode>
<westBL Sync="TRUE">-121.710497</westBL>
<eastBL Sync="TRUE">-121.617435</eastBL>
<northBL Sync="TRUE">38.104629</northBL>
<southBL Sync="TRUE">38.038928</southBL>
</GeoBndBox>
</geoEle>
</dataExt>
<tpCat>
<TopicCatCd value="006">
</TopicCatCd>
</tpCat>
<tpCat>
<TopicCatCd value="012">
</TopicCatCd>
</tpCat>
</dataIdInfo>
<dqInfo>
<dqScope>
<scpLvl>
<ScopeCd value="005">
</ScopeCd>
</scpLvl>
</dqScope>
<report type="DQQuanAttAcc">
<measDesc>Elevations are generally believed to be characteristic of the channel-bed, however, in some areas with dense vegetation the data may reflect the elevation of the submerged vegetation rather than the seabed surface. “Noisy” patterns in the data are investigated during data processing; these patterns may signify dense submerged vegetation and are typically filtered. Small gaps in the final dataset (≤ 5 ft) are typically interpolated in the hydrographic software, but larger gaps are left.</measDesc>
<evalMethDesc>Total uncertainty depends on combined contributions from sound velocity, offsets, beam angle, and range. Error introduced from the motion of the vessel was corrected using the Applanix POS MV OceanMaster System. Sound velocity profiles were taken regularly to correct the depth recorded by the transducer for changes in temperature and salinity. Orthometric heights were derived from Geoid 18.</evalMethDesc>
</report>
<report type="DQConcConsis">
<measDesc>These data were collected using advanced hydrographic sonar and GPS technologies. They are believed to be logically consistent. Visual inspection was conducted and data were reviewed in both hydrographic processing and GIS software packages.</measDesc>
</report>
<report type="DQCompOm">
<measDesc>Because multibeam echosounder technology is much less efficient at gathering complete surface coverage in shallow water, these areas are often omitted. Subsequent surveys with a singlebeam sounder may be conducted to fill in these gaps -- please contact the metadata distributor listed in the Distribution section if you need information on data availability for projects not listed under "related datasets" in the abstract. Dense aquatic vegetation also interferes with the sounder's ability to record reliable bathymetric information. Therefore, in order to properly represent the bathymetry of the entire channel, elevation data in most areas of the channel occupied by dense aquatic vegetation were omitted from the final data set and appear as gaps in the data.</measDesc>
</report>
<report dimension="horizontal" type="DQAbsExtPosAcc">
<measDesc>This dataset was produced for 1 foot contours to exceed IHO Order 1a standards for hydrographic surveys.</measDesc>
<evalMethDesc>Sounding uncertainty at 95% confidence interval: &lt; 0.5 ft</evalMethDesc>
</report>
<report dimension="vertical" type="DQAbsExtPosAcc">
<measDesc>This dataset was produced for 1 foot contours to exceed IHO Order 1a standards for hydrographic surveys.</measDesc>
<evalMethDesc>Sounding uncertainty at 95% confidence interval: &lt; 0.5 ft</evalMethDesc>
</report>
<dataLineage>
<prcStep>
<stepDesc>Field data collection: This dataset is comprised of elevation points collected using multibeam sonar bathymetry equipment corrected with GPS position data. Raw multibeam data requires processing to become usable. Because sound velocity varies both temporally and spatially, the field crew breaks down the river stretch to be surveyed into manageable sections of approximately 1 hour of logged survey time. Each section overlaps slightly to prevent missing data. Field data collection was completed March 18, 2025.</stepDesc>
<stepProc>
<rpIndName>Scott Flory</rpIndName>
<rpOrgName>Department of Water Resources, Division of Regional Assistance, North Central Region Office, Bathymetry Data Collection</rpOrgName>
<rpPosName>Senior Environmental Scientist</rpPosName>
<rpCntInfo>
<cntPhone>
<voiceNum>916-820-7608</voiceNum>
</cntPhone>
<cntAddress addressType="physical">
<delPoint>3500 Industrial Blvd.</delPoint>
<city>West Sacramento</city>
<adminArea>CA</adminArea>
<postCode>95691</postCode>
<country>US</country>
<eMailAdd>Scott.Flory@water.ca.gov</eMailAdd>
</cntAddress>
</rpCntInfo>
<role>
<RoleCd value="009">
</RoleCd>
</role>
</stepProc>
</prcStep>
<prcStep>
<stepDesc>GNSS Processing: GNSS post-processing was completed in Applanix POSPac-MMS software to create a network solution from neighboring California Spatial Reference System (CSRS), Scripps Orbit and Permanent Array Center (SOPAC), and/or Unavco Continuously Operating Reference Stations (CORS) by creating a virtual base station (SmartBase) near the survey site. These data were combined with sonar, intertial motion and sound velocity data to correctly geolocate each sounding. Please contact the distributor for questions regarding survey control or QC checks. Orthometric heights were derived from Geoid 18.</stepDesc>
<stepProc>
<rpIndName>Scott Flory</rpIndName>
<rpOrgName>Department of Water Resources, Division of Regional Assistance, North Central Region Office, Bathymetry Data Collection</rpOrgName>
<rpPosName>Senior Environmental Scientist</rpPosName>
<rpCntInfo>
<cntPhone>
<voiceNum>916-820-7608</voiceNum>
</cntPhone>
<cntAddress addressType="physical">
<delPoint>3500 Industrial Blvd.</delPoint>
<city>West Sacramento</city>
<adminArea>CA</adminArea>
<postCode>95691</postCode>
<country>US</country>
<eMailAdd>Scott.Flory@water.ca.gov</eMailAdd>
</cntAddress>
</rpCntInfo>
<role>
<RoleCd value="009">
</RoleCd>
</role>
</stepProc>
</prcStep>
<prcStep>
<stepDesc>Data post-processing: Initial multibeam processing was performed with Caris HIPS and SIPS 11. Typically, the multibeam point cloud is loaded into the review software a section at a time and calibration parameters are checked for accuracy and consistency. Erroneous data, outliers and submerged aquatic vegetation are then filtered out by the hydrographer. Once all sections collected during a survey have been reviewed and processed, they are combined together to create a single seamless surface and exported in bag raster format. These rasters are imported in GIS software and reviewed for consistency. Further products and analyses are carried out upon request. Metadata are established and the data are stored. Data processing was completed in September 2025.</stepDesc>
<stepProc>
<rpIndName>David Bridgman</rpIndName>
<rpOrgName>Department of Water Resources, Division of Regional Assistance, North Central Region Office, Hydrography and Technical Support</rpOrgName>
<rpPosName>Environmental Scientist</rpPosName>
<rpCntInfo>
<cntPhone>
<voiceNum>916-376-9634</voiceNum>
</cntPhone>
<cntAddress addressType="physical">
<delPoint>3500 Industrial Blvd</delPoint>
<city>West Sacramento</city>
<adminArea>CA</adminArea>
<postCode>95691</postCode>
<country>US</country>
<eMailAdd>David.Bridgman@water.ca.gov</eMailAdd>
</cntAddress>
</rpCntInfo>
<role>
<RoleCd value="009">
</RoleCd>
</role>
</stepProc>
</prcStep>
<dataSource>
<srcDesc>This is an original dataset produced by the California Department of Water Resources, Division of Regional Assistance, North Central Region Office, Hydrography and Technical Support Section.</srcDesc>
<srcCitatn>
<citRespParty>
<rpOrgName>California Department of Water Resources, Division of Regional Assistance, North Central Region Office, Hydrography and Technical Support.</rpOrgName>
<role>
<RoleCd value="006">
</RoleCd>
</role>
</citRespParty>
</srcCitatn>
</dataSource>
</dataLineage>
</dqInfo>
<spatRepInfo>
<Georect>
<numDims>2</numDims>
<axisDimension type="001">
<dimSize>23597</dimSize>
<dimResol>
<value Sync="TRUE" uom="ftUS">1.000000</value>
</dimResol>
</axisDimension>
<axisDimension type="002">
<dimSize>26498</dimSize>
<dimResol>
<value Sync="TRUE" uom="ftUS">1.000000</value>
</dimResol>
</axisDimension>
<cellGeo>
<CellGeoCd Sync="TRUE" value="002">
</CellGeoCd>
</cellGeo>
<tranParaAv Sync="TRUE">1</tranParaAv>
<chkPtAv Sync="TRUE">0</chkPtAv>
<cornerPts>
<pos Sync="TRUE">6213365.052684 2203012.044392</pos>
</cornerPts>
<cornerPts>
<pos Sync="TRUE">6213365.052684 2226609.044392</pos>
</cornerPts>
<cornerPts>
<pos Sync="TRUE">6239863.052684 2226609.044392</pos>
</cornerPts>
<cornerPts>
<pos Sync="TRUE">6239863.052684 2203012.044392</pos>
</cornerPts>
<centerPt>
<pos Sync="TRUE">6226614.052684 2214810.544392</pos>
</centerPt>
<ptInPixel>
<PixOrientCd Sync="TRUE" value="001">
</PixOrientCd>
</ptInPixel>
</Georect>
</spatRepInfo>
<eainfo>
<overview>
<eaover>The pixel values in this raster dataset correspond to the elevation or z-value in the stated vertical datum.</eaover>
</overview>
</eainfo>
<mdLang>
<languageCode Sync="TRUE" value="eng">
</languageCode>
<countryCode Sync="TRUE" value="USA">
</countryCode>
</mdLang>
<distInfo>
<distFormat>
<formatName Sync="TRUE">Raster Dataset</formatName>
</distFormat>
</distInfo>
<mdHrLvName Sync="TRUE">dataset</mdHrLvName>
<refSysInfo>
<RefSystem>
<refSysID>
<identCode Sync="TRUE" code="2227">
</identCode>
<idCodeSpace Sync="TRUE">EPSG</idCodeSpace>
<idVersion Sync="TRUE">5.3(9.0.0)</idVersion>
</refSysID>
</RefSystem>
</refSysInfo>
<contInfo>
<ImgDesc>
<contentTyp>
<ContentTypCd Sync="TRUE" value="001">
</ContentTypCd>
</contentTyp>
<covDim>
<Band>
<dimDescrp Sync="TRUE">Band_1</dimDescrp>
<maxVal Sync="TRUE">5.149600</maxVal>
<minVal Sync="TRUE">-70.305946</minVal>
<bitsPerVal Sync="TRUE">32</bitsPerVal>
<valUnit>
<UOM type="length">
</UOM>
</valUnit>
</Band>
</covDim>
</ImgDesc>
</contInfo>
</metadata>
