{ "currentVersion": 11.3, "serviceDescription": "
The California Department of Water Resources (DWR), North Central Region Office (NCRO), Bathymetry Data Collection Section, conducted a bathymetric survey of the San Joaquin River as part of the Delta Wide Bathymetry Program. The main purpose of the data is to help complete bathymetric datasets of the Central Delta and allow for relevant comparisons. <\/SPAN><\/P> \u2022 Field Dates: December 17,30 2024; January 13,16,21,23,29, 2025; February 10-12, 18, 24, 27 2025; March 3-4, 10-11, 18, 2025 <\/SPAN><\/P> \u2022 Survey Type: Multibeam <\/SPAN><\/P> \u2022 Data Density: 1 foot <\/SPAN><\/P> \u2022 Horizontal Datum: North American Datum of 1983 (NAD83) California Coordinate System (CCS83) State Plane Zone 3, US feet <\/SPAN><\/P> \u2022 Vertical Datum: North American Vertical Datum of 1988 (NAVD88) geoid 18, US feet <\/SPAN><\/P> \u2022 Processing Epoch: 2025.211; CSRC Datum Epoch: 2017.5 <\/SPAN><\/P> \u2022 Related Datasets: San Joaquin River at Bradford Island 2015, San Joaquin River at Fisherman's Cut 2015, San Joaquin River at Twitchell Island 2015, Three Mile Slough 2019, San Joaquin River Singlebeam 2020, San Joaquin River at Brannan Island 2022 <\/SPAN><\/P> \u2022 Involved Staff: Data collected and processed by NCRO Bathymetry and Hydrography sections <\/SPAN><\/P> \u2022 Survey Responsible Charge: Jacob Wright, PLS (CA 8717) <\/SPAN><\/P> Please contact the distributor for questions regarding survey control or QC checks. For complete metadata make sure the viewer (ArcGIS or other software) is set to view FGDC metadata.<\/SPAN><\/P><\/DIV><\/DIV><\/DIV>",
"name": "Bathymetry/Bathy_NCRO_20250318_SanJoaquinRiver",
"description": "",
"extent": {
"xmin": 6213365.0526836645,
"ymin": 2203012.044391675,
"xmax": 6239863.0526836645,
"ymax": 2226609.044391675,
"spatialReference": {
"wkid": 102643,
"latestWkid": 2227,
"vcsWkid": 105703,
"latestVcsWkid": 6360
}
},
"initialExtent": {
"xmin": 6213365.0526836645,
"ymin": 2203012.044391675,
"xmax": 6239863.0526836645,
"ymax": 2226609.044391675,
"spatialReference": {
"wkid": 102643,
"latestWkid": 2227,
"vcsWkid": 105703,
"latestVcsWkid": 6360
}
},
"fullExtent": {
"xmin": 6213365.0526836645,
"ymin": 2203012.044391675,
"xmax": 6239863.0526836645,
"ymax": 2226609.044391675,
"spatialReference": {
"wkid": 102643,
"latestWkid": 2227,
"vcsWkid": 105703,
"latestVcsWkid": 6360
}
},
"sortableFields": "",
"heightModelInfo": {
"heightModel": "gravity_related_height",
"vertCRS": "NAVD88_height_(ftUS)",
"heightUnit": "us-foot"
},
"bandCount": 1,
"pixelType": "F32",
"minValues": [
-70.305946350098
],
"maxValues": [
5.1496000289917
],
"meanValues": [
-28.690612935764
],
"stdvValues": [
13.983027197985
],
"hasMultidimensions": false,
"pixelSizeX": 1,
"pixelSizeY": 1,
"meanPixelSize": 0.30480060960121924,
"datasetFormat": "TIFF",
"uncompressedSize": 2501093224,
"blockWidth": 512,
"blockHeight": 512,
"compressionType": "LZW",
"bandNames": [
"Band_1"
],
"allowCopy": true,
"allowAnalysis": true,
"itemAccess": false,
"inspectionCapabilities": "",
"noDataValue": 3.3999999521443642E38,
"noDataValues": [
3.3999999521443642E38
],
"minPixelSize": 0,
"maxPixelSize": 0,
"copyrightText": "California Department of Water Resources, Division of Regional Assistance, North Central Region Office, Hydrography and Technical Support.",
"serviceDataType": "esriImageServiceDataTypeGeneric",
"serviceSourceType": "esriImageServiceSourceTypeDataset",
"objectIdField": "",
"fields": [],
"capabilities": "Image,Metadata,Mensuration",
"defaultMosaicMethod": "Center",
"allowedMosaicMethods": "",
"sortField": "",
"sortValue": null,
"sortAscending": true,
"mosaicOperator": "First",
"defaultCompressionQuality": 75,
"defaultResamplingMethod": "Bilinear",
"maxImageHeight": 4100,
"maxImageWidth": 15000,
"allowRasterFunction": true,
"rasterFunctionInfos": [
{
"name": "None",
"description": "Make a Raster or Raster Dataset into a Function Raster Dataset.",
"help": ""
},
{
"name": "DW_SacRioVista_CASP2_ColorRamp",
"description": "color ramp 2",
"help": ""
}
],
"rasterTypeInfos": [
{
"name": "Raster Dataset",
"description": "Supports all ArcGIS Raster Datasets",
"help": ""
}
],
"mensurationCapabilities": "Basic",
"hasHistograms": false,
"hasColormap": false,
"hasRasterAttributeTable": false,
"minScale": 0,
"maxScale": 0,
"exportTilesAllowed": false,
"supportsStatistics": false,
"supportsAdvancedQueries": false,
"editFieldsInfo": null,
"ownershipBasedAccessControlForRasters": null,
"allowComputeTiePoints": false,
"useStandardizedQueries": true,
"advancedQueryCapabilities": {
"useStandardizedQueries": true,
"supportsStatistics": false,
"supportsOrderBy": false,
"supportsDistinct": false,
"supportsPagination": false
},
"spatialReference": {
"wkid": 102643,
"latestWkid": 2227,
"vcsWkid": 105703,
"latestVcsWkid": 6360
}
}