{
 "currentVersion": 11.3,
 "serviceDescription": "The California Department of Water Resources (DWR) and U.S. Bureau of Reclamation (Reclamation) are proposing the Yolo Bypass Salmonid Habitat Restoration and Fish Passage (YBSHRFP) Project to improve fish passage and to increase floodplain rearing habitat for juvenile salmonids in the Yolo Bypass and lower Sacramento River basin. DWR and Reclamation are jointly planning the YBSHRFP Project to comply with the Reasonable and Prudent Alternative (RPA) actions I.6.1 and I.7, as described in the 2009 National Marine Fisheries Service (NMFS) Biological Opinion and Conference Opinion on the Long-Term Operations of the Central Valley Project and State Water Project. The YBSHRFP Project would modify the existing Fremont Weir to allow for improved hydraulic connection between the Sacramento River and the Yolo Bypass. In addition, one downstream agricultural road crossing would be modified to allow for improved fish passage within the Yolo Bypass Tule Canal. DWR and Reclamation released a public draft of the Environmental Impact Statement /Environmental Impact Report (EIS/EIR) in December 2017. DWR and Reclamation created the Yolo Bypass Salmonid Habitat Restoration and Fish Passage Project Parcel Inundation Tool (beta) as a platform to view modeled results of how increased flows may affect inundation within the Yolo Bypass on a field by field basis. The tool provides hydrodynamic modeling results and maps for any selected assessor parcel in the Yolo Bypass. Daily depth rasters for all 16 water years that were evaluated (1997-2012) at an individual parcel level for Existing Conditions and Alternative 1-3 within the Yolo Bypass.\nAll information provided by the Department of Water Resources on its Web pages and Internet sites is made available to provide immediate access for the convenience of interested persons. While the Department believes the information to be reliable, human or mechanical error remains a possibility. Therefore, the Department does not guarantee the accuracy, completeness, timeliness, or correct sequencing of the information. Neither the Department of Water Resources nor any of the sources of the information shall be responsible for any errors or omissions, or for the use or results obtained from the use of this information.\nIf you have questions or would like to be added to our listserve, send your name and email address to yolo_bypass_biop@water.ca.gov.\n",
 "name": "InlandWaters/DepthMDS",
 "description": "The California Department of Water Resources (DWR) and U.S. Bureau of Reclamation (Reclamation) are proposing the Yolo Bypass Salmonid Habitat Restoration and Fish Passage (YBSHRFP) Project to improve fish passage and to increase floodplain rearing habitat for juvenile salmonids in the Yolo Bypass and lower Sacramento River basin. DWR and Reclamation are jointly planning the YBSHRFP Project to comply with the Reasonable and Prudent Alternative (RPA) actions I.6.1 and I.7, as described in the 2009 National Marine Fisheries Service (NMFS) Biological Opinion and Conference Opinion on the Long-Term Operations of the Central Valley Project and State Water Project. The YBSHRFP Project would modify the existing Fremont Weir to allow for improved hydraulic connection between the Sacramento River and the Yolo Bypass. In addition, one downstream agricultural road crossing would be modified to allow for improved fish passage within the Yolo Bypass Tule Canal. DWR and Reclamation released a public draft of the Environmental Impact Statement /Environmental Impact Report (EIS/EIR) in December 2017. DWR and Reclamation created the Yolo Bypass Salmonid Habitat Restoration and Fish Passage Project Parcel Inundation Tool (beta) as a platform to view modeled results of how increased flows may affect inundation within the Yolo Bypass on a field by field basis. The tool provides hydrodynamic modeling results and maps for any selected assessor parcel in the Yolo Bypass. Daily depth rasters for all 16 water years that were evaluated (1997-2012) at an individual parcel level for Existing Conditions and Alternative 1-3 within the Yolo Bypass.\nAll information provided by the Department of Water Resources on its Web pages and Internet sites is made available to provide immediate access for the convenience of interested persons. While the Department believes the information to be reliable, human or mechanical error remains a possibility. Therefore, the Department does not guarantee the accuracy, completeness, timeliness, or correct sequencing of the information. Neither the Department of Water Resources nor any of the sources of the information shall be responsible for any errors or omissions, or for the use or results obtained from the use of this information.\nIf you have questions or would like to be added to our listserve, send your name and email address to yolo_bypass_biop@water.ca.gov.\n",
 "extent": {
  "xmin": 612595.8852000004,
  "ymin": 4223995.4280070355,
  "xmax": 631264.922538075,
  "ymax": 4305041.9101,
  "spatialReference": {
   "wkid": 26910,
   "latestWkid": 26910
  }
 },
 "initialExtent": {
  "xmin": 612595.8852000004,
  "ymin": 4223995.4280070355,
  "xmax": 631264.922538075,
  "ymax": 4305041.9101,
  "spatialReference": {
   "wkid": 26910,
   "latestWkid": 26910
  }
 },
 "fullExtent": {
  "xmin": 612595.8852000004,
  "ymin": 4223995.4280070355,
  "xmax": 631264.922538075,
  "ymax": 4305041.9101,
  "spatialReference": {
   "wkid": 26910,
   "latestWkid": 26910
  }
 },
 "sortableFields": "",
 "bandCount": 1,
 "pixelType": "F32",
 "minValues": [
  0.3696236312389374
 ],
 "maxValues": [
  27.946401596069336
 ],
 "meanValues": [
  8.04765431756197
 ],
 "stdvValues": [
  7.168694098788062
 ],
 "hasMultidimensions": false,
 "timeInfo": {
  "startTimeField": "Time",
  "endTimeField": "Time",
  "timeExtent": [
   846806400000,
   1338422400000
  ],
  "timeReference": null,
  "defaultTimeInterval": 1,
  "defaultTimeIntervalUnits": "esriTimeUnitsDays"
 },
 "pixelSizeX": 15.240030480060936,
 "pixelSizeY": 15.240030480061012,
 "meanPixelSize": 15.240030480060973,
 "datasetFormat": "AMD",
 "uncompressedSize": 26058200,
 "blockWidth": 2048,
 "blockHeight": 256,
 "compressionType": "None",
 "bandNames": [
  "Band_1"
 ],
 "allowCopy": true,
 "allowAnalysis": true,
 "itemAccess": false,
 "inspectionCapabilities": "",
 "minPixelSize": 0,
 "maxPixelSize": 0,
 "copyrightText": "California Department of Water Resources and U.S. Bureau of Reclamation with support from ESRI, cbec eco engineering, and HDR",
 "serviceDataType": "esriImageServiceDataTypeGeneric",
 "serviceSourceType": "esriImageServiceSourceTypeMosaicDataset",
 "objectIdField": "OBJECTID",
 "fields": [
  {
   "name": "OBJECTID",
   "type": "esriFieldTypeOID",
   "alias": "OBJECTID",
   "domain": null
  },
  {
   "name": "Shape",
   "type": "esriFieldTypeGeometry",
   "alias": "Shape",
   "domain": null
  },
  {
   "name": "Name",
   "type": "esriFieldTypeString",
   "alias": "Name",
   "domain": null,
   "length": 200
  },
  {
   "name": "MinPS",
   "type": "esriFieldTypeDouble",
   "alias": "MinPS",
   "domain": null
  },
  {
   "name": "MaxPS",
   "type": "esriFieldTypeDouble",
   "alias": "MaxPS",
   "domain": null
  },
  {
   "name": "LowPS",
   "type": "esriFieldTypeDouble",
   "alias": "LowPS",
   "domain": null
  },
  {
   "name": "HighPS",
   "type": "esriFieldTypeDouble",
   "alias": "HighPS",
   "domain": null
  },
  {
   "name": "Category",
   "type": "esriFieldTypeInteger",
   "alias": "Category",
   "domain": {
    "type": "codedValue",
    "name": "MosaicCatalogItemCategoryDomain",
    "description": "Catalog item categories.",
    "codedValues": [
     {
      "name": "Unknown",
      "code": 0
     },
     {
      "name": "Primary",
      "code": 1
     },
     {
      "name": "Overview",
      "code": 2
     },
     {
      "name": "Unprocessed Overview",
      "code": 3
     },
     {
      "name": "Partial Overview",
      "code": 4
     },
     {
      "name": "Inactive",
      "code": 5
     },
     {
      "name": "Uploaded",
      "code": 253
     },
     {
      "name": "Incomplete",
      "code": 254
     },
     {
      "name": "Custom",
      "code": 255
     }
    ],
    "mergePolicy": "esriMPTDefaultValue",
    "splitPolicy": "esriSPTDefaultValue"
   }
  },
  {
   "name": "Tag",
   "type": "esriFieldTypeString",
   "alias": "Tag",
   "domain": null,
   "length": 100
  },
  {
   "name": "GroupName",
   "type": "esriFieldTypeString",
   "alias": "GroupName",
   "domain": null,
   "length": 100
  },
  {
   "name": "ProductName",
   "type": "esriFieldTypeString",
   "alias": "ProductName",
   "domain": null,
   "length": 100
  },
  {
   "name": "CenterX",
   "type": "esriFieldTypeDouble",
   "alias": "CenterX",
   "domain": null
  },
  {
   "name": "CenterY",
   "type": "esriFieldTypeDouble",
   "alias": "CenterY",
   "domain": null
  },
  {
   "name": "ZOrder",
   "type": "esriFieldTypeInteger",
   "alias": "ZOrder",
   "domain": null
  },
  {
   "name": "Alternative",
   "type": "esriFieldTypeString",
   "alias": "Alternative",
   "domain": null,
   "length": 50
  },
  {
   "name": "WaterYear",
   "type": "esriFieldTypeString",
   "alias": "WaterYear",
   "domain": null,
   "length": 4
  },
  {
   "name": "Time",
   "type": "esriFieldTypeDate",
   "alias": "Time",
   "domain": null,
   "length": 8
  },
  {
   "name": "Year",
   "type": "esriFieldTypeSmallInteger",
   "alias": "Year",
   "domain": null
  },
  {
   "name": "Month",
   "type": "esriFieldTypeSmallInteger",
   "alias": "Month",
   "domain": null
  },
  {
   "name": "Day",
   "type": "esriFieldTypeSmallInteger",
   "alias": "Day",
   "domain": null
  },
  {
   "name": "Shape_Length",
   "type": "esriFieldTypeDouble",
   "alias": "Shape_Length",
   "domain": null
  },
  {
   "name": "Shape_Area",
   "type": "esriFieldTypeDouble",
   "alias": "Shape_Area",
   "domain": null
  }
 ],
 "capabilities": "Catalog,Mensuration,Image,Metadata",
 "defaultMosaicMethod": "ByAttribute",
 "allowedMosaicMethods": "ByAttribute,None",
 "sortField": "Time",
 "sortValue": "0",
 "sortAscending": true,
 "mosaicOperator": "First",
 "maxDownloadSizeLimit": 2048,
 "defaultCompressionQuality": 75,
 "defaultResamplingMethod": "Bilinear",
 "maxImageHeight": 4100,
 "maxImageWidth": 15000,
 "maxRecordCount": 1000,
 "maxDownloadImageCount": 20,
 "maxMosaicImageCount": 1,
 "allowRasterFunction": true,
 "rasterFunctionInfos": [
  {
   "name": "ClasifiedColorBlues",
   "description": "A raster function template.",
   "help": ""
  },
  {
   "name": "ClasifiedColorBlues",
   "description": "A raster function template.",
   "help": ""
  },
  {
   "name": "None",
   "description": "",
   "help": ""
  }
 ],
 "rasterTypeInfos": [
  {
   "name": "Raster Dataset",
   "description": "Supports all ArcGIS Raster Datasets",
   "help": ""
  }
 ],
 "mensurationCapabilities": "Basic",
 "hasHistograms": true,
 "hasColormap": false,
 "hasRasterAttributeTable": false,
 "minScale": 0,
 "maxScale": 0,
 "exportTilesAllowed": false,
 "supportsStatistics": true,
 "supportsAdvancedQueries": true,
 "editFieldsInfo": null,
 "ownershipBasedAccessControlForRasters": null,
 "allowComputeTiePoints": false,
 "useStandardizedQueries": true,
 "advancedQueryCapabilities": {
  "useStandardizedQueries": true,
  "supportsStatistics": true,
  "supportsOrderBy": true,
  "supportsDistinct": true,
  "supportsPagination": true
 },
 "spatialReference": {
  "wkid": 26910,
  "latestWkid": 26910
 },
 "resampling": false
}
