{
 "currentVersion": 11.3,
 "serviceDescription": "SAR/Vertical_Displacement_TRE_ALTAMIRA_Annual_Rate_20180301_20190301",
 "name": "SAR/Vertical_Displacement_TRE_ALTAMIRA_Annual_Rate_20180301_20190301",
 "description": "",
 "extent": {
  "xmin": -124.42233689190881,
  "ymin": 32.465997587062844,
  "xmax": -115.4069420486335,
  "ymax": 42.00588960865853,
  "spatialReference": {
   "wkid": 4326,
   "latestWkid": 4326
  }
 },
 "initialExtent": {
  "xmin": -124.42233689190881,
  "ymin": 32.465997587062844,
  "xmax": -115.4069420486335,
  "ymax": 42.00588960865853,
  "spatialReference": {
   "wkid": 4326,
   "latestWkid": 4326
  }
 },
 "fullExtent": {
  "xmin": -124.42233689190881,
  "ymin": 32.465997587062844,
  "xmax": -115.4069420486335,
  "ymax": 42.00588960865853,
  "spatialReference": {
   "wkid": 4326,
   "latestWkid": 4326
  }
 },
 "sortableFields": "MinPS,MaxPS,LowPS,HighPS,CenterX,CenterY,ZOrder,Shape_Length,Shape_Area",
 "bandCount": 1,
 "pixelType": "F32",
 "minValues": [
  -1.0052523612976074
 ],
 "maxValues": [
  0.18387342989444733
 ],
 "meanValues": [
  -0.04327186693315647
 ],
 "stdvValues": [
  0.09992594909173386
 ],
 "hasMultidimensions": false,
 "pixelSizeX": 0.001133584162363299,
 "pixelSizeY": 8.998200359928017E-4,
 "meanPixelSize": 113.17875996895287,
 "datasetFormat": "FGDBR",
 "uncompressedSize": 337270824,
 "blockWidth": 128,
 "blockHeight": 128,
 "compressionType": "LZ77",
 "bandNames": [
  "Band_1"
 ],
 "allowCopy": true,
 "allowAnalysis": true,
 "itemAccess": false,
 "inspectionCapabilities": "",
 "minPixelSize": 0,
 "maxPixelSize": 0,
 "copyrightText": "",
 "serviceDataType": "esriImageServiceDataTypeGeneric",
 "serviceSourceType": "esriImageServiceSourceTypeDataset",
 "objectIdField": "",
 "fields": [],
 "capabilities": "Image,Metadata,Mensuration",
 "defaultMosaicMethod": "Center",
 "allowedMosaicMethods": "",
 "sortField": "",
 "sortValue": null,
 "sortAscending": true,
 "mosaicOperator": "First",
 "defaultCompressionQuality": 75,
 "defaultResamplingMethod": "Bilinear",
 "maxImageHeight": 4100,
 "maxImageWidth": 15000,
 "allowRasterFunction": true,
 "rasterFunctionInfos": [
  {
   "name": "Annual_Classification_8classes",
   "description": "A raster function template.",
   "help": ""
  },
  {
   "name": "None",
   "description": "",
   "help": ""
  }
 ],
 "rasterTypeInfos": [
  {
   "name": "Raster Dataset",
   "description": "Supports all ArcGIS Raster Datasets",
   "help": ""
  }
 ],
 "mensurationCapabilities": "Basic",
 "hasHistograms": true,
 "hasColormap": false,
 "hasRasterAttributeTable": false,
 "minScale": 0,
 "maxScale": 0,
 "exportTilesAllowed": false,
 "supportsStatistics": false,
 "supportsAdvancedQueries": false,
 "editFieldsInfo": null,
 "ownershipBasedAccessControlForRasters": null,
 "allowComputeTiePoints": false,
 "useStandardizedQueries": true,
 "advancedQueryCapabilities": {
  "useStandardizedQueries": true,
  "supportsStatistics": false,
  "supportsOrderBy": false,
  "supportsDistinct": false,
  "supportsPagination": false
 },
 "spatialReference": {
  "wkid": 4326,
  "latestWkid": 4326
 }
}
