<?xml version="1.0" encoding="UTF-8" standalone="no"?>
<metadata xml:lang="en">
<Esri>
<CreaDate>20251215</CreaDate>
<CreaTime>13424900</CreaTime>
<ArcGISFormat>1.0</ArcGISFormat>
<SyncOnce>FALSE</SyncOnce>
<DataProperties>
<itemProps>
<itemName Sync="TRUE">Vertical_Displacement_TRE_ALTAMIRA_Annual_Rate_20240601_20250601</itemName>
<imsContentType Sync="TRUE">002</imsContentType>
<nativeExtBox>
<westBL Sync="TRUE">-124.422337</westBL>
<eastBL Sync="TRUE">-115.406942</eastBL>
<southBL Sync="TRUE">32.317527</southBL>
<northBL Sync="TRUE">42.255140</northBL>
<exTypeCode Sync="TRUE">1</exTypeCode>
</nativeExtBox>
</itemProps>
<coordRef>
<type Sync="TRUE">Geographic</type>
<geogcsn Sync="TRUE">GCS_WGS_1984</geogcsn>
<csUnits Sync="TRUE">Angular Unit: Degree (0.017453)</csUnits>
<peXml Sync="TRUE">&lt;GeographicCoordinateSystem xsi:type='typens:GeographicCoordinateSystem' xmlns:xsi='http://www.w3.org/2001/XMLSchema-instance' xmlns:xs='http://www.w3.org/2001/XMLSchema' xmlns:typens='http://www.esri.com/schemas/ArcGIS/3.5.0'&gt;&lt;WKT&gt;GEOGCS[&amp;quot;GCS_WGS_1984&amp;quot;,DATUM[&amp;quot;D_WGS_1984&amp;quot;,SPHEROID[&amp;quot;WGS_1984&amp;quot;,6378137.0,298.257223563]],PRIMEM[&amp;quot;Greenwich&amp;quot;,0.0],UNIT[&amp;quot;Degree&amp;quot;,0.0174532925199433],AUTHORITY[&amp;quot;EPSG&amp;quot;,4326]]&lt;/WKT&gt;&lt;XOrigin&gt;-400&lt;/XOrigin&gt;&lt;YOrigin&gt;-400&lt;/YOrigin&gt;&lt;XYScale&gt;11258999068426.238&lt;/XYScale&gt;&lt;ZOrigin&gt;-100000&lt;/ZOrigin&gt;&lt;ZScale&gt;10000&lt;/ZScale&gt;&lt;MOrigin&gt;-100000&lt;/MOrigin&gt;&lt;MScale&gt;10000&lt;/MScale&gt;&lt;XYTolerance&gt;8.983152841195215e-09&lt;/XYTolerance&gt;&lt;ZTolerance&gt;0.001&lt;/ZTolerance&gt;&lt;MTolerance&gt;0.001&lt;/MTolerance&gt;&lt;HighPrecision&gt;true&lt;/HighPrecision&gt;&lt;LeftLongitude&gt;-180&lt;/LeftLongitude&gt;&lt;WKID&gt;4326&lt;/WKID&gt;&lt;LatestWKID&gt;4326&lt;/LatestWKID&gt;&lt;/GeographicCoordinateSystem&gt;</peXml>
</coordRef>
</DataProperties>
<SyncDate>20251215</SyncDate>
<SyncTime>13425000</SyncTime>
<ModDate>20251215</ModDate>
<ModTime>13425000</ModTime>
</Esri>
<dataIdInfo>
<envirDesc Sync="FALSE">Esri ArcGIS 13.5.2.57366</envirDesc>
<dataLang>
<languageCode Sync="TRUE" value="eng">
</languageCode>
<countryCode Sync="TRUE" value="USA">
</countryCode>
</dataLang>
<idCitation>
<resTitle Sync="TRUE">Vertical_Displacement_TRE_ALTAMIRA_Annual_Rate_20240601_20250601</resTitle>
<presForm>
<PresFormCd Sync="TRUE" value="011">
</PresFormCd>
</presForm>
</idCitation>
<spatRpType>
<SpatRepTypCd Sync="TRUE" value="002">
</SpatRepTypCd>
</spatRpType>
<dataExt>
<geoEle>
<GeoBndBox esriExtentType="search">
<exTypeCode Sync="TRUE">1</exTypeCode>
<westBL Sync="TRUE">-124.422337</westBL>
<eastBL Sync="TRUE">-115.406942</eastBL>
<northBL Sync="TRUE">42.255140</northBL>
<southBL Sync="TRUE">32.317527</southBL>
</GeoBndBox>
</geoEle>
</dataExt>
<idAbs>&lt;div style='text-align:Left;'&gt;&lt;p style='margin:0 0 0 0;'&gt;&lt;span&gt;&lt;span&gt;This raster represents measurements of vertical ground surface displacement in more than 200 of the high-use and populated groundwater basins across the State of California between &lt;/span&gt;&lt;/span&gt;&lt;span&gt;&lt;span&gt;June of 2024 and June of 2025&lt;/span&gt;&lt;/span&gt;&lt;span&gt;&lt;span&gt;. Image resolution (X,Y) is 0.0011335842, 0.00089982004 degrees, or approximately 100 meters. Vertical ground surface displacement estimates are derived from Interferometric Synthetic Aperture Radar (InSAR) data that are collected by the European Space Agency (ESA) Sentinel-1A satellite and processed by TRE ALTAMIRA, under contract with to the California Department of Water Resources (DWR) as part of DWR’s SGMA technical assistance to provide important SGMA-relevant data to GSAs for GSP development and implementation. Sentinel-1A InSAR data coverage for the entire study area began in June 13, 2015. The Department of Water Resources makes no warranties, representations or guarantees, either expressed or implied, as to the accuracy, completeness, correctness, or timeliness of the information in this dataset, nor accepts or assumes any liability arising from use of these data. Neither the Department nor any of the sources of this information shall be responsible for any errors or omissions, or for the use or results obtained from the use of this information. A Groundwater Sustainability Agency is not required to use these data, and their use does not guarantee the adequacy of a Groundwater Sustainability Plan that relies on such data. This is an official DWR Image Service, published on &lt;/span&gt;&lt;/span&gt;&lt;span&gt;&lt;span&gt;9/23/2025&lt;/span&gt;&lt;/span&gt;&lt;span&gt;&lt;span&gt; by Nate Cheshier of the DWR Geomatics Office, who may be contacted at Nathan.cheshier@water.ca.gov or (916) 603-6576. Date of acquisition: Between January of 2015 and &lt;/span&gt;&lt;/span&gt;&lt;span&gt;&lt;span&gt;July of 2025&lt;/span&gt;&lt;/span&gt;&lt;span&gt;&lt;span&gt;. Date of production: &lt;/span&gt;&lt;/span&gt;&lt;span&gt;&lt;span&gt;2025&lt;/span&gt;&lt;/span&gt;&lt;span&gt;&lt;span&gt;. Date of delivery of product: Delivered from TRE ALTAMIRA to DWR in &lt;/span&gt;&lt;/span&gt;&lt;span&gt;&lt;span&gt;September of 2025&lt;/span&gt;&lt;/span&gt;&lt;span&gt;&lt;span&gt;. Processing steps: See Technical Report: InSAR land surveying and mapping services to DWR supporting SGMA – &lt;/span&gt;&lt;/span&gt;&lt;span&gt;&lt;span&gt;July 2025 Update, TRE ALTAMIRA, 2025&lt;/span&gt;&lt;/span&gt;&lt;span&gt;&lt;span&gt;. Pixel value definitions: Vertical ground surface displacement in feet for time period specified above. Positional accuracy: See: InSAR Data Accuracy for California Groundwater Basins - CPGS Data Comparative Analysis - January 2015 to September 2019, Towill Inc., 2020.&lt;/span&gt;&lt;/span&gt;&lt;/p&gt;&lt;/div&gt;</idAbs>
<searchKeys>
<keyword>InSAR</keyword>
<keyword>vertical ground surface displacement</keyword>
<keyword>SGMA</keyword>
<keyword>Sentinel-1A</keyword>
<keyword>elevation</keyword>
</searchKeys>
<idPurp>This raster represents measurements of vertical ground surface displacement in more than 200 of the high-use and populated groundwater basins across the State of California between June of 2024 and June of 2025.</idPurp>
<idCredit>California Department of Water Resources</idCredit>
<resConst>
<Consts>
<useLimit>&lt;div style='text-align:Left;'&gt;&lt;p style='margin:0 0 11 0;'&gt;&lt;span&gt;&lt;span&gt;Public Domain&lt;/span&gt;&lt;/span&gt;&lt;/p&gt;&lt;/div&gt;</useLimit>
</Consts>
</resConst>
</dataIdInfo>
<mdLang>
<languageCode Sync="TRUE" value="eng">
</languageCode>
<countryCode Sync="TRUE" value="USA">
</countryCode>
</mdLang>
<distInfo>
<distFormat>
<formatName Sync="TRUE">File Geodatabase Raster Dataset</formatName>
</distFormat>
</distInfo>
<mdHrLv>
<ScopeCd Sync="TRUE" value="005">
</ScopeCd>
</mdHrLv>
<mdHrLvName Sync="TRUE">dataset</mdHrLvName>
<refSysInfo>
<RefSystem>
<refSysID>
<identCode Sync="TRUE" code="4326">
</identCode>
<idCodeSpace Sync="TRUE">EPSG</idCodeSpace>
<idVersion Sync="TRUE">6.2(3.0.1)</idVersion>
</refSysID>
</RefSystem>
</refSysInfo>
<spdoinfo>
<rastinfo>
<rasttype Sync="TRUE">Pixel</rasttype>
<rowcount Sync="TRUE">11044</rowcount>
<colcount Sync="TRUE">7953</colcount>
<rastxsz Sync="TRUE">0.001134</rastxsz>
<rastysz Sync="TRUE">0.000900</rastysz>
<rastbpp Sync="TRUE">32</rastbpp>
<vrtcount Sync="TRUE">1</vrtcount>
<rastorig Sync="TRUE">Upper Left</rastorig>
<rastcmap Sync="TRUE">FALSE</rastcmap>
<rastcomp Sync="TRUE">LZ77</rastcomp>
<rastband Sync="TRUE">1</rastband>
<rastdtyp Sync="TRUE">pixel codes</rastdtyp>
<rastifor Sync="TRUE">FGDBR</rastifor>
<rastplyr Sync="TRUE">TRUE</rastplyr>
</rastinfo>
</spdoinfo>
<spref>
<horizsys>
<planar>
<planci>
<plance Sync="TRUE">row and column</plance>
<coordrep>
<absres Sync="TRUE">0.001134</absres>
<ordres Sync="TRUE">0.000900</ordres>
</coordrep>
</planci>
</planar>
</horizsys>
</spref>
<mdDateSt Sync="TRUE">20251215</mdDateSt>
</metadata>
