<?xml version="1.0" standalone="no"?>
<metadata xml:lang="en"><Esri><CreaDate>20230306</CreaDate><CreaTime>11234700</CreaTime><ArcGISFormat>1.0</ArcGISFormat><SyncOnce>FALSE</SyncOnce><DataProperties><itemProps><itemName Sync="TRUE">Vertical_Displacement_TRE_ALTAMIRA_Total_Since_20221101_20150613</itemName><imsContentType Sync="TRUE">002</imsContentType><nativeExtBox><westBL Sync="TRUE">-124.422337</westBL><eastBL Sync="TRUE">-115.406942</eastBL><southBL Sync="TRUE">32.317527</southBL><northBL Sync="TRUE">42.255140</northBL><exTypeCode Sync="TRUE">1</exTypeCode></nativeExtBox><itemLocation><linkage Sync="TRUE">file://\\cnrastore-gis\DWR_RIL_3\SAR\SGMA\2023_January_Update\Vertical_Displacement_TRE_ALTAMIRA_Total_Since_2023Q1.gdb</linkage><protocol Sync="TRUE">Local Area Network</protocol></itemLocation></itemProps><coordRef><type Sync="TRUE">Geographic</type><geogcsn Sync="TRUE">GCS_WGS_1984</geogcsn><csUnits Sync="TRUE">Angular Unit: Degree (0.017453)</csUnits><peXml Sync="TRUE">&lt;GeographicCoordinateSystem xsi:type='typens:GeographicCoordinateSystem' xmlns:xsi='http://www.w3.org/2001/XMLSchema-instance' xmlns:xs='http://www.w3.org/2001/XMLSchema' xmlns:typens='http://www.esri.com/schemas/ArcGIS/3.0.0'&gt;&lt;WKT&gt;GEOGCS[&amp;quot;GCS_WGS_1984&amp;quot;,DATUM[&amp;quot;D_WGS_1984&amp;quot;,SPHEROID[&amp;quot;WGS_1984&amp;quot;,6378137.0,298.257223563]],PRIMEM[&amp;quot;Greenwich&amp;quot;,0.0],UNIT[&amp;quot;Degree&amp;quot;,0.0174532925199433],AUTHORITY[&amp;quot;EPSG&amp;quot;,4326]]&lt;/WKT&gt;&lt;XOrigin&gt;-400&lt;/XOrigin&gt;&lt;YOrigin&gt;-400&lt;/YOrigin&gt;&lt;XYScale&gt;11258999068426.238&lt;/XYScale&gt;&lt;ZOrigin&gt;-100000&lt;/ZOrigin&gt;&lt;ZScale&gt;10000&lt;/ZScale&gt;&lt;MOrigin&gt;-100000&lt;/MOrigin&gt;&lt;MScale&gt;10000&lt;/MScale&gt;&lt;XYTolerance&gt;8.983152841195215e-09&lt;/XYTolerance&gt;&lt;ZTolerance&gt;0.001&lt;/ZTolerance&gt;&lt;MTolerance&gt;0.001&lt;/MTolerance&gt;&lt;HighPrecision&gt;true&lt;/HighPrecision&gt;&lt;LeftLongitude&gt;-180&lt;/LeftLongitude&gt;&lt;WKID&gt;4326&lt;/WKID&gt;&lt;LatestWKID&gt;4326&lt;/LatestWKID&gt;&lt;/GeographicCoordinateSystem&gt;</peXml></coordRef><lineage><Process Date="20230306" Name="Copy Raster" Time="112352" ToolSource="c:\program files\arcgis\pro\Resources\ArcToolbox\toolboxes\Data Management Tools.tbx\CopyRaster" export="">CopyRaster \\cnrastore-gis\DWR_RIL_3\SAR\SGMA\2023_January_Update\02_CumulativeMaps\02_CumulativeMaps\20221101_20150613.tif \\cnrastore-gis\DWR_RIL_3\SAR\SGMA\2023_January_Update\Vertical_Displacement_TRE_ALTAMIRA_Total_Since_2023Q1.gdb\Vertical_Displacement_TRE_ALTAMIRA_Total_Since_20221101_20150613 # # -9999 NONE NONE # NONE NONE "Esri Grid format" NONE CURRENT_SLICE NO_TRANSPOSE</Process><Process Date="20230306" Name="" Time="112942" ToolSource="c:\program files\arcgis\pro\Resources\ArcToolbox\toolboxes\Data Management Tools.tbx\Rename" export="">Rename \\cnrastore-gis\DWR_RIL_3\SAR\SGMA\2023_January_Update\Vertical_Displacement_TRE_ALTAMIRA_Total_Since_2023Q1.gdb\Vertical_Displacement_TRE_ALTAMIRA_Total_Since_20221101_20150613 \\cnrastore-gis\DWR_RIL_3\SAR\SGMA\2023_January_Update\Vertical_Displacement_TRE_ALTAMIRA_Total_Since_2023Q1.gdb\Vertical_Displacement_TRE_ALTAMIRA_Total_Since_20150613_20221101 RasterDataset</Process></lineage></DataProperties><SyncDate>20230306</SyncDate><SyncTime>11234700</SyncTime><ModDate>20240123</ModDate><ModTime>16165100</ModTime><scaleRange><minScale>150000000</minScale><maxScale>5000</maxScale></scaleRange><ArcGISProfile>FGDC</ArcGISProfile></Esri><dataIdInfo><envirDesc Sync="TRUE">Microsoft Windows 10 Version 10.0 (Build 19044) ; Esri ArcGIS 13.0.0.36056</envirDesc><dataLang><languageCode Sync="TRUE" value="eng"/><countryCode Sync="TRUE" value="USA"/></dataLang><idCitation><resTitle Sync="TRUE">Vertical_Displacement_TRE_ALTAMIRA_Total_Since_20150613_20221101</resTitle><presForm><PresFormCd Sync="TRUE" value="011"/></presForm></idCitation><spatRpType><SpatRepTypCd Sync="TRUE" value="002"/></spatRpType><dataExt><geoEle xmlns=""><GeoBndBox esriExtentType="search"><exTypeCode Sync="TRUE">1</exTypeCode><westBL Sync="TRUE">-124.422337</westBL><eastBL Sync="TRUE">-115.406942</eastBL><northBL Sync="TRUE">42.255140</northBL><southBL Sync="TRUE">32.317527</southBL></GeoBndBox></geoEle></dataExt><idAbs>&lt;DIV STYLE="text-align:Left;"&gt;&lt;DIV&gt;&lt;DIV&gt;&lt;P&gt;&lt;SPAN&gt;This raster represents measurements of vertical ground surface displacement in more than 200 of the high-use and populated groundwater basins across the State of California between June of 2015 and November of 2022. Image resolution (X,Y) is 0.0011335842, 0.00089982004 degrees, or approximately 100 meters. Vertical ground surface displacement estimates are derived from Interferometric Synthetic Aperture Radar (InSAR) data that are collected by the European Space Agency (ESA) Sentinel-1A satellite and processed by TRE ALTAMIRA, under contract with to the California Department of Water Resources (DWR) as part of DWR’s SGMA technical assistance to provide important SGMA-relevant data to GSAs for GSP development and implementation. Sentinel-1A InSAR data coverage for the entire study area began in June 13, 2015. The Department of Water Resources makes no warranties, representations or guarantees, either expressed or implied, as to the accuracy, completeness, correctness, or timeliness of the information in this dataset, nor accepts or assumes any liability arising from use of these data. Neither the Department nor any of the sources of this information shall be responsible for any errors or omissions, or for the use or results obtained from the use of this information. A Groundwater Sustainability Agency is not required to use these data, and their use does not guarantee the adequacy of a Groundwater Sustainability Plan that relies on such data. This is an official DWR Image Service, published 3/2023 by Nate Cheshier of the DWR Geomatics Office, who may be contacted at Nathan.cheshier@water.ca.gov or (916) 398-1513. Date of acquisition: Between January of 2015 and January 2023. Date of production: 2023. Date of delivery of product: Delivered from TRE ALTAMIRA to DWR in March of 2023. Processing steps: See Technical Report: InSAR land surveying and mapping services to DWR supporting SGMA - January 2023 Update, TRE ALTAMIRA, 2023. Pixel value definitions: Vertical ground surface displacement in feet for time period specified above. Positional accuracy: See: InSAR Data Accuracy for California Groundwater Basins - CPGS Data Comparative Analysis - January 2015 to October 2020, Towill Inc., 2021.&lt;/SPAN&gt;&lt;/P&gt;&lt;/DIV&gt;&lt;/DIV&gt;&lt;/DIV&gt;</idAbs><idPurp>This raster represents measurements of vertical ground surface displacement in more than 200 of the high-use and populated groundwater basins across the State of California between June of 2015 and November of 2022.</idPurp><searchKeys><keyword>InSAR</keyword><keyword>vertical ground surface displacement</keyword><keyword>SGMA</keyword><keyword>Sentinel-1A</keyword><keyword>elevation</keyword></searchKeys></dataIdInfo><mdLang><languageCode Sync="TRUE" value="eng"/><countryCode Sync="TRUE" value="USA"/></mdLang><distInfo><distFormat><formatName Sync="TRUE">File Geodatabase Raster Dataset</formatName></distFormat></distInfo><mdHrLv><ScopeCd Sync="TRUE" value="005"/></mdHrLv><mdHrLvName Sync="TRUE">dataset</mdHrLvName><refSysInfo><RefSystem><refSysID><identCode Sync="TRUE" code="4326"/><idCodeSpace Sync="TRUE">EPSG</idCodeSpace><idVersion Sync="TRUE">6.2(3.0.1)</idVersion></refSysID></RefSystem></refSysInfo><spdoinfo><rastinfo><rasttype Sync="TRUE">Pixel</rasttype><rowcount Sync="TRUE">11044</rowcount><colcount Sync="TRUE">7953</colcount><rastxsz Sync="TRUE">0.001134</rastxsz><rastysz Sync="TRUE">0.000900</rastysz><rastbpp Sync="TRUE">32</rastbpp><vrtcount Sync="TRUE">1</vrtcount><rastorig Sync="TRUE">Upper Left</rastorig><rastcmap Sync="TRUE">FALSE</rastcmap><rastcomp Sync="TRUE">LZ77</rastcomp><rastband Sync="TRUE">1</rastband><rastdtyp Sync="TRUE">pixel codes</rastdtyp><rastifor Sync="TRUE">FGDBR</rastifor><rastplyr Sync="TRUE">TRUE</rastplyr></rastinfo></spdoinfo><spref><horizsys><planar><planci><plance Sync="TRUE">row and column</plance><coordrep><absres Sync="TRUE">0.001134</absres><ordres Sync="TRUE">0.000900</ordres></coordrep></planci></planar></horizsys></spref><mdDateSt Sync="TRUE">20240123</mdDateSt></metadata>
