{ "currentVersion": 11.3, "serviceDescription": "
The 2017 Sentinel Mosaiced image consists of multispectral stacked potions of the following Sentinel-2 tiles: L1C_T10SEH_A011264_20170818T190326, L1C_T10SEJ_A011264_20170818T190326, L1C_T10SFH_A011264_20170818T190326, L1C_T10SFJ_A011264_20170818T190326, L1C_T10TEK_A011264_20170818T190326. Each stacked tile contains the Sentinel-2 band 4: Red (665nm), band 3: Green (560nm), band 2: Blue (490nm) and band 8: Near-Infrared (842nm) 10 meter resolution bands. When stacked the bands were reordered in ArcGIS Pro, Red was assigned to Band 1, Green was assigned to band 2, Blue was assigned to band 3, and Near-Infrared was assigned to band 4 in the multispectral image. Once the multi-spectral image was stacked and mosaiced together, the Mosaiced image was clipped to the outer dissolved boundary of the following Detailed Analysis Unit (DAU) by County: 16604, 16704, 16804, 17004, 14211, 16311, 16411, 16611, 16711, portion of 16058, 17158, 17258, 16306, 16406, 16706, 16451, 16551, 16651, 16851, 17151, 17251, 16257, 16357, 16457, 18657, 19157, 17231, 17234. These DAUs by County areas make up a large portion of the Sacramento Valley.<\/SPAN><\/P> The Sentinel-2 Imagery is a product of the European Commission\u2019s Copernicus program and in agreement is processed into Image Tiles by the United States Geological Survey (USGS) for scientific usage. The Sentinel-2 Imagery Tiles are downloaded from the Earth Explorer, USGS Global Visualization Viewer (GloVis), or the Sentinel2Look Viewer . For more information on the Sentinel Imagery Tiles go to https://www.usgs.gov/centers/eros/science/usgs-eros-archive-sentinel-2?qt-science_center_objects=0#qt-science_center_objects. <\/SPAN><\/P><\/DIV><\/DIV><\/DIV>",
"name": "Satellite_Imagery/Sac_Valley_Aug2017_Sentinel2_10meter_NIR",
"description": "",
"extent": {
"xmin": 541190,
"ymin": 4239080,
"xmax": 667980,
"ymax": 4409140,
"spatialReference": {
"wkid": 32610,
"latestWkid": 32610
}
},
"initialExtent": {
"xmin": 541190,
"ymin": 4239080,
"xmax": 667980,
"ymax": 4409140,
"spatialReference": {
"wkid": 32610,
"latestWkid": 32610
}
},
"fullExtent": {
"xmin": 541190,
"ymin": 4239080,
"xmax": 667980,
"ymax": 4409140,
"spatialReference": {
"wkid": 32610,
"latestWkid": 32610
}
},
"sortableFields": "MinPS,MaxPS,LowPS,HighPS,CenterX,CenterY,ZOrder,Shape_Length,Shape_Area",
"bandCount": 4,
"pixelType": "U16",
"minValues": [],
"maxValues": [],
"meanValues": [],
"stdvValues": [],
"hasMultidimensions": false,
"pixelSizeX": 10,
"pixelSizeY": 10,
"meanPixelSize": 10,
"datasetFormat": "AMD",
"uncompressedSize": 1724952592,
"blockWidth": 2048,
"blockHeight": 256,
"compressionType": "None",
"bandNames": [
"Band_1",
"Band_2",
"Band_3",
"Band_4"
],
"allowCopy": true,
"allowAnalysis": true,
"itemAccess": false,
"inspectionCapabilities": "",
"minPixelSize": 0,
"maxPixelSize": 0,
"copyrightText": "European Space Agency (ESA), United States Geological Survey (USGS) California Department of Water Resources (DWR) State Water Project Analysis Office (SWPAO), Jason Harbaugh, Environmental Scientist at DWR North Central Region Office (NCRO).",
"serviceDataType": "esriImageServiceDataTypeGeneric",
"serviceSourceType": "esriImageServiceSourceTypeMosaicDataset",
"objectIdField": "OBJECTID",
"fields": [
{
"name": "OBJECTID",
"type": "esriFieldTypeOID",
"alias": "OBJECTID",
"domain": null
},
{
"name": "Shape",
"type": "esriFieldTypeGeometry",
"alias": "Shape",
"domain": null
},
{
"name": "Name",
"type": "esriFieldTypeString",
"alias": "Name",
"domain": null,
"length": 200
},
{
"name": "MinPS",
"type": "esriFieldTypeDouble",
"alias": "MinPS",
"domain": null
},
{
"name": "MaxPS",
"type": "esriFieldTypeDouble",
"alias": "MaxPS",
"domain": null
},
{
"name": "LowPS",
"type": "esriFieldTypeDouble",
"alias": "LowPS",
"domain": null
},
{
"name": "HighPS",
"type": "esriFieldTypeDouble",
"alias": "HighPS",
"domain": null
},
{
"name": "Category",
"type": "esriFieldTypeInteger",
"alias": "Category",
"domain": {
"type": "codedValue",
"name": "MosaicCatalogItemCategoryDomain",
"description": "Catalog item categories.",
"codedValues": [
{
"name": "Unknown",
"code": 0
},
{
"name": "Primary",
"code": 1
},
{
"name": "Overview",
"code": 2
},
{
"name": "Unprocessed Overview",
"code": 3
},
{
"name": "Partial Overview",
"code": 4
},
{
"name": "Inactive",
"code": 5
},
{
"name": "Uploaded",
"code": 253
},
{
"name": "Incomplete",
"code": 254
},
{
"name": "Custom",
"code": 255
}
],
"mergePolicy": "esriMPTDefaultValue",
"splitPolicy": "esriSPTDefaultValue"
}
},
{
"name": "Tag",
"type": "esriFieldTypeString",
"alias": "Tag",
"domain": null,
"length": 100
},
{
"name": "GroupName",
"type": "esriFieldTypeString",
"alias": "GroupName",
"domain": null,
"length": 100
},
{
"name": "ProductName",
"type": "esriFieldTypeString",
"alias": "ProductName",
"domain": null,
"length": 100
},
{
"name": "CenterX",
"type": "esriFieldTypeDouble",
"alias": "CenterX",
"domain": null
},
{
"name": "CenterY",
"type": "esriFieldTypeDouble",
"alias": "CenterY",
"domain": null
},
{
"name": "ZOrder",
"type": "esriFieldTypeInteger",
"alias": "ZOrder",
"domain": null
},
{
"name": "Shape_Length",
"type": "esriFieldTypeDouble",
"alias": "Shape_Length",
"domain": null
},
{
"name": "Shape_Area",
"type": "esriFieldTypeDouble",
"alias": "Shape_Area",
"domain": null
}
],
"capabilities": "Image,Metadata,Catalog,Mensuration",
"defaultMosaicMethod": "Northwest",
"allowedMosaicMethods": "NorthWest,Center,LockRaster,ByAttribute,Nadir,Viewpoint,Seamline,None",
"sortField": "",
"sortValue": null,
"sortAscending": true,
"mosaicOperator": "First",
"maxDownloadSizeLimit": 2048,
"defaultCompressionQuality": 75,
"defaultResamplingMethod": "Bilinear",
"maxImageHeight": 4100,
"maxImageWidth": 15000,
"maxRecordCount": 1000,
"maxDownloadImageCount": 20,
"maxMosaicImageCount": 20,
"allowRasterFunction": true,
"rasterFunctionInfos": [
{
"name": "Sac Valley Sentinel-2",
"description": "Sac Valley Sentinel-2",
"help": ""
},
{
"name": "None",
"description": "",
"help": ""
}
],
"rasterTypeInfos": [
{
"name": "Raster Dataset",
"description": "Supports all ArcGIS Raster Datasets",
"help": ""
}
],
"mensurationCapabilities": "Basic",
"hasHistograms": false,
"hasColormap": false,
"hasRasterAttributeTable": false,
"minScale": 0,
"maxScale": 0,
"exportTilesAllowed": false,
"supportsStatistics": true,
"supportsAdvancedQueries": true,
"editFieldsInfo": null,
"ownershipBasedAccessControlForRasters": null,
"allowComputeTiePoints": false,
"useStandardizedQueries": true,
"advancedQueryCapabilities": {
"useStandardizedQueries": true,
"supportsStatistics": true,
"supportsOrderBy": true,
"supportsDistinct": true,
"supportsPagination": true
},
"spatialReference": {
"wkid": 32610,
"latestWkid": 32610
}
}