<?xml version="1.0" encoding="UTF-8" standalone="no"?>
<metadata xml:lang="en">
<Esri>
<CreaDate>20241118</CreaDate>
<CreaTime>11333000</CreaTime>
<ArcGISFormat>1.0</ArcGISFormat>
<SyncOnce>FALSE</SyncOnce>
<DataProperties>
<lineage>
<Process Date="20241118" Time="113330" ToolSource="c:\program files\arcgis\pro\Resources\ArcToolbox\toolboxes\Data Management Tools.tbx\CreateMosaicDataset">CreateMosaicDataset \\cnrastore-gis\DWR_RIL_3\SatelliteImagery\Sentinel2_NDWI_Full.gdb NewTest PROJCS["WGS_1984_UTM_Zone_10N",GEOGCS["GCS_WGS_1984",DATUM["D_WGS_1984",SPHEROID["WGS_1984",6378137.0,298.257223563]],PRIMEM["Greenwich",0.0],UNIT["Degree",0.0174532925199433]],PROJECTION["Transverse_Mercator"],PARAMETER["False_Easting",500000.0],PARAMETER["False_Northing",0.0],PARAMETER["Central_Meridian",-123.0],PARAMETER["Scale_Factor",0.9996],PARAMETER["Latitude_Of_Origin",0.0],UNIT["Meter",1.0]] # # None #</Process>
<Process Date="20241118" Time="113658" ToolSource="c:\program files\arcgis\pro\Resources\ArcToolbox\toolboxes\Data Management Tools.tbx\AddRastersToMosaicDataset">AddRastersToMosaicDataset \\cnrastore-gis\DWR_RIL_3\SatelliteImagery\Sentinel2_NDWI_Full.gdb\NewTest "Raster Dataset" \\cnrastore-gis\DWR_RIL_3\SatelliteImagery\Sentinel2_NDWI_Full\Sentinel2_NDWI_Full_20230213.TIF;\\cnrastore-gis\DWR_RIL_3\SatelliteImagery\Sentinel2_NDWI_Full\Sentinel2_NDWI_Full_20230417.TIF;\\cnrastore-gis\DWR_RIL_3\SatelliteImagery\Sentinel2_NDWI_Full\Sentinel2_NDWI_Full_20230424.TIF;\\cnrastore-gis\DWR_RIL_3\SatelliteImagery\Sentinel2_NDWI_Full\Sentinel2_NDWI_Full_20230515.TIF;\\cnrastore-gis\DWR_RIL_3\SatelliteImagery\Sentinel2_NDWI_Full\Sentinel2_NDWI_Full_20230522.TIF;\\cnrastore-gis\DWR_RIL_3\SatelliteImagery\Sentinel2_NDWI_Full\Sentinel2_NDWI_Full_20230612.TIF;\\cnrastore-gis\DWR_RIL_3\SatelliteImagery\Sentinel2_NDWI_Full\Sentinel2_NDWI_Full_20230710.TIF;\\cnrastore-gis\DWR_RIL_3\SatelliteImagery\Sentinel2_NDWI_Full\Sentinel2_NDWI_Full_20230717.TIF;\\cnrastore-gis\DWR_RIL_3\SatelliteImagery\Sentinel2_NDWI_Full\Sentinel2_NDWI_Full_20230724.TIF;\\cnrastore-gis\DWR_RIL_3\SatelliteImagery\Sentinel2_NDWI_Full\Sentinel2_NDWI_Full_20230731.TIF;\\cnrastore-gis\DWR_RIL_3\SatelliteImagery\Sentinel2_NDWI_Full\Sentinel2_NDWI_Full_20230807.TIF;\\cnrastore-gis\DWR_RIL_3\SatelliteImagery\Sentinel2_NDWI_Full\Sentinel2_NDWI_Full_20230814.TIF;\\cnrastore-gis\DWR_RIL_3\SatelliteImagery\Sentinel2_NDWI_Full\Sentinel2_NDWI_Full_20230828.TIF;\\cnrastore-gis\DWR_RIL_3\SatelliteImagery\Sentinel2_NDWI_Full\Sentinel2_NDWI_Full_20230904.TIF;\\cnrastore-gis\DWR_RIL_3\SatelliteImagery\Sentinel2_NDWI_Full\Sentinel2_NDWI_Full_20230911.TIF;\\cnrastore-gis\DWR_RIL_3\SatelliteImagery\Sentinel2_NDWI_Full\Sentinel2_NDWI_Full_20230918.TIF;\\cnrastore-gis\DWR_RIL_3\SatelliteImagery\Sentinel2_NDWI_Full\Sentinel2_NDWI_Full_20230925.TIF;\\cnrastore-gis\DWR_RIL_3\SatelliteImagery\Sentinel2_NDWI_Full\Sentinel2_NDWI_Full_20231002.TIF;\\cnrastore-gis\DWR_RIL_3\SatelliteImagery\Sentinel2_NDWI_Full\Sentinel2_NDWI_Full_20231009.TIF;\\cnrastore-gis\DWR_RIL_3\SatelliteImagery\Sentinel2_NDWI_Full\Sentinel2_NDWI_Full_20231016.TIF;\\cnrastore-gis\DWR_RIL_3\SatelliteImagery\Sentinel2_NDWI_Full\Sentinel2_NDWI_Full_20231023.TIF;\\cnrastore-gis\DWR_RIL_3\SatelliteImagery\Sentinel2_NDWI_Full\Sentinel2_NDWI_Full_20231030.TIF;\\cnrastore-gis\DWR_RIL_3\SatelliteImagery\Sentinel2_NDWI_Full\Sentinel2_NDWI_Full_20231106.TIF;\\cnrastore-gis\DWR_RIL_3\SatelliteImagery\Sentinel2_NDWI_Full\Sentinel2_NDWI_Full_20231127.TIF;\\cnrastore-gis\DWR_RIL_3\SatelliteImagery\Sentinel2_NDWI_Full\Sentinel2_NDWI_Full_20231204.TIF;\\cnrastore-gis\DWR_RIL_3\SatelliteImagery\Sentinel2_NDWI_Full\Sentinel2_NDWI_Full_20231211.TIF;\\cnrastore-gis\DWR_RIL_3\SatelliteImagery\Sentinel2_NDWI_Full\Sentinel2_NDWI_Full_20240108.TIF;\\cnrastore-gis\DWR_RIL_3\SatelliteImagery\Sentinel2_NDWI_Full\Sentinel2_NDWI_Full_20240122.TIF;\\cnrastore-gis\DWR_RIL_3\SatelliteImagery\Sentinel2_NDWI_Full\Sentinel2_NDWI_Full_20240219.TIF;\\cnrastore-gis\DWR_RIL_3\SatelliteImagery\Sentinel2_NDWI_Full\Sentinel2_NDWI_Full_20240226.TIF;\\cnrastore-gis\DWR_RIL_3\SatelliteImagery\Sentinel2_NDWI_Full\Sentinel2_NDWI_Full_20240311.TIF;\\cnrastore-gis\DWR_RIL_3\SatelliteImagery\Sentinel2_NDWI_Full\Sentinel2_NDWI_Full_20240318.TIF;\\cnrastore-gis\DWR_RIL_3\SatelliteImagery\Sentinel2_NDWI_Full\Sentinel2_NDWI_Full_20240325.TIF;\\cnrastore-gis\DWR_RIL_3\SatelliteImagery\Sentinel2_NDWI_Full\Sentinel2_NDWI_Full_20240401.TIF;\\cnrastore-gis\DWR_RIL_3\SatelliteImagery\Sentinel2_NDWI_Full\Sentinel2_NDWI_Full_20240408.TIF;\\cnrastore-gis\DWR_RIL_3\SatelliteImagery\Sentinel2_NDWI_Full\Sentinel2_NDWI_Full_20240415.TIF;\\cnrastore-gis\DWR_RIL_3\SatelliteImagery\Sentinel2_NDWI_Full\Sentinel2_NDWI_Full_20240422.TIF;\\cnrastore-gis\DWR_RIL_3\SatelliteImagery\Sentinel2_NDWI_Full\Sentinel2_NDWI_Full_20240429.TIF;\\cnrastore-gis\DWR_RIL_3\SatelliteImagery\Sentinel2_NDWI_Full\Sentinel2_NDWI_Full_20240506.TIF;\\cnrastore-gis\DWR_RIL_3\SatelliteImagery\Sentinel2_NDWI_Full\Sentinel2_NDWI_Full_20240513.TIF;\\cnrastore-gis\DWR_RIL_3\SatelliteImagery\Sentinel2_NDWI_Full\Sentinel2_NDWI_Full_20240520.TIF;\\cnrastore-gis\DWR_RIL_3\SatelliteImagery\Sentinel2_NDWI_Full\Sentinel2_NDWI_Full_20240527.TIF;\\cnrastore-gis\DWR_RIL_3\SatelliteImagery\Sentinel2_NDWI_Full\Sentinel2_NDWI_Full_20240603.TIF;\\cnrastore-gis\DWR_RIL_3\SatelliteImagery\Sentinel2_NDWI_Full\Sentinel2_NDWI_Full_20240610.TIF;\\cnrastore-gis\DWR_RIL_3\SatelliteImagery\Sentinel2_NDWI_Full\Sentinel2_NDWI_Full_20240617.TIF;\\cnrastore-gis\DWR_RIL_3\SatelliteImagery\Sentinel2_NDWI_Full\Sentinel2_NDWI_Full_20240624.TIF;\\cnrastore-gis\DWR_RIL_3\SatelliteImagery\Sentinel2_NDWI_Full\Sentinel2_NDWI_Full_20240701.TIF;\\cnrastore-gis\DWR_RIL_3\SatelliteImagery\Sentinel2_NDWI_Full\Sentinel2_NDWI_Full_20240708.TIF;\\cnrastore-gis\DWR_RIL_3\SatelliteImagery\Sentinel2_NDWI_Full\Sentinel2_NDWI_Full_20240715.TIF;\\cnrastore-gis\DWR_RIL_3\SatelliteImagery\Sentinel2_NDWI_Full\Sentinel2_NDWI_Full_20240722.TIF;\\cnrastore-gis\DWR_RIL_3\SatelliteImagery\Sentinel2_NDWI_Full\Sentinel2_NDWI_Full_20240729.TIF;\\cnrastore-gis\DWR_RIL_3\SatelliteImagery\Sentinel2_NDWI_Full\Sentinel2_NDWI_Full_20240805.TIF;\\cnrastore-gis\DWR_RIL_3\SatelliteImagery\Sentinel2_NDWI_Full\Sentinel2_NDWI_Full_20240812.TIF;\\cnrastore-gis\DWR_RIL_3\SatelliteImagery\Sentinel2_NDWI_Full\Sentinel2_NDWI_Full_20240819.TIF;\\cnrastore-gis\DWR_RIL_3\SatelliteImagery\Sentinel2_NDWI_Full\Sentinel2_NDWI_Full_20240826.TIF;\\cnrastore-gis\DWR_RIL_3\SatelliteImagery\Sentinel2_NDWI_Full\Sentinel2_NDWI_Full_20240902.TIF;\\cnrastore-gis\DWR_RIL_3\SatelliteImagery\Sentinel2_NDWI_Full\Sentinel2_NDWI_Full_20240909.TIF;\\cnrastore-gis\DWR_RIL_3\SatelliteImagery\Sentinel2_NDWI_Full\Sentinel2_NDWI_Full_20240916.TIF;\\cnrastore-gis\DWR_RIL_3\SatelliteImagery\Sentinel2_NDWI_Full\Sentinel2_NDWI_Full_20240923.TIF;\\cnrastore-gis\DWR_RIL_3\SatelliteImagery\Sentinel2_NDWI_Full\Sentinel2_NDWI_Full_20240930.TIF;\\cnrastore-gis\DWR_RIL_3\SatelliteImagery\Sentinel2_NDWI_Full\Sentinel2_NDWI_Full_20241007.TIF;\\cnrastore-gis\DWR_RIL_3\SatelliteImagery\Sentinel2_NDWI_Full\Sentinel2_NDWI_Full_20241014.TIF;\\cnrastore-gis\DWR_RIL_3\SatelliteImagery\Sentinel2_NDWI_Full\Sentinel2_NDWI_Full_20241021.TIF;\\cnrastore-gis\DWR_RIL_3\SatelliteImagery\Sentinel2_NDWI_Full\Sentinel2_NDWI_Full_20241028.TIF;\\cnrastore-gis\DWR_RIL_3\SatelliteImagery\Sentinel2_NDWI_Full\Sentinel2_NDWI_Full_20241104.TIF;\\cnrastore-gis\DWR_RIL_3\SatelliteImagery\Sentinel2_NDWI_Full\Sentinel2_NDWI_Full_20241111.TIF UPDATE_CELL_SIZES UPDATE_BOUNDARY NO_OVERVIEWS # 0 1500 # # SUBFOLDERS "Allow duplicates" NO_PYRAMIDS NO_STATISTICS NO_THUMBNAILS # NO_FORCE_SPATIAL_REFERENCE NO_STATISTICS # NO_PIXEL_CACHE C:\Users\clewis\AppData\Local\ESRI\rasterproxies\NewTest</Process>
<Process Date="20241118" Time="113901" ToolSource="c:\program files\arcgis\pro\Resources\ArcToolbox\toolboxes\Data Management Tools.tbx\CalculateStatistics">CalculateStatistics \\cnrastore-gis\DWR_RIL_3\SatelliteImagery\Sentinel2_NDWI_Full.gdb\NewTest 111 111 # OVERWRITE "Feature Set"</Process>
<Process Date="20241118" Time="124855" ToolSource="c:\program files\arcgis\pro\Resources\ArcToolbox\toolboxes\Data Management Tools.tbx\Rename">Rename \\cnrastore-gis\DWR_RIL_3\SatelliteImagery\Sentinel2_NDWI_Full.gdb\NewTest \\cnrastore-gis\DWR_RIL_3\SatelliteImagery\Sentinel2_NDWI_Full.gdb\Sentinel2_NDWI_Full MosaicDataset</Process>
<Process Date="20241118" Time="125055" ToolSource="c:\program files\arcgis\pro\Resources\ArcToolbox\toolboxes\Data Management Tools.tbx\Rename">Rename \\cnrastore-gis\DWR_RIL_3\SatelliteImagery\Sentinel2_NDWI_Full.gdb\Sentinel2_NDWI_Full \\cnrastore-gis\DWR_RIL_3\SatelliteImagery\Sentinel2_NDWI_Full.gdb\NewTest MosaicDataset</Process>
<Process Date="20241118" Time="125154" ToolSource="c:\program files\arcgis\pro\Resources\ArcToolbox\toolboxes\Data Management Tools.tbx\Rename">Rename \\cnrastore-gis\DWR_RIL_3\SatelliteImagery\Sentinel2_NDWI_Full.gdb\NewTest \\cnrastore-gis\DWR_RIL_3\SatelliteImagery\Sentinel2_NDWI_Full.gdb\Sentinel2_NDWI_Full MosaicDataset</Process>
<Process Date="20241118" Time="125327" ToolSource="c:\program files\arcgis\pro\Resources\ArcToolbox\toolboxes\Data Management Tools.tbx\Rename">Rename \\cnrastore-gis\DWR_RIL_3\SatelliteImagery\Sentinel2_NDWI_Full.gdb\Sentinel2_NDWI_Full \\cnrastore-gis\DWR_RIL_3\SatelliteImagery\Sentinel2_NDWI_Full.gdb\NewTest MosaicDataset</Process>
<Process Date="20241118" Time="130451" ToolSource="c:\program files\arcgis\pro\Resources\ArcToolbox\toolboxes\Data Management Tools.tbx\Rename">Rename \\cnrastore-gis\DWR_RIL_3\SatelliteImagery\Sentinel2_NDWI_Full.gdb\NewTest \\cnrastore-gis\DWR_RIL_3\SatelliteImagery\Sentinel2_NDWI_Full.gdb\Sentinel2_NDWI_Full MosaicDataset</Process>
</lineage>
<itemProps>
<itemName Sync="TRUE">NewTest</itemName>
<itemLocation>
<linkage Sync="TRUE">file://\\cnrastore-gis\DWR_RIL_3\SatelliteImagery\Sentinel2_NDWI_Full.gdb</linkage>
<protocol Sync="TRUE">Local Area Network</protocol>
</itemLocation>
<nativeExtBox>
<westBL Sync="TRUE">480303.811900</westBL>
<eastBL Sync="TRUE">962493.811900</eastBL>
<southBL Sync="TRUE">3775408.598000</southBL>
<northBL Sync="TRUE">4421758.598000</northBL>
<exTypeCode Sync="TRUE">1</exTypeCode>
</nativeExtBox>
</itemProps>
<coordRef>
<type Sync="TRUE">Projected</type>
<geogcsn Sync="TRUE">GCS_WGS_1984</geogcsn>
<csUnits Sync="TRUE">Linear Unit: Meter (1.000000)</csUnits>
<projcsn Sync="TRUE">WGS_1984_UTM_Zone_10N</projcsn>
<peXml Sync="TRUE">&lt;ProjectedCoordinateSystem xsi:type='typens:ProjectedCoordinateSystem' xmlns:xsi='http://www.w3.org/2001/XMLSchema-instance' xmlns:xs='http://www.w3.org/2001/XMLSchema' xmlns:typens='http://www.esri.com/schemas/ArcGIS/3.3.0'&gt;&lt;WKT&gt;PROJCS[&amp;quot;WGS_1984_UTM_Zone_10N&amp;quot;,GEOGCS[&amp;quot;GCS_WGS_1984&amp;quot;,DATUM[&amp;quot;D_WGS_1984&amp;quot;,SPHEROID[&amp;quot;WGS_1984&amp;quot;,6378137.0,298.257223563]],PRIMEM[&amp;quot;Greenwich&amp;quot;,0.0],UNIT[&amp;quot;Degree&amp;quot;,0.0174532925199433]],PROJECTION[&amp;quot;Transverse_Mercator&amp;quot;],PARAMETER[&amp;quot;False_Easting&amp;quot;,500000.0],PARAMETER[&amp;quot;False_Northing&amp;quot;,0.0],PARAMETER[&amp;quot;Central_Meridian&amp;quot;,-123.0],PARAMETER[&amp;quot;Scale_Factor&amp;quot;,0.9996],PARAMETER[&amp;quot;Latitude_Of_Origin&amp;quot;,0.0],UNIT[&amp;quot;Meter&amp;quot;,1.0],AUTHORITY[&amp;quot;EPSG&amp;quot;,32610]]&lt;/WKT&gt;&lt;XOrigin&gt;-5120900&lt;/XOrigin&gt;&lt;YOrigin&gt;-9998100&lt;/YOrigin&gt;&lt;XYScale&gt;450445547.3910538&lt;/XYScale&gt;&lt;ZOrigin&gt;-100000&lt;/ZOrigin&gt;&lt;ZScale&gt;10000&lt;/ZScale&gt;&lt;MOrigin&gt;-100000&lt;/MOrigin&gt;&lt;MScale&gt;10000&lt;/MScale&gt;&lt;XYTolerance&gt;0.001&lt;/XYTolerance&gt;&lt;ZTolerance&gt;0.001&lt;/ZTolerance&gt;&lt;MTolerance&gt;0.001&lt;/MTolerance&gt;&lt;HighPrecision&gt;true&lt;/HighPrecision&gt;&lt;WKID&gt;32610&lt;/WKID&gt;&lt;LatestWKID&gt;32610&lt;/LatestWKID&gt;&lt;/ProjectedCoordinateSystem&gt;</peXml>
</coordRef>
<RasterProperties>
<General>
<PixelDepth Sync="TRUE">32</PixelDepth>
<HasColormap Sync="TRUE">FALSE</HasColormap>
<CompressionType Sync="TRUE">None</CompressionType>
<NumBands Sync="TRUE">1</NumBands>
<Format Sync="TRUE">AMD</Format>
<HasPyramids Sync="TRUE">TRUE</HasPyramids>
<SourceType Sync="TRUE">continuous</SourceType>
<PixelType Sync="TRUE">floating point</PixelType>
<NoDataValue Sync="TRUE">0</NoDataValue>
</General>
<Properties>
<MaxImageHeight Sync="TRUE">4100</MaxImageHeight>
<MaxImageWidth Sync="TRUE">15000</MaxImageWidth>
<MaxRecordCount Sync="TRUE">1000</MaxRecordCount>
<MaxDownloadImageCount Sync="TRUE">20</MaxDownloadImageCount>
<MaxDownloadSizeLimit Sync="TRUE">2048</MaxDownloadSizeLimit>
<MaxMosaicImageCount Sync="TRUE">20</MaxMosaicImageCount>
<DefaultCompressionQuality Sync="TRUE">75</DefaultCompressionQuality>
<DefaultCompressionTolerance Sync="TRUE">0.01</DefaultCompressionTolerance>
<BlendWidth Sync="TRUE">10</BlendWidth>
<ViewpointSpacingX Sync="TRUE">600</ViewpointSpacingX>
<ViewpointSpacingY Sync="TRUE">300</ViewpointSpacingY>
<AllowedItemMetadata Sync="TRUE">Basic</AllowedItemMetadata>
<DefaultResamplingMethod Sync="TRUE">1</DefaultResamplingMethod>
<AllowedMosaicMethods Sync="TRUE">NorthWest,Center,LockRaster,ByAttribute,Nadir,Viewpoint,Seamline,None</AllowedMosaicMethods>
<AllowedCompressions Sync="TRUE">None,JPEG,LZ77,LERC</AllowedCompressions>
<AllowedMensurationCapabilities Sync="TRUE">Basic</AllowedMensurationCapabilities>
<AvailableMensurationCapabilities Sync="TRUE">None,Basic,Base-Top Height,Top-Top Shadow Height,Base-Top Shadow Height,3D</AvailableMensurationCapabilities>
<ClipToBoundary Sync="TRUE">-1</ClipToBoundary>
<FootprintMayContainNoData Sync="TRUE">-1</FootprintMayContainNoData>
<CellSizeTolerance Sync="TRUE">0.8</CellSizeTolerance>
<MinimumPixelContribution Sync="TRUE">1</MinimumPixelContribution>
<AvailableMosaicMethods Sync="TRUE">NorthWest,Center,LockRaster,ByAttribute,Nadir,Viewpoint,Seamline,None</AvailableMosaicMethods>
<AvailableCompressionMethods Sync="TRUE">None,JPEG,LZ77,LERC</AvailableCompressionMethods>
<AvailableItemMetadataLevels Sync="TRUE">None,Basic,Full</AvailableItemMetadataLevels>
<BandDefinitionKeyword Sync="TRUE">NONE</BandDefinitionKeyword>
<_docversion_ Sync="TRUE">10</_docversion_>
<AllowedFields Sync="TRUE">Name,MinPS,MaxPS,LowPS,HighPS,Tag,GroupName,ProductName,CenterX,CenterY,ZOrder,Shape_Length,Shape_Area,Date,Date_TimeSlider</AllowedFields>
<MaxCellSize Sync="TRUE">1600</MaxCellSize>
<LowCellSize Sync="TRUE">10</LowCellSize>
<HighCellSize Sync="TRUE">160</HighCellSize>
<ClipToFootprint Sync="TRUE">-1</ClipToFootprint>
<DataType Sync="TRUE">Generic</DataType>
</Properties>
<Functions Sync="TRUE">
<Function Description="Performs on-the-fly mosaic on a raster catalog." Name="Mosaic Function"/>
</Functions>
</RasterProperties>
</DataProperties>
<scaleRange>
<minScale>150000000</minScale>
<maxScale>5000</maxScale>
</scaleRange>
<SyncDate>20241118</SyncDate>
<SyncTime>12440000</SyncTime>
<ModDate>20241118</ModDate>
<ModTime>12440000</ModTime>
</Esri>
<mdLang>
<languageCode Sync="TRUE" value="eng"/>
<countryCode Sync="TRUE" value="USA"/>
</mdLang>
<mdHrLv>
<ScopeCd value="005"/>
</mdHrLv>
<mdDateSt Sync="TRUE">20241118</mdDateSt>
<dataIdInfo>
<idAbs>&lt;div style='text-align:Left;'&gt;&lt;div&gt;&lt;div&gt;&lt;p&gt;&lt;span&gt;Mosaic contains Sentinel 2 NDWI imagery acquired since 2/13/2023 by ESA/Copernicus surrounding the San Joaquin Valley. Data was downloaded from the Copernicus Open Access Hub and mosaiced by DWR. Imagery resolution is 10m.&lt;/span&gt;&lt;/p&gt;&lt;p&gt;&lt;span&gt;Spatial reference system is WGS 1984 UTM Zone 11N. The Sentinel-2 mission consists of two satellites developed to support vegetation, land cover, and environmental monitoring. The Sentinel-2A satellite was launched by ESA on June 23, 2015, and operates in a sun-synchronous orbit with a 10-day repeat cycle. A second identical satellite (Sentinel-2B) was launched March 7, 2017. Together they cover all Earth’s land surfaces, large islands, and inland and coastal waters every five days. The Sentinel-2 MultiSpectral Instrument (MSI) acquires 13 spectral bands ranging from Visible and Near-Infrared (VNIR) to Shortwave Infrared (SWIR) wavelengths along a 290-km orbital swath. The MSI sensor data are complementary to data acquired by the U.S. Geological Survey (USGS) Landsat 8 Operational Land Imager (OLI) and Landsat 7 Enhanced Thematic Mapper Plus (ETM+) (Comparison of Sentinel-2 and Landsat).&lt;/span&gt;&lt;/p&gt;&lt;p&gt;&lt;span&gt;This is an official DWR Image Service, which meets all appropriate requirements of the DWR Spatial Data Standards, specifically the DWR Spatial Data Standards version 3.5, dated April 12, 2023.&lt;/span&gt;&lt;/p&gt;&lt;p&gt;&lt;span&gt;DWR makes no warranties or guarantees — either expressed or implied — as to the completeness, accuracy, or correctness of the data. DWR neither accepts nor assumes liability arising from or for any incorrect, incomplete, or misleading subject data.&lt;/span&gt;&lt;/p&gt;&lt;p&gt;&lt;span&gt;This Image Service was published on 9/8/2023, by Carlos Lewis of the DWR Division of Engineering, who may be contacted at 916-902-9856, or at carlos.lewis@water.ca.gov. Comments, problems, improvements, updates, or suggestions should be forwarded to the official DWR point of contact as available and appropriate.&lt;/span&gt;&lt;/p&gt;&lt;/div&gt;&lt;/div&gt;&lt;/div&gt;</idAbs>
<searchKeys>
<keyword>tulare lake</keyword>
<keyword>emergency response</keyword>
<keyword>san joaquin valley</keyword>
<keyword>sentinel 2</keyword>
<keyword>ndwi</keyword>
</searchKeys>
<idPurp>Mosaic contains Sentinel 2 NDWI imagery acquired since 2/13/2023 by ESA/Copernicus surrounding the San Joaquin Valley. Data was downloaded from the Copernicus Open Access Hub and mosaiced by DWR. Imagery resolution is 10m.</idPurp>
<idCredit>ESA &amp; Copernicus</idCredit>
<resConst>
<Consts>
<useLimit>&lt;div style='text-align:Left;'&gt;&lt;div&gt;&lt;div&gt;&lt;p&gt;&lt;span&gt;None&lt;/span&gt;&lt;/p&gt;&lt;/div&gt;&lt;/div&gt;&lt;/div&gt;</useLimit>
</Consts>
</resConst>
<idCitation>
<resTitle>Sentinel2_NDWI</resTitle>
<presForm>
<PresFormCd Sync="TRUE" value="005"/>
</presForm>
</idCitation>
<envirDesc Sync="TRUE">Microsoft Windows 10 Version 10.0 (Build 19045) ; Esri ArcGIS 13.3.0.52636</envirDesc>
<dataLang>
<languageCode Sync="TRUE" value="eng"/>
<countryCode Sync="TRUE" value="USA"/>
</dataLang>
<spatRpType>
<SpatRepTypCd Sync="TRUE" value="002"/>
</spatRpType>
<dataExt>
<geoEle>
<GeoBndBox esriExtentType="search">
<exTypeCode Sync="TRUE">1</exTypeCode>
<westBL Sync="TRUE">-123.230561</westBL>
<eastBL Sync="TRUE">-117.597442</eastBL>
<northBL Sync="TRUE">39.945953</northBL>
<southBL Sync="TRUE">34.017410</southBL>
</GeoBndBox>
</geoEle>
</dataExt>
</dataIdInfo>
<spatRepInfo>
<Georect>
<cellGeo>
<CellGeoCd Sync="TRUE" value="002"/>
</cellGeo>
<numDims Sync="TRUE">2</numDims>
<tranParaAv Sync="TRUE">1</tranParaAv>
<chkPtAv Sync="TRUE">0</chkPtAv>
<cornerPts>
<pos Sync="TRUE">480303.811900 3775408.598000</pos>
</cornerPts>
<cornerPts>
<pos Sync="TRUE">480303.811900 4421758.598000</pos>
</cornerPts>
<cornerPts>
<pos Sync="TRUE">962493.811900 4421758.598000</pos>
</cornerPts>
<cornerPts>
<pos Sync="TRUE">962493.811900 3775408.598000</pos>
</cornerPts>
<centerPt>
<pos Sync="TRUE">721398.811900 4098583.598000</pos>
</centerPt>
<axisDimension type="002">
<dimSize Sync="TRUE">48219</dimSize>
<dimResol>
<value Sync="TRUE" uom="m">10.000000</value>
</dimResol>
</axisDimension>
<axisDimension type="001">
<dimSize Sync="TRUE">64635</dimSize>
<dimResol>
<value Sync="TRUE" uom="m">10.000000</value>
</dimResol>
</axisDimension>
<ptInPixel>
<PixOrientCd Sync="TRUE" value="001"/>
</ptInPixel>
</Georect>
</spatRepInfo>
<refSysInfo>
<RefSystem>
<refSysID>
<identCode Sync="TRUE" code="32610"/>
<idCodeSpace Sync="TRUE">EPSG</idCodeSpace>
<idVersion Sync="TRUE">9.8.8(3.0.1)</idVersion>
</refSysID>
</RefSystem>
</refSysInfo>
<contInfo>
<ImgDesc>
<contentTyp>
<ContentTypCd Sync="TRUE" value="001"/>
</contentTyp>
<covDim>
<Band>
<dimDescrp Sync="TRUE">Band_1</dimDescrp>
<maxVal Sync="TRUE">0.345786</maxVal>
<minVal Sync="TRUE">-0.703095</minVal>
<bitsPerVal Sync="TRUE">32</bitsPerVal>
<valUnit>
<UOM type="length"/>
</valUnit>
</Band>
</covDim>
</ImgDesc>
</contInfo>
</metadata>
