{
 "currentVersion": 11.3,
 "serviceDescription": "DEMs were sourced from three surveys performed in 2015 by Towill, Inc., under contract with California Department of Water Resources Division of Engineering, Geodetic Branch. Specific surveys were for Oroville Rim Study, Prairie Creek Fault, and the Cleveland Hills Fault. While initial bare earth editing had been performed on the delivered LIDAR DEMs, subsequent inspection revealed that additional, more-complete bare earth editing was required for higher-level end uses. Consequently, in April, 2018, DWR DOE/Geodetic undertook additional bare earth editing, along with subsequent mosaicking of the three DEMs into a single seamless version. The more-refined bare earth classification included using a more aggressive automated filter of vegetation points, followed by subsequent manual editing of areas potentially important to hydraulic modeling (bridges, for example). The resulting bare earth data are considered more consistent than earlier versions of the bare earth surface. DWR makes no warranties or guarantees \u2014 either expressed or implied \u2014 as to the completeness, accuracy, or correctness of the data. DWR neither accepts nor assumes liability arising from or for any incorrect, incomplete, or misleading subject data. \n\nService republished 3/17/2021 by DWR DOE Geomatics (J Dudas).\n",
 "name": "elevation/Oroville_DEM_2015",
 "description": "DEMs were sourced from three surveys performed in 2015 by Towill, Inc., under contract with California Department of Water Resources Division of Engineering, Geodetic Branch. Specific surveys were for Oroville Rim Study, Prairie Creek Fault, and the Cleveland Hills Fault. While initial bare earth editing had been performed on the delivered LIDAR DEMs, subsequent inspection revealed that additional, more-complete bare earth editing was required for higher-level end uses. Consequently, in April, 2018, DWR DOE/Geodetic undertook additional bare earth editing, along with subsequent mosaicking of the three DEMs into a single seamless version. The more-refined bare earth classification included using a more aggressive automated filter of vegetation points, followed by subsequent manual editing of areas potentially important to hydraulic modeling (bridges, for example). The resulting bare earth data are considered more consistent than earlier versions of the bare earth surface. DWR makes no warranties or guarantees \u2014 either expressed or implied \u2014 as to the completeness, accuracy, or correctness of the data. DWR neither accepts nor assumes liability arising from or for any incorrect, incomplete, or misleading subject data. \n\nService republished 3/17/2021 by DWR DOE Geomatics (J Dudas).\n",
 "extent": {
  "xmin": 6630000,
  "ymin": 2229000,
  "xmax": 6774000,
  "ymax": 2391000,
  "spatialReference": {
   "wkid": 102642,
   "latestWkid": 2226
  }
 },
 "initialExtent": {
  "xmin": 6630000,
  "ymin": 2229000,
  "xmax": 6774000,
  "ymax": 2391000,
  "spatialReference": {
   "wkid": 102642,
   "latestWkid": 2226
  }
 },
 "fullExtent": {
  "xmin": 6630000,
  "ymin": 2229000,
  "xmax": 6774000,
  "ymax": 2391000,
  "spatialReference": {
   "wkid": 102642,
   "latestWkid": 2226
  }
 },
 "sortableFields": "",
 "bandCount": 1,
 "pixelType": "F32",
 "minValues": [
  91.83999633789062
 ],
 "maxValues": [
  758.4099731445312
 ],
 "meanValues": [
  195.57338739823766
 ],
 "stdvValues": [
  91.72383530411861
 ],
 "hasMultidimensions": false,
 "pixelSizeX": 1,
 "pixelSizeY": 1,
 "meanPixelSize": 0.30480060960121924,
 "datasetFormat": "AMD",
 "uncompressedSize": 93312000000,
 "blockWidth": 2048,
 "blockHeight": 256,
 "compressionType": "None",
 "bandNames": [
  "Band_1"
 ],
 "allowCopy": true,
 "allowAnalysis": true,
 "itemAccess": false,
 "inspectionCapabilities": "",
 "minPixelSize": 0,
 "maxPixelSize": 0,
 "copyrightText": "DWR Division of Engineering, Geomatics Branch",
 "serviceDataType": "esriImageServiceDataTypeGeneric",
 "serviceSourceType": "esriImageServiceSourceTypeMosaicDataset",
 "objectIdField": "OBJECTID",
 "fields": [
  {
   "name": "OBJECTID",
   "type": "esriFieldTypeOID",
   "alias": "OBJECTID",
   "domain": null
  },
  {
   "name": "Shape",
   "type": "esriFieldTypeGeometry",
   "alias": "Shape",
   "domain": null
  },
  {
   "name": "Name",
   "type": "esriFieldTypeString",
   "alias": "Name",
   "domain": null,
   "length": 200
  },
  {
   "name": "MinPS",
   "type": "esriFieldTypeDouble",
   "alias": "MinPS",
   "domain": null
  },
  {
   "name": "MaxPS",
   "type": "esriFieldTypeDouble",
   "alias": "MaxPS",
   "domain": null
  },
  {
   "name": "LowPS",
   "type": "esriFieldTypeDouble",
   "alias": "LowPS",
   "domain": null
  },
  {
   "name": "HighPS",
   "type": "esriFieldTypeDouble",
   "alias": "HighPS",
   "domain": null
  },
  {
   "name": "Category",
   "type": "esriFieldTypeInteger",
   "alias": "Category",
   "domain": {
    "type": "codedValue",
    "name": "MosaicCatalogItemCategoryDomain",
    "description": "Catalog item categories.",
    "codedValues": [
     {
      "name": "Unknown",
      "code": 0
     },
     {
      "name": "Primary",
      "code": 1
     },
     {
      "name": "Overview",
      "code": 2
     },
     {
      "name": "Unprocessed Overview",
      "code": 3
     },
     {
      "name": "Partial Overview",
      "code": 4
     },
     {
      "name": "Inactive",
      "code": 5
     },
     {
      "name": "Uploaded",
      "code": 253
     },
     {
      "name": "Incomplete",
      "code": 254
     },
     {
      "name": "Custom",
      "code": 255
     }
    ],
    "mergePolicy": "esriMPTDefaultValue",
    "splitPolicy": "esriSPTDefaultValue"
   }
  },
  {
   "name": "Tag",
   "type": "esriFieldTypeString",
   "alias": "Tag",
   "domain": null,
   "length": 100
  },
  {
   "name": "GroupName",
   "type": "esriFieldTypeString",
   "alias": "GroupName",
   "domain": null,
   "length": 100
  },
  {
   "name": "ProductName",
   "type": "esriFieldTypeString",
   "alias": "ProductName",
   "domain": null,
   "length": 100
  },
  {
   "name": "CenterX",
   "type": "esriFieldTypeDouble",
   "alias": "CenterX",
   "domain": null
  },
  {
   "name": "CenterY",
   "type": "esriFieldTypeDouble",
   "alias": "CenterY",
   "domain": null
  },
  {
   "name": "ZOrder",
   "type": "esriFieldTypeInteger",
   "alias": "ZOrder",
   "domain": null
  },
  {
   "name": "Shape_Length",
   "type": "esriFieldTypeDouble",
   "alias": "Shape_Length",
   "domain": null
  },
  {
   "name": "Shape_Area",
   "type": "esriFieldTypeDouble",
   "alias": "Shape_Area",
   "domain": null
  }
 ],
 "capabilities": "Catalog,Image,Metadata",
 "defaultMosaicMethod": "Northwest",
 "allowedMosaicMethods": "NorthWest,Center,LockRaster,ByAttribute,Nadir,Viewpoint,Seamline,None",
 "sortField": "",
 "sortValue": null,
 "sortAscending": true,
 "mosaicOperator": "First",
 "maxDownloadSizeLimit": 2048,
 "defaultCompressionQuality": 75,
 "defaultResamplingMethod": "Bilinear",
 "maxImageHeight": 4100,
 "maxImageWidth": 15000,
 "maxRecordCount": 1000,
 "maxDownloadImageCount": 20,
 "maxMosaicImageCount": 20,
 "allowRasterFunction": true,
 "rasterFunctionInfos": [
  {
   "name": "None",
   "description": "",
   "help": ""
  }
 ],
 "rasterTypeInfos": [
  {
   "name": "Raster Dataset",
   "description": "Supports all ArcGIS Raster Datasets",
   "help": ""
  }
 ],
 "mensurationCapabilities": "None",
 "hasHistograms": true,
 "hasColormap": false,
 "hasRasterAttributeTable": false,
 "minScale": 0,
 "maxScale": 0,
 "exportTilesAllowed": false,
 "supportsStatistics": true,
 "supportsAdvancedQueries": true,
 "editFieldsInfo": null,
 "ownershipBasedAccessControlForRasters": null,
 "allowComputeTiePoints": false,
 "useStandardizedQueries": true,
 "advancedQueryCapabilities": {
  "useStandardizedQueries": true,
  "supportsStatistics": true,
  "supportsOrderBy": true,
  "supportsDistinct": true,
  "supportsPagination": true
 },
 "spatialReference": {
  "wkid": 102642,
  "latestWkid": 2226
 },
 "resampling": false
}
