{ "currentVersion": 11.3, "serviceDescription": "
Ground level surface of Patterson Reservoir was surveyed with a total of 2371, captured from a flying altitude of 126 feet. Camera model used was the FC6310 (8.8mm) with a resolution of 5472 x 3648 and a focal length of 8.8mm. NAD 1983 CA StatePlane Zone 3, NAVD88, units are in feet.Ground level surface of Patterson Reservoir was surveyed with a total of 2371, captured from a flying altitude of 126 feet. Camera model used was the FC6310 (8.8mm) with a resolution of 5472 x 3648 and a focal length of 8.8mm. NAD 1983 CA StatePlane Zone 3, NAVD88, units are in feet.<\/SPAN><\/P> <\/P><\/DIV><\/DIV><\/DIV>",
"name": "elevation/Patterson_2019_Topobathy",
"description": " Ground level surface of Patterson Reservoir was surveyed with a total of 2371, captured from a flying altitude of 126 feet. Camera model used was the FC6310 (8.8mm) with a resolution of 5472 x 3648 and a focal length of 8.8mm. NAD 1983 CA StatePlane Zone 3, NAVD88, units are in feet.Ground level surface of Patterson Reservoir was surveyed with a total of 2371, captured from a flying altitude of 126 feet. Camera model used was the FC6310 (8.8mm) with a resolution of 5472 x 3648 and a focal length of 8.8mm. NAD 1983 CA StatePlane Zone 3, NAVD88, units are in feet.<\/SPAN><\/P> <\/P><\/DIV><\/DIV><\/DIV>",
"extent": {
"xmin": 6218923.005353044,
"ymin": 2078281.884892342,
"xmax": 6219722.005353044,
"ymax": 2079051.884892342,
"spatialReference": {
"wkid": 103005,
"latestWkid": 6420
}
},
"initialExtent": {
"xmin": 6218923.005353044,
"ymin": 2078281.884892342,
"xmax": 6219722.005353044,
"ymax": 2079051.884892342,
"spatialReference": {
"wkid": 103005,
"latestWkid": 6420
}
},
"fullExtent": {
"xmin": 6218923.005353044,
"ymin": 2078281.884892342,
"xmax": 6219722.005353044,
"ymax": 2079051.884892342,
"spatialReference": {
"wkid": 103005,
"latestWkid": 6420
}
},
"sortableFields": "",
"bandCount": 1,
"pixelType": "F32",
"minValues": [
678.1290893554688
],
"maxValues": [
717.882080078125
],
"meanValues": [
697.829326618551
],
"stdvValues": [
10.731060452418381
],
"hasMultidimensions": false,
"pixelSizeX": 1,
"pixelSizeY": 1,
"meanPixelSize": 0.30480060960121924,
"datasetFormat": "FGDBR",
"uncompressedSize": 2460920,
"blockWidth": 128,
"blockHeight": 128,
"compressionType": "LZ77",
"bandNames": [
"Band_1"
],
"allowCopy": true,
"allowAnalysis": true,
"itemAccess": false,
"inspectionCapabilities": "",
"minPixelSize": 0,
"maxPixelSize": 0,
"copyrightText": "CA Department of Water Resources (DWR), Division of Engineering (DOE)",
"serviceDataType": "esriImageServiceDataTypeGeneric",
"serviceSourceType": "esriImageServiceSourceTypeDataset",
"objectIdField": "",
"fields": [],
"capabilities": "Image,Metadata,Mensuration",
"defaultMosaicMethod": "Center",
"allowedMosaicMethods": "",
"sortField": "",
"sortValue": null,
"sortAscending": true,
"mosaicOperator": "First",
"defaultCompressionQuality": 75,
"defaultResamplingMethod": "Bilinear",
"maxImageHeight": 4100,
"maxImageWidth": 15000,
"allowRasterFunction": true,
"rasterFunctionInfos": [
{
"name": "None",
"description": "",
"help": ""
}
],
"rasterTypeInfos": [
{
"name": "Raster Dataset",
"description": "Supports all ArcGIS Raster Datasets",
"help": ""
}
],
"mensurationCapabilities": "Basic",
"hasHistograms": true,
"hasColormap": false,
"hasRasterAttributeTable": false,
"minScale": 0,
"maxScale": 0,
"exportTilesAllowed": false,
"supportsStatistics": false,
"supportsAdvancedQueries": false,
"editFieldsInfo": null,
"ownershipBasedAccessControlForRasters": null,
"allowComputeTiePoints": false,
"useStandardizedQueries": true,
"advancedQueryCapabilities": {
"useStandardizedQueries": true,
"supportsStatistics": false,
"supportsOrderBy": false,
"supportsDistinct": false,
"supportsPagination": false
},
"spatialReference": {
"wkid": 103005,
"latestWkid": 6420
}
}