{
 "currentVersion": 11.3,
 "serviceDescription": "This is a mosaic of the hydro-flattened digital elevation model (DEM) surfaces of the San Francisco Bay and Sacramento San Joaquin Delta. This only includes the section of the acquisition that corresponds to California State Plane Zone 2. \n\nThis LiDAR was collected by NV5 & Guida through a DWR contract and partnership with\nDelta Stewardship Council (DSC), Delta Conservancy, and San Francisco Estuary Institute\n(SFEI). The overall work unit area covered approximately 1,988 square miles over California\nat Quality Level 1 LiDAR according to USGS 3DEP standards. LiDAR data was acquired from\nAugust 22, 2025 to October 6, 2025 in 24 total lifts. Rasters are provided at 1 foot grid size.\n\nThe Basis for this Survey is the North American Datum of 1983 (NAD83(2011)) constrained\nto the California Spatial Reference Center (CSRC) Continuous Global Position System\n(CGPS) stations using published CSRC NAD83(2011) 2025.00 epoch adjustment values\nand the Geoid 18 Model. Results are shown in California Coordinate System 1983\n(NAD83(2011) 2025.00 epoch) Zones 2 and 3, US Survey Feet and North American Vertical\nDatum of 1988 (NAVD88) in U.S. Survey Feet based upon NAD83(2011) 2025.00 epoch\nellipsoid heights with the Geoid 18 model applied.\n\nPlease see the DWR QC Report and Guida Survey Reports for more information. DWR\u2019s aerial mapping consultant, Guida has cleared this dataset to meet project requirements and project specifications under the direction of their California Licensed Land Surveyor.\n\nThe associated data are considered DWR enterprise GIS data, which meet all appropriate requirements of the DWR Spatial Data Standards, specifically the DWR Spatial Data Standard version 3.6, dated September 27, 2023.\nDWR makes no warranties or guarantees \u2014 either expressed or implied \u2014 as to the completeness, accuracy, or correctness of the data. DWR neither accepts nor assumes liability arising from or for any incorrect, incomplete, or misleading subject data. Contact: GIS@water.ca.gov",
 "name": "elevation/SFBay_Delta_Zone2_Hydroflattened_2025_LIDAR",
 "description": "This is a mosaic of the hydro-flattened digital elevation model (DEM) surfaces of the San Francisco Bay and Sacramento San Joaquin Delta. This only includes the section of the acquisition that corresponds to California State Plane Zone 2. \n\nThis LiDAR was collected by NV5 & Guida through a DWR contract and partnership with\nDelta Stewardship Council (DSC), Delta Conservancy, and San Francisco Estuary Institute\n(SFEI). The overall work unit area covered approximately 1,988 square miles over California\nat Quality Level 1 LiDAR according to USGS 3DEP standards. LiDAR data was acquired from\nAugust 22, 2025 to October 6, 2025 in 24 total lifts. Rasters are provided at 1 foot grid size.\n\nThe Basis for this Survey is the North American Datum of 1983 (NAD83(2011)) constrained\nto the California Spatial Reference Center (CSRC) Continuous Global Position System\n(CGPS) stations using published CSRC NAD83(2011) 2025.00 epoch adjustment values\nand the Geoid 18 Model. Results are shown in California Coordinate System 1983\n(NAD83(2011) 2025.00 epoch) Zones 2 and 3, US Survey Feet and North American Vertical\nDatum of 1988 (NAVD88) in U.S. Survey Feet based upon NAD83(2011) 2025.00 epoch\nellipsoid heights with the Geoid 18 model applied.\n\nPlease see the DWR QC Report and Guida Survey Reports for more information. DWR\u2019s aerial mapping consultant, Guida has cleared this dataset to meet project requirements and project specifications under the direction of their California Licensed Land Surveyor.\n\nThe associated data are considered DWR enterprise GIS data, which meet all appropriate requirements of the DWR Spatial Data Standards, specifically the DWR Spatial Data Standard version 3.6, dated September 27, 2023.\nDWR makes no warranties or guarantees \u2014 either expressed or implied \u2014 as to the completeness, accuracy, or correctness of the data. DWR neither accepts nor assumes liability arising from or for any incorrect, incomplete, or misleading subject data. Contact: GIS@water.ca.gov",
 "extent": {
  "xmin": 6370740,
  "ymin": 1763907,
  "xmax": 6742740,
  "ymax": 2049907,
  "spatialReference": {
   "wkid": 103004,
   "latestWkid": 6418
  }
 },
 "initialExtent": {
  "xmin": 6370740,
  "ymin": 1763907,
  "xmax": 6742740,
  "ymax": 2049907,
  "spatialReference": {
   "wkid": 103004,
   "latestWkid": 6418
  }
 },
 "fullExtent": {
  "xmin": 6370740,
  "ymin": 1763907,
  "xmax": 6742740,
  "ymax": 2049907,
  "spatialReference": {
   "wkid": 103004,
   "latestWkid": 6418
  }
 },
 "sortableFields": "MinPS,MaxPS,LowPS,HighPS,CenterX,CenterY,ZOrder,Shape_Length,Shape_Area",
 "bandCount": 1,
 "pixelType": "F32",
 "minValues": [
  -24.866664607077837
 ],
 "maxValues": [
  1158.2097832746804
 ],
 "meanValues": [
  14.974377686568785
 ],
 "stdvValues": [
  12.0737013584858
 ],
 "hasMultidimensions": false,
 "pixelSizeX": 1,
 "pixelSizeY": 1,
 "meanPixelSize": 0.30480060960121924,
 "datasetFormat": "AMD",
 "uncompressedSize": 425568000000,
 "blockWidth": 2048,
 "blockHeight": 256,
 "compressionType": "None",
 "bandNames": [
  "Band_1"
 ],
 "allowCopy": true,
 "allowAnalysis": true,
 "itemAccess": false,
 "inspectionCapabilities": "",
 "minPixelSize": 0,
 "maxPixelSize": 0,
 "copyrightText": "DWR, SFEI, DSC, Guida & NV5",
 "serviceDataType": "esriImageServiceDataTypeGeneric",
 "serviceSourceType": "esriImageServiceSourceTypeMosaicDataset",
 "objectIdField": "OBJECTID",
 "fields": [
  {
   "name": "OBJECTID",
   "type": "esriFieldTypeOID",
   "alias": "OBJECTID",
   "domain": null
  },
  {
   "name": "Shape",
   "type": "esriFieldTypeGeometry",
   "alias": "Shape",
   "domain": null
  },
  {
   "name": "Name",
   "type": "esriFieldTypeString",
   "alias": "Name",
   "domain": null,
   "length": 200
  },
  {
   "name": "MinPS",
   "type": "esriFieldTypeDouble",
   "alias": "MinPS",
   "domain": null
  },
  {
   "name": "MaxPS",
   "type": "esriFieldTypeDouble",
   "alias": "MaxPS",
   "domain": null
  },
  {
   "name": "LowPS",
   "type": "esriFieldTypeDouble",
   "alias": "LowPS",
   "domain": null
  },
  {
   "name": "HighPS",
   "type": "esriFieldTypeDouble",
   "alias": "HighPS",
   "domain": null
  },
  {
   "name": "Category",
   "type": "esriFieldTypeInteger",
   "alias": "Category",
   "domain": {
    "type": "codedValue",
    "name": "MosaicCatalogItemCategoryDomain",
    "description": "Catalog item categories.",
    "codedValues": [
     {
      "name": "Unknown",
      "code": 0
     },
     {
      "name": "Primary",
      "code": 1
     },
     {
      "name": "Overview",
      "code": 2
     },
     {
      "name": "Unprocessed Overview",
      "code": 3
     },
     {
      "name": "Partial Overview",
      "code": 4
     },
     {
      "name": "Inactive",
      "code": 5
     },
     {
      "name": "Uploaded",
      "code": 253
     },
     {
      "name": "Incomplete",
      "code": 254
     },
     {
      "name": "Custom",
      "code": 255
     }
    ],
    "mergePolicy": "esriMPTDefaultValue",
    "splitPolicy": "esriSPTDefaultValue"
   }
  },
  {
   "name": "Tag",
   "type": "esriFieldTypeString",
   "alias": "Tag",
   "domain": null,
   "length": 100
  },
  {
   "name": "GroupName",
   "type": "esriFieldTypeString",
   "alias": "GroupName",
   "domain": null,
   "length": 100
  },
  {
   "name": "ProductName",
   "type": "esriFieldTypeString",
   "alias": "ProductName",
   "domain": null,
   "length": 100
  },
  {
   "name": "CenterX",
   "type": "esriFieldTypeDouble",
   "alias": "CenterX",
   "domain": null
  },
  {
   "name": "CenterY",
   "type": "esriFieldTypeDouble",
   "alias": "CenterY",
   "domain": null
  },
  {
   "name": "ZOrder",
   "type": "esriFieldTypeInteger",
   "alias": "ZOrder",
   "domain": null
  },
  {
   "name": "Shape_Length",
   "type": "esriFieldTypeDouble",
   "alias": "Shape_Length",
   "domain": null
  },
  {
   "name": "Shape_Area",
   "type": "esriFieldTypeDouble",
   "alias": "Shape_Area",
   "domain": null
  }
 ],
 "capabilities": "Catalog,Image,Metadata",
 "defaultMosaicMethod": "Northwest",
 "allowedMosaicMethods": "NorthWest,Center,LockRaster,ByAttribute,Nadir,Viewpoint,Seamline,None",
 "sortField": "",
 "sortValue": null,
 "sortAscending": true,
 "mosaicOperator": "First",
 "maxDownloadSizeLimit": 2048,
 "defaultCompressionQuality": 75,
 "defaultResamplingMethod": "Bilinear",
 "maxImageHeight": 4100,
 "maxImageWidth": 15000,
 "maxRecordCount": 1000,
 "maxDownloadImageCount": 20,
 "maxMosaicImageCount": 20,
 "allowRasterFunction": true,
 "rasterFunctionInfos": [
  {
   "name": "None",
   "description": "",
   "help": ""
  }
 ],
 "rasterTypeInfos": [
  {
   "name": "Raster Dataset",
   "description": "Supports all ArcGIS Raster Datasets",
   "help": ""
  }
 ],
 "mensurationCapabilities": "None",
 "hasHistograms": true,
 "hasColormap": false,
 "hasRasterAttributeTable": false,
 "minScale": 0,
 "maxScale": 0,
 "exportTilesAllowed": false,
 "supportsStatistics": true,
 "supportsAdvancedQueries": true,
 "editFieldsInfo": null,
 "ownershipBasedAccessControlForRasters": null,
 "allowComputeTiePoints": false,
 "useStandardizedQueries": true,
 "advancedQueryCapabilities": {
  "useStandardizedQueries": true,
  "supportsStatistics": true,
  "supportsOrderBy": true,
  "supportsDistinct": true,
  "supportsPagination": true
 },
 "spatialReference": {
  "wkid": 103004,
  "latestWkid": 6418
 },
 "resampling": false
}
