{ "currentVersion": 11.3, "serviceDescription": "
In January of 2007, California Department of Water Resources tasked a team consisting of the URS Corporation and Fugro EarthData to obtain and process high resolution topographic data using lidar. The project area encompassed the Sacramento-San Joaquin Delta, Suisan Marsh, and the Los Vaqueros reservoir in California. Total project area in square miles was 1646 with a 100-ft buffer along the project boundary. The aerial lidar survey for this purpose was collected at a nominal 1-meter post spacing. Airborne 1 flew the lidar and processed the boresight calibration, Towill Inc. surveyed the ground control, and Fugro EarthData Inc. did all the lidar processing. The major acquistion window occurred in Jan/Feb of 2007 with reflights completing during Feb/March of 2008. The processed lidar was delivered in ascii, las, and ESRI geodatabase formats along with 1ft contours and a 1m DEM bare earth grid.<\/span><\/p> All data are registered to UTM Zone 10, NAD83 horizontal datum and NAVD88 vertical datum. The elevations are in feet and the cell size is 1m by 1m.<\/span><\/p> The accuracy specifications are as follows: Vertical accuracy: 95% at 0.6 ft and 90% at 0.5 ft. Horizontal accuracy: 1.0 ft, 1 sigma.<\/span><\/p><\/div><\/div><\/div>",
"name": "elevation/SacDelta_LiDAR_DEM_2007",
"description": " In January of 2007, California Department of Water Resources tasked a team consisting of the URS Corporation and Fugro EarthData to obtain and process high resolution topographic data using lidar. The project area encompassed the Sacramento-San Joaquin Delta, Suisan Marsh, and the Los Vaqueros reservoir in California. Total project area in square miles was 1646 with a 100-ft buffer along the project boundary. The aerial lidar survey for this purpose was collected at a nominal 1-meter post spacing. Airborne 1 flew the lidar and processed the boresight calibration, Towill Inc. surveyed the ground control, and Fugro EarthData Inc. did all the lidar processing. The major acquistion window occurred in Jan/Feb of 2007 with reflights completing during Feb/March of 2008. The processed lidar was delivered in ascii, las, and ESRI geodatabase formats along with 1ft contours and a 1m DEM bare earth grid.<\/span><\/p> All data are registered to UTM Zone 10, NAD83 horizontal datum and NAVD88 vertical datum. The elevations are in feet and the cell size is 1m by 1m.<\/span><\/p> The accuracy specifications are as follows: Vertical accuracy: 95% at 0.6 ft and 90% at 0.5 ft. Horizontal accuracy: 1.0 ft, 1 sigma.<\/span><\/p><\/div><\/div><\/div>",
"extent": {
"xmin": 515041.9166666667,
"ymin": 4157450.5,
"xmax": 720330.9166666667,
"ymax": 4278065.5,
"spatialReference": {
"wkid": 26910,
"latestWkid": 26910
}
},
"initialExtent": {
"xmin": 515041.9166666667,
"ymin": 4157450.5,
"xmax": 720330.9166666667,
"ymax": 4278065.5,
"spatialReference": {
"wkid": 26910,
"latestWkid": 26910
}
},
"fullExtent": {
"xmin": 515041.9166666667,
"ymin": 4157450.5,
"xmax": 720330.9166666667,
"ymax": 4278065.5,
"spatialReference": {
"wkid": 26910,
"latestWkid": 26910
}
},
"sortableFields": "",
"bandCount": 1,
"pixelType": "F32",
"minValues": [
-30.114830017089844
],
"maxValues": [
1131.430419921875
],
"meanValues": [
16.115934558713864
],
"stdvValues": [
43.795005446769466
],
"hasMultidimensions": false,
"pixelSizeX": 1.0000000000000002,
"pixelSizeY": 1,
"meanPixelSize": 1,
"datasetFormat": "GRID",
"uncompressedSize": 99043730940,
"blockWidth": 256,
"blockHeight": 4,
"compressionType": "RLE",
"bandNames": [
"deltalidar_ft"
],
"allowCopy": true,
"allowAnalysis": true,
"itemAccess": false,
"inspectionCapabilities": "",
"noDataValue": -3.4028234663852886E38,
"noDataValues": [
-3.4028234663852886E38
],
"minPixelSize": 0,
"maxPixelSize": 0,
"copyrightText": "California Department of Water Resources, URS Corporation, Fugro EarthData",
"serviceDataType": "esriImageServiceDataTypeGeneric",
"serviceSourceType": "esriImageServiceSourceTypeDataset",
"objectIdField": "",
"fields": [],
"capabilities": "Mensuration,Image,Metadata",
"defaultMosaicMethod": "Center",
"allowedMosaicMethods": "",
"sortField": "",
"sortValue": null,
"sortAscending": true,
"mosaicOperator": "First",
"defaultCompressionQuality": 75,
"defaultResamplingMethod": "Bilinear",
"maxImageHeight": 4100,
"maxImageWidth": 15000,
"allowRasterFunction": true,
"rasterFunctionInfos": [
{
"name": "None",
"description": "",
"help": ""
}
],
"rasterTypeInfos": [
{
"name": "Raster Dataset",
"description": "Supports all ArcGIS Raster Datasets",
"help": ""
}
],
"mensurationCapabilities": "Basic",
"hasHistograms": true,
"hasColormap": false,
"hasRasterAttributeTable": false,
"minScale": 0,
"maxScale": 0,
"exportTilesAllowed": false,
"supportsStatistics": false,
"supportsAdvancedQueries": false,
"editFieldsInfo": null,
"ownershipBasedAccessControlForRasters": null,
"allowComputeTiePoints": false,
"useStandardizedQueries": true,
"advancedQueryCapabilities": {
"useStandardizedQueries": true,
"supportsStatistics": false,
"supportsOrderBy": false,
"supportsDistinct": false,
"supportsPagination": false
},
"spatialReference": {
"wkid": 26910,
"latestWkid": 26910
}
}