{
 "currentVersion": 11.3,
 "serviceDescription": "Product: This data set is comprised of a mosaic of 0.5-meter bare-earth digital elevation models (DEMs) in ERDAS IMG formatt.\n\nGeographic Extent: Approximately 1,312 square miles across several counties in central California.\n\nImportant: This is a replacement of the original image service posted to DWR's public-facing image server from the version posted in 9/2019. The original version was posted incorrectly, namely that it was posted by creating a service from a raster mosaic dataset with the datum defined as plain NAD83, but the source tiles were from files with a stamped datum of NAD83/NSRS 2007. The result was a slight horizontal shift that produces issues with project-on-the-fly capable software. \n\nThis service was created using a raster mosaic dataset sourced from tiles that are all stamped as plain NAD83. The tiles were actually restamped from the original USGS deliverable - defined as NAD83/NSRS2007, under guidance from DWR land surveyors about issues when doing so, and whose guidance is to always use the basic NAD83 datum as the stamp. Questions about this may be directed to the supervising land surveyor of DWR's Division of Engineering, Geodetic Branch.\n\nAs such, this service was republished as above on March 10, 2020, by DWR Division of Engineering. Rest of original service metadata follows (including original NAD83/NSRS2007 references).\n\nDataset description: The CA Sacramento Delta LiDAR 2017 D16 LiDAR project called for the planning, acquisition, processing, and production of derivative products of LiDAR data to be collected at a nominal pulse spacing (NPS) of 0.35 meters. Project specifications were based on the U.S. Geological Survey National Geospatial Program LiDAR Base Specification, Version 1.2. The data was developed based on a horizontal datum/projection of NAD83 (NSRS2007) UTM Zone 10 (EPSG 3717) meters, and a vertical datum of NAVD88 (GEOID12B), US survey feet. LiDAR data was delivered as processed classified LAS 1.4 files formatted to 1,706 individual 1,500-meter x 1,500-meter tiles. Other LiDAR products include tiled intensity imagery, tiled bare-earth DEMs, and tiled first return DSMs, all tiled to the same tiling schema.\n\nThis version of the data is referenced to the 2017 epoch, which is different from the USGS version that is referenced to the 2011 epoch.\n\nGround Conditions: LiDAR was collected from December 9, 2017 through January 21, 2018 by Woolpert, while no snow was on the ground and rivers were at or below normal levels. Saturated or partially flooded farm fields were identified following data acquisition. Through technical guidance discussions with USGS and the California Department of Water, it was determined such areas shall not be considered hydrologic features. Intermittently, partially flooded, irregular, and apparently non-agricultural fields were treated as hydrologic features. In all cases, best professional judgement was used in determination of treatment. In order to post process the LiDAR data to meet task order specifications and meet ASPRS vertical accuracy guidelines, Woolpert established 35 ground control points that were used to calibrate the lidar to known ground locations established throughout the project area. An additional 143 independent accuracy checkpoints (75 NVA points and 68 VVA points), were collected and used to assess the vertical accuracy of the data. These checkpoints were not used to calibrate or post process the data.\n\nThis data set was collected and produced by Woolpert for purposes of and under contract to USGS. Data are considered public domain.\n\nDWR makes no warranties or guarantees \u2014 either expressed or implied \u2014 as to the completeness, accuracy, or correctness of the data. DWR neither accepts nor assumes liability arising from or for any incorrect, incomplete, or misleading subject data. \n\nThis is an official DWR Image Service, published on March 10, 2020 by Joel Dudas of the Division of Engineering, Geodetic Branch, Geospatial Data Support Section, who may be contacted at joel.dudas@water.ca.gov, or 916-651-7002.\n",
 "name": "elevation/SacDelta_Lidar_201712",
 "description": "Product: This data set is comprised of a mosaic of 0.5-meter bare-earth digital elevation models (DEMs) in ERDAS IMG formatt.\n\nGeographic Extent: Approximately 1,312 square miles across several counties in central California.\n\nImportant: This is a replacement of the original image service posted to DWR's public-facing image server from the version posted in 9/2019. The original version was posted incorrectly, namely that it was posted by creating a service from a raster mosaic dataset with the datum defined as plain NAD83, but the source tiles were from files with a stamped datum of NAD83/NSRS 2007. The result was a slight horizontal shift that produces issues with project-on-the-fly capable software. \n\nThis service was created using a raster mosaic dataset sourced from tiles that are all stamped as plain NAD83. The tiles were actually restamped from the original USGS deliverable - defined as NAD83/NSRS2007, under guidance from DWR land surveyors about issues when doing so, and whose guidance is to always use the basic NAD83 datum as the stamp. Questions about this may be directed to the supervising land surveyor of DWR's Division of Engineering, Geodetic Branch.\n\nAs such, this service was republished as above on March 10, 2020, by DWR Division of Engineering. Rest of original service metadata follows (including original NAD83/NSRS2007 references).\n\nDataset description: The CA Sacramento Delta LiDAR 2017 D16 LiDAR project called for the planning, acquisition, processing, and production of derivative products of LiDAR data to be collected at a nominal pulse spacing (NPS) of 0.35 meters. Project specifications were based on the U.S. Geological Survey National Geospatial Program LiDAR Base Specification, Version 1.2. The data was developed based on a horizontal datum/projection of NAD83 (NSRS2007) UTM Zone 10 (EPSG 3717) meters, and a vertical datum of NAVD88 (GEOID12B), US survey feet. LiDAR data was delivered as processed classified LAS 1.4 files formatted to 1,706 individual 1,500-meter x 1,500-meter tiles. Other LiDAR products include tiled intensity imagery, tiled bare-earth DEMs, and tiled first return DSMs, all tiled to the same tiling schema.\n\nThis version of the data is referenced to the 2017 epoch, which is different from the USGS version that is referenced to the 2011 epoch.\n\nGround Conditions: LiDAR was collected from December 9, 2017 through January 21, 2018 by Woolpert, while no snow was on the ground and rivers were at or below normal levels. Saturated or partially flooded farm fields were identified following data acquisition. Through technical guidance discussions with USGS and the California Department of Water, it was determined such areas shall not be considered hydrologic features. Intermittently, partially flooded, irregular, and apparently non-agricultural fields were treated as hydrologic features. In all cases, best professional judgement was used in determination of treatment. In order to post process the LiDAR data to meet task order specifications and meet ASPRS vertical accuracy guidelines, Woolpert established 35 ground control points that were used to calibrate the lidar to known ground locations established throughout the project area. An additional 143 independent accuracy checkpoints (75 NVA points and 68 VVA points), were collected and used to assess the vertical accuracy of the data. These checkpoints were not used to calibrate or post process the data.\n\nThis data set was collected and produced by Woolpert for purposes of and under contract to USGS. Data are considered public domain.\n\nDWR makes no warranties or guarantees \u2014 either expressed or implied \u2014 as to the completeness, accuracy, or correctness of the data. DWR neither accepts nor assumes liability arising from or for any incorrect, incomplete, or misleading subject data. \n\nThis is an official DWR Image Service, published on March 10, 2020 by Joel Dudas of the Division of Engineering, Geodetic Branch, Geospatial Data Support Section, who may be contacted at joel.dudas@water.ca.gov, or 916-651-7002.\n",
 "extent": {
  "xmin": 574992,
  "ymin": 4165441,
  "xmax": 659056.5,
  "ymax": 4272304,
  "spatialReference": {
   "wkid": 26910,
   "latestWkid": 26910
  }
 },
 "initialExtent": {
  "xmin": 574992,
  "ymin": 4165441,
  "xmax": 659056.5,
  "ymax": 4272304,
  "spatialReference": {
   "wkid": 26910,
   "latestWkid": 26910
  }
 },
 "fullExtent": {
  "xmin": 574992,
  "ymin": 4165441,
  "xmax": 659056.5,
  "ymax": 4272304,
  "spatialReference": {
   "wkid": 26910,
   "latestWkid": 26910
  }
 },
 "sortableFields": "",
 "bandCount": 1,
 "pixelType": "F32",
 "minValues": [
  -25.350000381469727
 ],
 "maxValues": [
  1160.6199951171875
 ],
 "meanValues": [
  14.392949925027612
 ],
 "stdvValues": [
  45.058362439755214
 ],
 "hasMultidimensions": false,
 "pixelSizeX": 0.5,
 "pixelSizeY": 0.5,
 "meanPixelSize": 0.5,
 "datasetFormat": "AMD",
 "uncompressedSize": 143734154616,
 "blockWidth": 2048,
 "blockHeight": 256,
 "compressionType": "None",
 "bandNames": [
  "Band_1"
 ],
 "allowCopy": true,
 "allowAnalysis": true,
 "itemAccess": false,
 "inspectionCapabilities": "",
 "minPixelSize": 0,
 "maxPixelSize": 0,
 "copyrightText": "California DWR, USGS, Woolpert",
 "serviceDataType": "esriImageServiceDataTypeGeneric",
 "serviceSourceType": "esriImageServiceSourceTypeMosaicDataset",
 "objectIdField": "OBJECTID",
 "fields": [
  {
   "name": "OBJECTID",
   "type": "esriFieldTypeOID",
   "alias": "OBJECTID",
   "domain": null
  },
  {
   "name": "Shape",
   "type": "esriFieldTypeGeometry",
   "alias": "Shape",
   "domain": null
  },
  {
   "name": "Name",
   "type": "esriFieldTypeString",
   "alias": "Name",
   "domain": null,
   "length": 200
  },
  {
   "name": "MinPS",
   "type": "esriFieldTypeDouble",
   "alias": "MinPS",
   "domain": null
  },
  {
   "name": "MaxPS",
   "type": "esriFieldTypeDouble",
   "alias": "MaxPS",
   "domain": null
  },
  {
   "name": "LowPS",
   "type": "esriFieldTypeDouble",
   "alias": "LowPS",
   "domain": null
  },
  {
   "name": "HighPS",
   "type": "esriFieldTypeDouble",
   "alias": "HighPS",
   "domain": null
  },
  {
   "name": "Category",
   "type": "esriFieldTypeInteger",
   "alias": "Category",
   "domain": {
    "type": "codedValue",
    "name": "MosaicCatalogItemCategoryDomain",
    "description": "Catalog item categories.",
    "codedValues": [
     {
      "name": "Unknown",
      "code": 0
     },
     {
      "name": "Primary",
      "code": 1
     },
     {
      "name": "Overview",
      "code": 2
     },
     {
      "name": "Unprocessed Overview",
      "code": 3
     },
     {
      "name": "Partial Overview",
      "code": 4
     },
     {
      "name": "Inactive",
      "code": 5
     },
     {
      "name": "Uploaded",
      "code": 253
     },
     {
      "name": "Incomplete",
      "code": 254
     },
     {
      "name": "Custom",
      "code": 255
     }
    ],
    "mergePolicy": "esriMPTDefaultValue",
    "splitPolicy": "esriSPTDefaultValue"
   }
  },
  {
   "name": "Tag",
   "type": "esriFieldTypeString",
   "alias": "Tag",
   "domain": null,
   "length": 100
  },
  {
   "name": "GroupName",
   "type": "esriFieldTypeString",
   "alias": "GroupName",
   "domain": null,
   "length": 100
  },
  {
   "name": "ProductName",
   "type": "esriFieldTypeString",
   "alias": "ProductName",
   "domain": null,
   "length": 100
  },
  {
   "name": "CenterX",
   "type": "esriFieldTypeDouble",
   "alias": "CenterX",
   "domain": null
  },
  {
   "name": "CenterY",
   "type": "esriFieldTypeDouble",
   "alias": "CenterY",
   "domain": null
  },
  {
   "name": "ZOrder",
   "type": "esriFieldTypeInteger",
   "alias": "ZOrder",
   "domain": null
  },
  {
   "name": "Shape_Length",
   "type": "esriFieldTypeDouble",
   "alias": "Shape_Length",
   "domain": null
  },
  {
   "name": "Shape_Area",
   "type": "esriFieldTypeDouble",
   "alias": "Shape_Area",
   "domain": null
  }
 ],
 "capabilities": "Catalog,Image,Metadata",
 "defaultMosaicMethod": "Northwest",
 "allowedMosaicMethods": "NorthWest,Center,LockRaster,ByAttribute,Nadir,Viewpoint,Seamline,None",
 "sortField": "",
 "sortValue": null,
 "sortAscending": true,
 "mosaicOperator": "First",
 "maxDownloadSizeLimit": 2048,
 "defaultCompressionQuality": 75,
 "defaultResamplingMethod": "Bilinear",
 "maxImageHeight": 4100,
 "maxImageWidth": 15000,
 "maxRecordCount": 1000,
 "maxDownloadImageCount": 20,
 "maxMosaicImageCount": 20,
 "allowRasterFunction": true,
 "rasterFunctionInfos": [
  {
   "name": "None",
   "description": "A No-Op Function.",
   "help": ""
  }
 ],
 "rasterTypeInfos": [
  {
   "name": "Raster Dataset",
   "description": "Supports all ArcGIS Raster Datasets",
   "help": ""
  }
 ],
 "mensurationCapabilities": "None",
 "hasHistograms": true,
 "hasColormap": false,
 "hasRasterAttributeTable": false,
 "minScale": 0,
 "maxScale": 0,
 "exportTilesAllowed": false,
 "supportsStatistics": true,
 "supportsAdvancedQueries": true,
 "editFieldsInfo": null,
 "ownershipBasedAccessControlForRasters": null,
 "allowComputeTiePoints": false,
 "useStandardizedQueries": true,
 "advancedQueryCapabilities": {
  "useStandardizedQueries": true,
  "supportsStatistics": true,
  "supportsOrderBy": true,
  "supportsDistinct": true,
  "supportsPagination": true
 },
 "spatialReference": {
  "wkid": 26910,
  "latestWkid": 26910
 }
}
