<?xml version="1.0" encoding="UTF-8" standalone="no"?>
<metadata xml:lang="en">
<Esri>
<CreaDate>20250401</CreaDate>
<CreaTime>07590900</CreaTime>
<ArcGISFormat>1.0</ArcGISFormat>
<SyncOnce>FALSE</SyncOnce>
<DataProperties>
<lineage>
<Process Date="20230105" Name="" Time="131652" ToolSource="c:\program files\arcgis\pro\Resources\ArcToolbox\toolboxes\Data Management Tools.tbx\CreateMosaicDataset" export="">CreateMosaicDataset \\cnrastore-gis\DWR_RIL_4\elevation\_DWR_4600011239_TO47_SJV_LiDAR\Zone3.gdb SanJoaquinValley_2021_Zone3_LIDAR PROJCS["NAD_1983_2011_StatePlane_California_III_FIPS_0403_Ft_US",GEOGCS["GCS_NAD_1983_2011",DATUM["D_NAD_1983_2011",SPHEROID["GRS_1980",6378137.0,298.257222101]],PRIMEM["Greenwich",0.0],UNIT["Degree",0.0174532925199433]],PROJECTION["Lambert_Conformal_Conic"],PARAMETER["False_Easting",6561666.666666666],PARAMETER["False_Northing",1640416.666666667],PARAMETER["Central_Meridian",-120.5],PARAMETER["Standard_Parallel_1",37.06666666666667],PARAMETER["Standard_Parallel_2",38.43333333333333],PARAMETER["Latitude_Of_Origin",36.5],UNIT["Foot_US",0.3048006096012192]] # # None #</Process>
<Process Date="20230105" Name="" Time="132941" ToolSource="c:\program files\arcgis\pro\Resources\ArcToolbox\toolboxes\Data Management Tools.tbx\AddRastersToMosaicDataset" export="">AddRastersToMosaicDataset \\cnrastore-gis\DWR_RIL_4\elevation\_DWR_4600011239_TO47_SJV_LiDAR\Zone3.gdb\SanJoaquinValley_2021_Zone3_LIDAR "Raster Dataset" '\\cnrastore-gis\DWR_RIL_4\elevation\_DWR_4600011239_TO47_SJV_LiDAR\Zone 3\be_rasters' UPDATE_CELL_SIZES UPDATE_BOUNDARY NO_OVERVIEWS # 0 1500 # # SUBFOLDERS "Allow duplicates" NO_PYRAMIDS NO_STATISTICS NO_THUMBNAILS # NO_FORCE_SPATIAL_REFERENCE NO_STATISTICS # NO_PIXEL_CACHE C:\Users\clewis\AppData\Local\ESRI\rasterproxies\SanJoaquinValley_2021_Zone3_LIDAR</Process>
<Process Date="20230105" Name="" Time="134815" ToolSource="c:\program files\arcgis\pro\Resources\ArcToolbox\toolboxes\Data Management Tools.tbx\CalculateStatistics" export="">CalculateStatistics \\cnrastore-gis\DWR_RIL_4\elevation\_DWR_4600011239_TO47_SJV_LiDAR\Zone3.gdb\SanJoaquinValley_2021_Zone3_LIDAR 111 111 # OVERWRITE "Feature Set"</Process>
<Process Date="20230106" Name="" Time="150236" ToolSource="c:\program files\arcgis\pro\Resources\ArcToolbox\Toolboxes\Data Management Tools.tbx\Rename" export="">Rename \\cnrastore-gis\DWR_RIL_4\elevation\_DWR_4600011239_TO47_SJV_LiDAR\Zone3.gdb\SanJoaquinValley_2021_Zone3_LIDAR \\cnrastore-gis\DWR_RIL_4\elevation\_DWR_4600011239_TO47_SJV_LiDAR\Zone3.gdb\SanJoaquinValley_Zone3_2021_LIDAR MosaicDataset</Process>
<Process Date="20230329" Time="094123" ToolSource="c:\program files\arcgis\pro\Resources\ArcToolbox\toolboxes\Data Management Tools.tbx\CalculateStatistics">CalculateStatistics \\cnrastore-gis\DWR_RIL_4\elevation\_DWR_4600011239_TO47_SJV_LiDAR\Zone3.gdb\SanJoaquinValley_Zone3_2021_LIDAR 111 111 # OVERWRITE "Feature Set"</Process>
<Process Date="20250401" Time="080041" ToolSource="c:\program files\arcgis\pro\Resources\ArcToolbox\Toolboxes\Data Management Tools.tbx\CopyMultiple">CopyMultiple "\\cnrastore-gis\DWR_RIL_4\elevation\_DWR_4600011239_TO47_SJV_LiDAR\Zone3.gdb\SanJoaquinValley_Zone3_2021_LIDAR MosaicDataset" \\cnrastore-gis\DWR_RIL_4\elevation\_DWR_4600011239_TO47_SJV_LiDAR\Zone3.gdb SanJoaquinValley_Zone3_2021_LIDAR_1 "SanJoaquinValley_Zone3_2021_LIDAR MosaicDataset SanJoaquinValley_Zone3_2021_LIDAR_1 #"</Process>
<Process Date="20250401" Time="091112" ToolSource="c:\program files\arcgis\pro\Resources\ArcToolbox\toolboxes\Data Management Tools.tbx\CalculateStatistics">CalculateStatistics \\cnrastore-gis\DWR_RIL_4\elevation\_DWR_4600011239_TO47_SJV_LiDAR\Zone3.gdb\SanJoaquinValley_Zone3_2021_LIDAR_1 10 10 # OVERWRITE "Feature Set"</Process>
<Process Date="20250401" Time="132245" ToolSource="c:\program files\arcgis\pro\Resources\ArcToolbox\toolboxes\Data Management Tools.tbx\Rename">Rename \\cnrastore-gis\DWR_RIL_4\elevation\_DWR_4600011239_TO47_SJV_LiDAR\Zone3.gdb\SanJoaquinValley_Zone3_2021_LIDAR_1 \\cnrastore-gis\DWR_RIL_4\elevation\_DWR_4600011239_TO47_SJV_LiDAR\Zone3.gdb\SanJoaquinValley_Zone3_2021_LIDAR_V2 MosaicDataset</Process>
</lineage>
<itemProps>
<itemName Sync="TRUE">SanJoaquinValley_Zone3_2021_LIDAR</itemName>
<itemLocation>
<linkage Sync="TRUE">file://\\cnrastore-gis\DWR_RIL_4\elevation\_DWR_4600011239_TO47_SJV_LiDAR\Zone3.gdb</linkage>
<protocol Sync="TRUE">Local Area Network</protocol>
</itemLocation>
<nativeExtBox>
<westBL Sync="TRUE">6222499.999650</westBL>
<eastBL Sync="TRUE">6794999.999650</eastBL>
<southBL Sync="TRUE">1737499.999621</southBL>
<northBL Sync="TRUE">2219999.999621</northBL>
<exTypeCode Sync="TRUE">1</exTypeCode>
</nativeExtBox>
</itemProps>
<coordRef>
<type Sync="TRUE">Projected</type>
<geogcsn Sync="TRUE">GCS_NAD_1983_2011</geogcsn>
<csUnits Sync="TRUE">Linear Unit: Foot_US (0.304801)</csUnits>
<projcsn Sync="TRUE">NAD_1983_2011_StatePlane_California_III_FIPS_0403_Ft_US</projcsn>
<peXml Sync="TRUE">&lt;ProjectedCoordinateSystem xsi:type='typens:ProjectedCoordinateSystem' xmlns:xsi='http://www.w3.org/2001/XMLSchema-instance' xmlns:xs='http://www.w3.org/2001/XMLSchema' xmlns:typens='http://www.esri.com/schemas/ArcGIS/3.0.0'&gt;&lt;WKT&gt;PROJCS[&amp;quot;NAD_1983_2011_StatePlane_California_III_FIPS_0403_Ft_US&amp;quot;,GEOGCS[&amp;quot;GCS_NAD_1983_2011&amp;quot;,DATUM[&amp;quot;D_NAD_1983_2011&amp;quot;,SPHEROID[&amp;quot;GRS_1980&amp;quot;,6378137.0,298.257222101]],PRIMEM[&amp;quot;Greenwich&amp;quot;,0.0],UNIT[&amp;quot;Degree&amp;quot;,0.0174532925199433]],PROJECTION[&amp;quot;Lambert_Conformal_Conic&amp;quot;],PARAMETER[&amp;quot;False_Easting&amp;quot;,6561666.666666666],PARAMETER[&amp;quot;False_Northing&amp;quot;,1640416.666666667],PARAMETER[&amp;quot;Central_Meridian&amp;quot;,-120.5],PARAMETER[&amp;quot;Standard_Parallel_1&amp;quot;,37.06666666666667],PARAMETER[&amp;quot;Standard_Parallel_2&amp;quot;,38.43333333333333],PARAMETER[&amp;quot;Latitude_Of_Origin&amp;quot;,36.5],UNIT[&amp;quot;Foot_US&amp;quot;,0.3048006096012192],AUTHORITY[&amp;quot;EPSG&amp;quot;,6420]]&lt;/WKT&gt;&lt;XOrigin&gt;-115860600&lt;/XOrigin&gt;&lt;YOrigin&gt;-93269500&lt;/YOrigin&gt;&lt;XYScale&gt;36787427.345686711&lt;/XYScale&gt;&lt;ZOrigin&gt;-100000&lt;/ZOrigin&gt;&lt;ZScale&gt;10000&lt;/ZScale&gt;&lt;MOrigin&gt;-100000&lt;/MOrigin&gt;&lt;MScale&gt;10000&lt;/MScale&gt;&lt;XYTolerance&gt;0.0032808333333333331&lt;/XYTolerance&gt;&lt;ZTolerance&gt;0.001&lt;/ZTolerance&gt;&lt;MTolerance&gt;0.001&lt;/MTolerance&gt;&lt;HighPrecision&gt;true&lt;/HighPrecision&gt;&lt;WKID&gt;103005&lt;/WKID&gt;&lt;LatestWKID&gt;6420&lt;/LatestWKID&gt;&lt;/ProjectedCoordinateSystem&gt;</peXml>
</coordRef>
<RasterProperties>
<General>
<PixelDepth Sync="TRUE">32</PixelDepth>
<HasColormap Sync="TRUE">FALSE</HasColormap>
<CompressionType Sync="TRUE">None</CompressionType>
<NumBands Sync="TRUE">1</NumBands>
<Format Sync="TRUE">AMD</Format>
<HasPyramids Sync="TRUE">TRUE</HasPyramids>
<SourceType Sync="TRUE">continuous</SourceType>
<PixelType Sync="TRUE">floating point</PixelType>
<NoDataValue Sync="TRUE"/>
</General>
<Properties>
<MaxImageHeight Sync="TRUE">4100</MaxImageHeight>
<MaxImageWidth Sync="TRUE">15000</MaxImageWidth>
<MaxRecordCount Sync="TRUE">1000</MaxRecordCount>
<MaxDownloadImageCount Sync="TRUE">20</MaxDownloadImageCount>
<MaxDownloadSizeLimit Sync="TRUE">2048</MaxDownloadSizeLimit>
<MaxMosaicImageCount Sync="TRUE">20</MaxMosaicImageCount>
<DefaultCompressionQuality Sync="TRUE">75</DefaultCompressionQuality>
<DefaultCompressionTolerance Sync="TRUE">0.01</DefaultCompressionTolerance>
<BlendWidth Sync="TRUE">10</BlendWidth>
<ViewpointSpacingX Sync="TRUE">600</ViewpointSpacingX>
<ViewpointSpacingY Sync="TRUE">300</ViewpointSpacingY>
<AllowedItemMetadata Sync="TRUE">Basic</AllowedItemMetadata>
<DefaultResamplingMethod Sync="TRUE">1</DefaultResamplingMethod>
<AllowedMosaicMethods Sync="TRUE">NorthWest,Center,LockRaster,ByAttribute,Nadir,Viewpoint,Seamline,None</AllowedMosaicMethods>
<AllowedCompressions Sync="TRUE">None,JPEG,LZ77,LERC</AllowedCompressions>
<AllowedMensurationCapabilities Sync="TRUE">None</AllowedMensurationCapabilities>
<AvailableMensurationCapabilities Sync="TRUE">None,Basic,Base-Top Height,Top-Top Shadow Height,Base-Top Shadow Height,3D</AvailableMensurationCapabilities>
<ClipToBoundary Sync="TRUE">-1</ClipToBoundary>
<FootprintMayContainNoData Sync="TRUE">-1</FootprintMayContainNoData>
<CellSizeTolerance Sync="TRUE">0.8</CellSizeTolerance>
<MinimumPixelContribution Sync="TRUE">1</MinimumPixelContribution>
<AvailableMosaicMethods Sync="TRUE">NorthWest,Center,LockRaster,ByAttribute,Nadir,Viewpoint,Seamline,None</AvailableMosaicMethods>
<AvailableCompressionMethods Sync="TRUE">None,JPEG,LZ77,LERC</AvailableCompressionMethods>
<AvailableItemMetadataLevels Sync="TRUE">None,Basic,Full</AvailableItemMetadataLevels>
<BandDefinitionKeyword Sync="TRUE">NONE</BandDefinitionKeyword>
<_docversion_ Sync="TRUE">10</_docversion_>
<AllowedFields Sync="TRUE">Name,MinPS,MaxPS,LowPS,HighPS,Tag,GroupName,ProductName,CenterX,CenterY,ZOrder,Shape_Length,Shape_Area</AllowedFields>
<MaxCellSize Sync="TRUE">109350</MaxCellSize>
<LowCellSize Sync="TRUE">1</LowCellSize>
<HighCellSize Sync="TRUE">2187</HighCellSize>
<PixelCacheLocation Sync="TRUE">C:\Users\clewis\AppData\Local\ESRI\rasterproxies\SanJoaquinValley_2021_Zone3_LIDAR</PixelCacheLocation>
<ClipToFootprint Sync="TRUE">-1</ClipToFootprint>
</Properties>
<Functions Sync="TRUE">
<Function Description="Performs on-the-fly mosaic on a raster catalog." Name="Mosaic Function"/>
</Functions>
</RasterProperties>
</DataProperties>
<ArcGISProfile>FGDC</ArcGISProfile>
<SyncDate>20230118</SyncDate>
<SyncTime>11412200</SyncTime>
<ModDate>20230118</ModDate>
<ModTime>11412200</ModTime>
<scaleRange>
<minScale>150000000</minScale>
<maxScale>5000</maxScale>
</scaleRange>
</Esri>
<mdLang>
<languageCode Sync="TRUE" value="eng"/>
<countryCode Sync="TRUE" value="USA"/>
</mdLang>
<mdHrLv>
<ScopeCd value="005"/>
</mdHrLv>
<mdDateSt Sync="TRUE">20230118</mdDateSt>
<dataIdInfo>
<idAbs>&lt;div style='text-align:Left;'&gt;&lt;div&gt;&lt;div&gt;&lt;p style='margin:0 0 7 0;'&gt;&lt;span&gt;&lt;span&gt;This is a mosaic of bare-earth digital elevation model (DEM) surfaces of the San Joaquin Valley from 2021. This mosaic only includes the section of the valley that corresponds to California State Plane Zone 3. Horizontal spatial reference is NAD 1983 (2011) California State Plane Zone 3. Vertical spatial reference is NAVD 1988 with Geoid 18. Raster resolution is 1 ft. All units are in US Survey Feet.&lt;/span&gt;&lt;/span&gt;&lt;/p&gt;&lt;p style='margin:0 0 0 0;'&gt;&lt;span&gt;&lt;span&gt;Technically these are not final deliverables, as they have not yet undergone USGS review, and are still being reviewed by DWR’s to validate they meet project requirements and project specifications. DWR’s aerial mapping consultant, Towill, Inc., has cleared this dataset to meet project requirements and project specifications under the direction of their California Licensed Land Surveyor. &lt;/span&gt;&lt;/span&gt;&lt;/p&gt;&lt;p style='margin:0 0 7 0;'&gt;&lt;span&gt;&lt;span&gt;The DEMs for this mosaic were created from raw lidar point clouds that were collected by aircraft between 2/21/2021 and 4/30/2021. &lt;/span&gt;&lt;/span&gt;&lt;/p&gt;&lt;p style='margin:0 0 7 0;'&gt;&lt;span&gt;&lt;span&gt;Towill conducted the aerial lidar acquisition and NV5 Geospatial processed the raw data.&lt;/span&gt;&lt;/span&gt;&lt;/p&gt;&lt;p style='margin:0 0 7 0;'&gt;&lt;span&gt;&lt;span&gt;Below is some summary information of the acquisition:&lt;/span&gt;&lt;/span&gt;&lt;/p&gt;&lt;p style='margin:0 0 7 0;'&gt;&lt;span&gt;&lt;span&gt;Aircraft: Aspen Partenavia P-68, Tail Numbers: 300LF, N68VA&lt;/span&gt;&lt;/span&gt;&lt;/p&gt;&lt;p style='margin:0 0 7 0;'&gt;&lt;span&gt;&lt;span&gt;Flight Altitude (AGL): 1600 m&lt;/span&gt;&lt;/span&gt;&lt;/p&gt;&lt;p style='margin:0 0 7 0;'&gt;&lt;span&gt;&lt;span&gt;Field of View: 40 degrees&lt;/span&gt;&lt;/span&gt;&lt;/p&gt;&lt;p style='margin:0 0 7 0;'&gt;&lt;span&gt;&lt;span&gt;Minimum Side Overlap: 30%&lt;/span&gt;&lt;/span&gt;&lt;/p&gt;&lt;p style='margin:0 0 7 0;'&gt;&lt;span&gt;&lt;span&gt;RMSEz: &amp;lt; 10 cm&lt;/span&gt;&lt;/span&gt;&lt;/p&gt;&lt;p style='margin:0 0 7 0;'&gt;&lt;span&gt;&lt;span&gt;Lidar Sensor: Optech Galaxy Prime - serial Number 5060411&lt;/span&gt;&lt;/span&gt;&lt;/p&gt;&lt;p style='margin:0 0 7 0;'&gt;&lt;span&gt;&lt;span&gt;Average Point Density: 10 pts / sq. meter&lt;/span&gt;&lt;/span&gt;&lt;/p&gt;&lt;p style='margin:0 0 7 0;'&gt;&lt;span&gt;&lt;span&gt;Below is a summary of the lidar processing process used:&lt;/span&gt;&lt;/span&gt;&lt;/p&gt;&lt;p style='margin:0 0 7 0;'&gt;&lt;span&gt;&lt;span&gt;Applanix + POSPac software was used for post-processing of airborne GPS and inertial data (IMU), which is critical to the positioning and orientation of the lidar sensor during all flights. Applanix POSPac combines aircraft raw trajectory data with stationary GPS base station data yielding a “Smoothed Best Estimate Trajectory” (SBET) necessary for additional post processing software to develop the resulting geo-referenced point cloud from the lidar missions.&lt;/span&gt;&lt;/span&gt;&lt;/p&gt;&lt;p style='margin:0 0 7 0;'&gt;&lt;span&gt;&lt;span&gt;During the sensor trajectory processing (combining GPS &amp;amp; IMU datasets) certain statistical graphs&lt;/span&gt;&lt;/span&gt;&lt;/p&gt;&lt;p style='margin:0 0 7 0;'&gt;&lt;span&gt;&lt;span&gt;and tables are generated within the Applanix POSPac processing environment which are commonly used as indicators of processing stability and accuracy. This data for analysis include: max horizontal / vertical GPS variance, separation plot, altitude plot, PDOP plot, base station baseline length, processing mode, number of satellite vehicles, and mission trajectory.&lt;/span&gt;&lt;/span&gt;&lt;/p&gt;&lt;p style='margin:0 0 7 0;'&gt;&lt;span&gt;&lt;span&gt;Point clouds were created using the Optech LMS software. The generated point cloud is the mathematical three dimensional composite of all returns from all laser pulses as determined from the aerial mission. &lt;/span&gt;&lt;/span&gt;&lt;/p&gt;&lt;p style='margin:0 0 7 0;'&gt;&lt;span&gt;&lt;span&gt;The point cloud is imported into GeoCue distributive processing software. Imported data is tiled and then calibrated using TerraMatch and proprietary software. Using TerraScan, the vertical accuracy of the surveyed ground control is tested and any bias is removed from the data. TerraScan and TerraModeler software packages are then used for automated data classification and manual cleanup. The data are manually reviewed and any remaining artifacts removed using functionality provided by TerraScan and TerraModeler. &lt;/span&gt;&lt;/span&gt;&lt;/p&gt;&lt;p style='margin:0 0 7 0;'&gt;&lt;span&gt;&lt;span&gt;DEMs and Intensity Images are then generated using proprietary software. In the bare earth surface model, above-ground features are excluded from the data set. Global Mapper is used as a final check of the bare earth dataset. &lt;/span&gt;&lt;/span&gt;&lt;/p&gt;&lt;p style='margin:0 0 7 0;'&gt;&lt;span&gt;&lt;span&gt;Finally, proprietary software is used to perform statistical analysis of the LAS files.&lt;/span&gt;&lt;/span&gt;&lt;/p&gt;&lt;p style='margin:0 0 7 0;'&gt;&lt;span&gt;&lt;span&gt;This is an official DWR Image Service, which meets all appropriate requirements of the DWR Spatial Data Standards, specifically the DWR Spatial Data Standards version 3.5, dated April 12, 2023. &lt;/span&gt;&lt;/span&gt;&lt;/p&gt;&lt;p style='margin:0 0 7 0;'&gt;&lt;span&gt;&lt;span&gt;DWR makes no warranties or guarantees — either expressed or implied — as to the completeness, accuracy, or correctness of the data. DWR neither accepts nor assumes liability arising from or for any incorrect, incomplete, or misleading subject data.&lt;/span&gt;&lt;/span&gt;&lt;/p&gt;&lt;p style='margin:0 0 7 0;'&gt;&lt;span&gt;&lt;span&gt;This Image Service was published on 4/12/2023 by the DWR Division of Engineering. Comments, problems, improvements, updates, or suggestions should be forwarded to gis@water.ca.gov as available and appropriate.&lt;/span&gt;&lt;/span&gt;&lt;/p&gt;&lt;/div&gt;&lt;/div&gt;&lt;/div&gt;</idAbs>
<searchKeys>
<keyword>dem</keyword>
<keyword>lidar</keyword>
<keyword>san joaquin valley</keyword>
<keyword>elevation</keyword>
<keyword>central valley</keyword>
<keyword>2021</keyword>
</searchKeys>
<idPurp>This is a mosaic of bare-earth digital elevation model (DEM) surfaces of the San Joaquin Valley from 2021. This mosaic only includes the section of the valley that corresponds to California State Plane Zone 3. Horizontal spatial reference is NAD 1983 (2011) California State Plane Zone 3. Vertical spatial reference is NAVD 1988 with Geoid 18. Raster resolution is 1 ft. All units are in US Survey Feet. Technically these are not final deliverables, as they have not yet undergone USGS review, and are still being reviewed by DWR’s to validate they meet project requirements and project specifications. DWR’s aerial mapping consultant, Towill, Inc., has cleared this dataset to meet project requirements and project specifications under the direction of their California Licensed Land Surveyor. </idPurp>
<idCredit>California Department of Water Resources, Towill, Inc. and NV5 Geospatial</idCredit>
<resConst>
<Consts>
<useLimit>&lt;div style='text-align:Left;'&gt;&lt;div&gt;&lt;div&gt;&lt;p&gt;&lt;span&gt;Internal Use Only&lt;/span&gt;&lt;/p&gt;&lt;/div&gt;&lt;/div&gt;&lt;/div&gt;</useLimit>
</Consts>
</resConst>
<idCitation>
<resTitle>SanJoaquinValley_Zone3_2021_LIDAR</resTitle>
<presForm>
<PresFormCd Sync="TRUE" value="005"/>
</presForm>
</idCitation>
<envirDesc Sync="TRUE">Microsoft Windows 10 Version 10.0 (Build 19044) ; Esri ArcGIS 13.0.0.36056</envirDesc>
<dataLang>
<languageCode Sync="TRUE" value="eng"/>
<countryCode Sync="TRUE" value="USA"/>
</dataLang>
<spatRpType>
<SpatRepTypCd Sync="TRUE" value="002"/>
</spatRpType>
<dataExt>
<geoEle>
<GeoBndBox esriExtentType="search">
<exTypeCode Sync="TRUE">1</exTypeCode>
<westBL Sync="TRUE">-121.678463</westBL>
<eastBL Sync="TRUE">-119.689241</eastBL>
<northBL Sync="TRUE">38.091761</northBL>
<southBL Sync="TRUE">36.760863</southBL>
</GeoBndBox>
</geoEle>
</dataExt>
</dataIdInfo>
<spatRepInfo>
<Georect>
<cellGeo>
<CellGeoCd Sync="TRUE" value="002"/>
</cellGeo>
<numDims Sync="TRUE">2</numDims>
<tranParaAv Sync="TRUE">1</tranParaAv>
<chkPtAv Sync="TRUE">0</chkPtAv>
<cornerPts>
<pos Sync="TRUE">6222499.999650 1737499.999621</pos>
</cornerPts>
<cornerPts>
<pos Sync="TRUE">6222499.999650 2219999.999621</pos>
</cornerPts>
<cornerPts>
<pos Sync="TRUE">6794999.999650 2219999.999621</pos>
</cornerPts>
<cornerPts>
<pos Sync="TRUE">6794999.999650 1737499.999621</pos>
</cornerPts>
<centerPt>
<pos Sync="TRUE">6508749.999650 1978749.999621</pos>
</centerPt>
<axisDimension type="002">
<dimSize Sync="TRUE">572500</dimSize>
<dimResol>
<value Sync="TRUE" uom="ftUS">1.000000</value>
</dimResol>
</axisDimension>
<axisDimension type="001">
<dimSize Sync="TRUE">482500</dimSize>
<dimResol>
<value Sync="TRUE" uom="ftUS">1.000000</value>
</dimResol>
</axisDimension>
<ptInPixel>
<PixOrientCd Sync="TRUE" value="001"/>
</ptInPixel>
</Georect>
</spatRepInfo>
<refSysInfo>
<RefSystem>
<refSysID>
<identCode Sync="TRUE" code="6420"/>
<idCodeSpace Sync="TRUE">EPSG</idCodeSpace>
<idVersion Sync="TRUE">8.2.10(10.3.1)</idVersion>
</refSysID>
</RefSystem>
</refSysInfo>
<contInfo>
<ImgDesc>
<contentTyp>
<ContentTypCd Sync="TRUE" value="001"/>
</contentTyp>
<covDim>
<Band>
<dimDescrp Sync="TRUE">Band_1</dimDescrp>
<maxVal Sync="TRUE">1234.246582</maxVal>
<minVal Sync="TRUE">-14.700825</minVal>
<bitsPerVal Sync="TRUE">32</bitsPerVal>
<valUnit>
<UOM type="length"/>
</valUnit>
</Band>
</covDim>
</ImgDesc>
</contInfo>
</metadata>
