{
 "currentVersion": 11.3,
 "serviceDescription": "<div style='text-align:Left;'><div><div><p style='margin:0 0 7 0;'><span><span>This is a mosaic of bare-earth digital elevation model (DEM) surfaces of the San Joaquin Valley from 2021. This mosaic only includes the section of the valley that corresponds to California State Plane Zone 5. Horizontal spatial reference is NAD 1983 (2011) California State Plane Zone 5. Vertical spatial reference is NAVD 1988 with Geoid 18. Raster resolution is 1 ft. All units are in US Survey Feet.<\/span><\/span><\/p><p style='margin:0 0 0 0;'><span><span>Technically these are not final deliverables, as they have not yet undergone USGS review, and are still being reviewed by DWR\u2019s to validate they meet project requirements and project specifications. DWR\u2019s aerial mapping consultant, Towill, Inc., has cleared this dataset to meet project requirements and project specifications under the direction of their California Licensed Land Surveyor. <\/span><\/span><\/p><p style='margin:0 0 7 0;'><span><span>The DEMs for this mosaic were created from raw lidar point clouds that were collected by aircraft between 2/21/2021 and 4/30/2021. <\/span><\/span><\/p><p style='margin:0 0 7 0;'><span><span>Towill conducted the aerial lidar acquisition and NV5 Geospatial processed the raw data.<\/span><\/span><\/p><p style='margin:0 0 7 0;'><span><span>Below is some summary information of the acquisition:<\/span><\/span><\/p><p style='margin:0 0 7 0;'><span><span>Aircraft: Aspen Partenavia P-68, Tail Numbers: 300LF, N68VA<\/span><\/span><\/p><p style='margin:0 0 7 0;'><span><span>Flight Altitude (AGL): 1600 m<\/span><\/span><\/p><p style='margin:0 0 7 0;'><span><span>Field of View: 40 degrees<\/span><\/span><\/p><p style='margin:0 0 7 0;'><span><span>Minimum Side Overlap: 30%<\/span><\/span><\/p><p style='margin:0 0 7 0;'><span><span>RMSEz: < 10 cm<\/span><\/span><\/p><p style='margin:0 0 7 0;'><span><span>Lidar Sensor: Optech Galaxy Prime - serial umber 5060411<\/span><\/span><\/p><p style='margin:0 0 7 0;'><span><span>Average Point Density: 10 pts / sq. meter<\/span><\/span><\/p><p style='margin:0 0 7 0;'><span><span>Below is a summary of the lidar processing process used:<\/span><\/span><\/p><p style='margin:0 0 7 0;'><span><span>Applanix + POSPac software was used for post-processing of airborne GPS and inertial data (IMU), which is critical to the positioning and orientation of the lidar sensor during all flights. Applanix POSPac combines aircraft raw trajectory data with stationary GPS base station data yielding a \u201cSmoothed Best Estimate Trajectory\u201d (SBET) necessary for additional post processing software to develop the resulting geo-referenced point cloud from the lidar missions.<\/span><\/span><\/p><p style='margin:0 0 7 0;'><span><span>During the sensor trajectory processing (combining GPS & IMU datasets) certain statistical graphs<\/span><\/span><\/p><p style='margin:0 0 7 0;'><span><span>and tables are generated within the Applanix POSPac processing environment which are commonly used as indicators of processing stability and accuracy. This data for analysis include: max horizontal / vertical GPS variance, separation plot, altitude plot, PDOP plot, base station baseline length, processing mode, number of satellite vehicles, and mission trajectory.<\/span><\/span><\/p><p style='margin:0 0 7 0;'><span><span>Point clouds were created using the Optech LMS software. The generated point cloud is the mathematical three dimensional composite of all returns from all laser pulses as determined from the aerial mission. <\/span><\/span><\/p><p style='margin:0 0 7 0;'><span><span>The point cloud is imported into GeoCue distributive processing software. Imported data is tiled and then calibrated using TerraMatch and proprietary software. Using TerraScan, the vertical accuracy of the surveyed ground control is tested and any bias is removed from the data. TerraScan and TerraModeler software packages are then used for automated data classification and manual cleanup. The data are manually reviewed and any remaining artifacts removed using functionality provided by TerraScan and TerraModeler. <\/span><\/span><\/p><p style='margin:0 0 7 0;'><span><span>DEMs and Intensity Images are then generated using proprietary software. In the bare earth surface model, above-ground features are excluded from the data set. Global Mapper is used as a final check of the bare earth dataset. <\/span><\/span><\/p><p style='margin:0 0 7 0;'><span><span>Finally, proprietary software is used to perform statistical analysis of the LAS files.<\/span><\/span><\/p><p style='margin:0 0 7 0;'><span><span>This is an official DWR Image Service, which meets all appropriate requirements of the DWR Spatial Data Standards, specifically the DWR Spatial Data Standards version 3.5, dated April 12, 2023. <\/span><\/span><\/p><p style='margin:0 0 7 0;'><span><span>DWR makes no warranties or guarantees \u2014 either expressed or implied \u2014 as to the completeness, accuracy, or correctness of the data. DWR neither accepts nor assumes liability arising from or for any incorrect, incomplete, or misleading subject data.<\/span><\/span><\/p><p style='margin:0 0 7 0;'><span>This Image Service was published on 4/12/2023 by the DWR Division of Engineering. Comments, problems, improvements, updates, or suggestions should be forwarded to gis@water.ca.gov as available and appropriate.<\/span><\/p><\/div><\/div><\/div>",
 "name": "elevation/SanJoaquinValley_Zone5_2021_LIDAR",
 "description": "<div style='text-align:Left;'><div><div><p style='margin:0 0 7 0;'><span><span>This is a mosaic of bare-earth digital elevation model (DEM) surfaces of the San Joaquin Valley from 2021. This mosaic only includes the section of the valley that corresponds to California State Plane Zone 5. Horizontal spatial reference is NAD 1983 (2011) California State Plane Zone 5. Vertical spatial reference is NAVD 1988 with Geoid 18. Raster resolution is 1 ft. All units are in US Survey Feet.<\/span><\/span><\/p><p style='margin:0 0 0 0;'><span><span>Technically these are not final deliverables, as they have not yet undergone USGS review, and are still being reviewed by DWR\u2019s to validate they meet project requirements and project specifications. DWR\u2019s aerial mapping consultant, Towill, Inc., has cleared this dataset to meet project requirements and project specifications under the direction of their California Licensed Land Surveyor. <\/span><\/span><\/p><p style='margin:0 0 7 0;'><span><span>The DEMs for this mosaic were created from raw lidar point clouds that were collected by aircraft between 2/21/2021 and 4/30/2021. <\/span><\/span><\/p><p style='margin:0 0 7 0;'><span><span>Towill conducted the aerial lidar acquisition and NV5 Geospatial processed the raw data.<\/span><\/span><\/p><p style='margin:0 0 7 0;'><span><span>Below is some summary information of the acquisition:<\/span><\/span><\/p><p style='margin:0 0 7 0;'><span><span>Aircraft: Aspen Partenavia P-68, Tail Numbers: 300LF, N68VA<\/span><\/span><\/p><p style='margin:0 0 7 0;'><span><span>Flight Altitude (AGL): 1600 m<\/span><\/span><\/p><p style='margin:0 0 7 0;'><span><span>Field of View: 40 degrees<\/span><\/span><\/p><p style='margin:0 0 7 0;'><span><span>Minimum Side Overlap: 30%<\/span><\/span><\/p><p style='margin:0 0 7 0;'><span><span>RMSEz: < 10 cm<\/span><\/span><\/p><p style='margin:0 0 7 0;'><span><span>Lidar Sensor: Optech Galaxy Prime - serial umber 5060411<\/span><\/span><\/p><p style='margin:0 0 7 0;'><span><span>Average Point Density: 10 pts / sq. meter<\/span><\/span><\/p><p style='margin:0 0 7 0;'><span><span>Below is a summary of the lidar processing process used:<\/span><\/span><\/p><p style='margin:0 0 7 0;'><span><span>Applanix + POSPac software was used for post-processing of airborne GPS and inertial data (IMU), which is critical to the positioning and orientation of the lidar sensor during all flights. Applanix POSPac combines aircraft raw trajectory data with stationary GPS base station data yielding a \u201cSmoothed Best Estimate Trajectory\u201d (SBET) necessary for additional post processing software to develop the resulting geo-referenced point cloud from the lidar missions.<\/span><\/span><\/p><p style='margin:0 0 7 0;'><span><span>During the sensor trajectory processing (combining GPS & IMU datasets) certain statistical graphs<\/span><\/span><\/p><p style='margin:0 0 7 0;'><span><span>and tables are generated within the Applanix POSPac processing environment which are commonly used as indicators of processing stability and accuracy. This data for analysis include: max horizontal / vertical GPS variance, separation plot, altitude plot, PDOP plot, base station baseline length, processing mode, number of satellite vehicles, and mission trajectory.<\/span><\/span><\/p><p style='margin:0 0 7 0;'><span><span>Point clouds were created using the Optech LMS software. The generated point cloud is the mathematical three dimensional composite of all returns from all laser pulses as determined from the aerial mission. <\/span><\/span><\/p><p style='margin:0 0 7 0;'><span><span>The point cloud is imported into GeoCue distributive processing software. Imported data is tiled and then calibrated using TerraMatch and proprietary software. Using TerraScan, the vertical accuracy of the surveyed ground control is tested and any bias is removed from the data. TerraScan and TerraModeler software packages are then used for automated data classification and manual cleanup. The data are manually reviewed and any remaining artifacts removed using functionality provided by TerraScan and TerraModeler. <\/span><\/span><\/p><p style='margin:0 0 7 0;'><span><span>DEMs and Intensity Images are then generated using proprietary software. In the bare earth surface model, above-ground features are excluded from the data set. Global Mapper is used as a final check of the bare earth dataset. <\/span><\/span><\/p><p style='margin:0 0 7 0;'><span><span>Finally, proprietary software is used to perform statistical analysis of the LAS files.<\/span><\/span><\/p><p style='margin:0 0 7 0;'><span><span>This is an official DWR Image Service, which meets all appropriate requirements of the DWR Spatial Data Standards, specifically the DWR Spatial Data Standards version 3.5, dated April 12, 2023. <\/span><\/span><\/p><p style='margin:0 0 7 0;'><span><span>DWR makes no warranties or guarantees \u2014 either expressed or implied \u2014 as to the completeness, accuracy, or correctness of the data. DWR neither accepts nor assumes liability arising from or for any incorrect, incomplete, or misleading subject data.<\/span><\/span><\/p><p style='margin:0 0 7 0;'><span>This Image Service was published on 4/12/2023 by the DWR Division of Engineering. Comments, problems, improvements, updates, or suggestions should be forwarded to gis@water.ca.gov as available and appropriate.<\/span><\/p><\/div><\/div><\/div>",
 "extent": {
  "xmin": 5918999.999808222,
  "ymin": 2154999.9996881485,
  "xmax": 6389001.999808222,
  "ymax": 2481099.9996881485,
  "spatialReference": {
   "wkid": 103007,
   "latestWkid": 6424
  }
 },
 "initialExtent": {
  "xmin": 5918999.999808222,
  "ymin": 2154999.9996881485,
  "xmax": 6389001.999808222,
  "ymax": 2481099.9996881485,
  "spatialReference": {
   "wkid": 103007,
   "latestWkid": 6424
  }
 },
 "fullExtent": {
  "xmin": 5918999.999808222,
  "ymin": 2154999.9996881485,
  "xmax": 6389001.999808222,
  "ymax": 2481099.9996881485,
  "spatialReference": {
   "wkid": 103007,
   "latestWkid": 6424
  }
 },
 "sortableFields": "",
 "bandCount": 1,
 "pixelType": "F32",
 "minValues": [
  192.14483642578125
 ],
 "maxValues": [
  4119.88037109375
 ],
 "meanValues": [
  599.9941221571701
 ],
 "stdvValues": [
  424.166032319849
 ],
 "hasMultidimensions": false,
 "pixelSizeX": 1,
 "pixelSizeY": 1,
 "meanPixelSize": 0.30480060960121924,
 "datasetFormat": "AMD",
 "uncompressedSize": 613070608800,
 "blockWidth": 2048,
 "blockHeight": 256,
 "compressionType": "None",
 "bandNames": [
  "Band_1"
 ],
 "allowCopy": true,
 "allowAnalysis": true,
 "itemAccess": false,
 "inspectionCapabilities": "",
 "minPixelSize": 0,
 "maxPixelSize": 0,
 "copyrightText": "California Department of Water Resources, Towill, Inc. and NV5 Geospatial",
 "serviceDataType": "esriImageServiceDataTypeGeneric",
 "serviceSourceType": "esriImageServiceSourceTypeMosaicDataset",
 "objectIdField": "OBJECTID",
 "fields": [
  {
   "name": "OBJECTID",
   "type": "esriFieldTypeOID",
   "alias": "OBJECTID",
   "domain": null
  },
  {
   "name": "Shape",
   "type": "esriFieldTypeGeometry",
   "alias": "Shape",
   "domain": null
  },
  {
   "name": "Name",
   "type": "esriFieldTypeString",
   "alias": "Name",
   "domain": null,
   "length": 200
  },
  {
   "name": "MinPS",
   "type": "esriFieldTypeDouble",
   "alias": "MinPS",
   "domain": null
  },
  {
   "name": "MaxPS",
   "type": "esriFieldTypeDouble",
   "alias": "MaxPS",
   "domain": null
  },
  {
   "name": "LowPS",
   "type": "esriFieldTypeDouble",
   "alias": "LowPS",
   "domain": null
  },
  {
   "name": "HighPS",
   "type": "esriFieldTypeDouble",
   "alias": "HighPS",
   "domain": null
  },
  {
   "name": "Category",
   "type": "esriFieldTypeInteger",
   "alias": "Category",
   "domain": {
    "type": "codedValue",
    "name": "MosaicCatalogItemCategoryDomain",
    "description": "Catalog item categories.",
    "codedValues": [
     {
      "name": "Unknown",
      "code": 0
     },
     {
      "name": "Primary",
      "code": 1
     },
     {
      "name": "Overview",
      "code": 2
     },
     {
      "name": "Unprocessed Overview",
      "code": 3
     },
     {
      "name": "Partial Overview",
      "code": 4
     },
     {
      "name": "Inactive",
      "code": 5
     },
     {
      "name": "Uploaded",
      "code": 253
     },
     {
      "name": "Incomplete",
      "code": 254
     },
     {
      "name": "Custom",
      "code": 255
     }
    ],
    "mergePolicy": "esriMPTDefaultValue",
    "splitPolicy": "esriSPTDefaultValue"
   }
  },
  {
   "name": "Tag",
   "type": "esriFieldTypeString",
   "alias": "Tag",
   "domain": null,
   "length": 100
  },
  {
   "name": "GroupName",
   "type": "esriFieldTypeString",
   "alias": "GroupName",
   "domain": null,
   "length": 100
  },
  {
   "name": "ProductName",
   "type": "esriFieldTypeString",
   "alias": "ProductName",
   "domain": null,
   "length": 100
  },
  {
   "name": "CenterX",
   "type": "esriFieldTypeDouble",
   "alias": "CenterX",
   "domain": null
  },
  {
   "name": "CenterY",
   "type": "esriFieldTypeDouble",
   "alias": "CenterY",
   "domain": null
  },
  {
   "name": "ZOrder",
   "type": "esriFieldTypeInteger",
   "alias": "ZOrder",
   "domain": null
  },
  {
   "name": "Shape_Length",
   "type": "esriFieldTypeDouble",
   "alias": "Shape_Length",
   "domain": null
  },
  {
   "name": "Shape_Area",
   "type": "esriFieldTypeDouble",
   "alias": "Shape_Area",
   "domain": null
  }
 ],
 "capabilities": "Catalog,Image,Metadata",
 "defaultMosaicMethod": "Northwest",
 "allowedMosaicMethods": "NorthWest,Center,LockRaster,ByAttribute,Nadir,Viewpoint,Seamline,None",
 "sortField": "",
 "sortValue": null,
 "sortAscending": true,
 "mosaicOperator": "First",
 "maxDownloadSizeLimit": 2048,
 "defaultCompressionQuality": 75,
 "defaultResamplingMethod": "Bilinear",
 "maxImageHeight": 4100,
 "maxImageWidth": 15000,
 "maxRecordCount": 1000,
 "maxDownloadImageCount": 20,
 "maxMosaicImageCount": 20,
 "allowRasterFunction": true,
 "rasterFunctionInfos": [
  {
   "name": "None",
   "description": "A No-Op Function.",
   "help": ""
  }
 ],
 "rasterTypeInfos": [
  {
   "name": "Raster Dataset",
   "description": "Supports all ArcGIS Raster Datasets",
   "help": ""
  }
 ],
 "mensurationCapabilities": "None",
 "hasHistograms": true,
 "hasColormap": false,
 "hasRasterAttributeTable": false,
 "minScale": 0,
 "maxScale": 0,
 "exportTilesAllowed": false,
 "supportsStatistics": true,
 "supportsAdvancedQueries": true,
 "editFieldsInfo": null,
 "ownershipBasedAccessControlForRasters": null,
 "allowComputeTiePoints": false,
 "useStandardizedQueries": true,
 "advancedQueryCapabilities": {
  "useStandardizedQueries": true,
  "supportsStatistics": true,
  "supportsOrderBy": true,
  "supportsDistinct": true,
  "supportsPagination": true
 },
 "spatialReference": {
  "wkid": 103007,
  "latestWkid": 6424
 },
 "resampling": false
}
