{
 "currentVersion": 11.3,
 "serviceDescription": "This data set was collected and produced by Towill, Inc. under contract with to the California Department of Water Resources (DWR). Data are considered public domain.\n\nField Survey Operations\nField Equipment\nGround control for the aerial imagery was supplied through onboard ABGPS systems and tied to numerous CORS stations operating near the study area.\n\nHorizontal and Vertical Control Surveys\nPrimary Control\nSurvey Control is based on ABGPS and CORS stations. Please see Survey Report dated January 18, 2019 for information regarding specific CORS stations used for georeferencing the orthophotography.\n\nHorizontal Coordinate Datum\nThe horizontal datum is the National Geodetic Survey (NGS) Continuous Operating Reference Station (CORS) North American Datum of 1983 (NAD 83) California Coordinate System (CCS83) Epoch 2010.0 (2011 realization), Zone 2, US Survey Feet.\nVertical Datum \nElevations established in this survey are North American Vertical Datum of 1988 (NAVD88).\n\nAirborne LiDAR\nThe airborne LiDAR mission was performed over a two-day period; September 13-14, 2018. The sensor used to collect the data is a Teladyne/Optech Orion 300 and the laser was set to emit 8 points per square meter (8 PPM^2). The LiDAR strips were processed and calibrated using Optech\u2019s LMS software suite and data from the CORS stations identified in the Survey Report dated January 18, 2019. The LiDAR dataset was classified to separate ground from non-ground features using the following classes:\n\nClass 2 = Ground\nClass 8 = Key point\nClass 9 = Water\n\nAdditionally, hydro-break-lines were digitized from intensity images and used to separate ground from large water features (streams wider than 100 feet and ponds larger than twenty five acres). The derived bare-earth surfaces were formatted in both TIN and DEM formats.\n\nDWR makes no warranties or guarantees \u2014 either expressed or implied \u2014 as to the completeness, accuracy, or correctness of the data. DWR neither accepts nor assumes liability arising from or for any incorrect, incomplete, or misleading subject data. \n\nThis is an official DWR Image Service, republished on March 25, 2019 by Stephanie Baker of the Division of Engineering, Geodetic Branch, Geospatial Data Support Section, who may be contacted at stephanie.baker@water.ca.gov, or 916-653-9815.",
 "name": "elevation/SuisunMarsh_2018",
 "description": "This data set was collected and produced by Towill, Inc. under contract with to the California Department of Water Resources (DWR). Data are considered public domain.\n\nField Survey Operations\nField Equipment\nGround control for the aerial imagery was supplied through onboard ABGPS systems and tied to numerous CORS stations operating near the study area.\n\nHorizontal and Vertical Control Surveys\nPrimary Control\nSurvey Control is based on ABGPS and CORS stations. Please see Survey Report dated January 18, 2019 for information regarding specific CORS stations used for georeferencing the orthophotography.\n\nHorizontal Coordinate Datum\nThe horizontal datum is the National Geodetic Survey (NGS) Continuous Operating Reference Station (CORS) North American Datum of 1983 (NAD 83) California Coordinate System (CCS83) Epoch 2010.0 (2011 realization), Zone 2, US Survey Feet.\nVertical Datum \nElevations established in this survey are North American Vertical Datum of 1988 (NAVD88).\n\nAirborne LiDAR\nThe airborne LiDAR mission was performed over a two-day period; September 13-14, 2018. The sensor used to collect the data is a Teladyne/Optech Orion 300 and the laser was set to emit 8 points per square meter (8 PPM^2). The LiDAR strips were processed and calibrated using Optech\u2019s LMS software suite and data from the CORS stations identified in the Survey Report dated January 18, 2019. The LiDAR dataset was classified to separate ground from non-ground features using the following classes:\n\nClass 2 = Ground\nClass 8 = Key point\nClass 9 = Water\n\nAdditionally, hydro-break-lines were digitized from intensity images and used to separate ground from large water features (streams wider than 100 feet and ponds larger than twenty five acres). The derived bare-earth surfaces were formatted in both TIN and DEM formats.\n\nDWR makes no warranties or guarantees \u2014 either expressed or implied \u2014 as to the completeness, accuracy, or correctness of the data. DWR neither accepts nor assumes liability arising from or for any incorrect, incomplete, or misleading subject data. \n\nThis is an official DWR Image Service, republished on March 25, 2019 by Stephanie Baker of the Division of Engineering, Geodetic Branch, Geospatial Data Support Section, who may be contacted at stephanie.baker@water.ca.gov, or 916-653-9815.",
 "extent": {
  "xmin": 6510000,
  "ymin": 1766000,
  "xmax": 6610000,
  "ymax": 1856000,
  "spatialReference": {
   "wkid": 102642,
   "latestWkid": 2226
  }
 },
 "initialExtent": {
  "xmin": 6510000,
  "ymin": 1766000,
  "xmax": 6610000,
  "ymax": 1856000,
  "spatialReference": {
   "wkid": 102642,
   "latestWkid": 2226
  }
 },
 "fullExtent": {
  "xmin": 6510000,
  "ymin": 1766000,
  "xmax": 6610000,
  "ymax": 1856000,
  "spatialReference": {
   "wkid": 102642,
   "latestWkid": 2226
  }
 },
 "sortableFields": "",
 "bandCount": 1,
 "pixelType": "F32",
 "minValues": [
  -2.890000104904175
 ],
 "maxValues": [
  1160.468505859375
 ],
 "meanValues": [
  41.805296749864986
 ],
 "stdvValues": [
  117.1462174403928
 ],
 "hasMultidimensions": false,
 "pixelSizeX": 1,
 "pixelSizeY": 1,
 "meanPixelSize": 0.30480060960121924,
 "datasetFormat": "AMD",
 "uncompressedSize": 36000000000,
 "blockWidth": 2048,
 "blockHeight": 256,
 "compressionType": "None",
 "bandNames": [
  "Band_1"
 ],
 "allowCopy": true,
 "allowAnalysis": true,
 "itemAccess": false,
 "inspectionCapabilities": "",
 "minPixelSize": 0,
 "maxPixelSize": 0,
 "copyrightText": "DWR Division of Engineering Geodetic Branch",
 "serviceDataType": "esriImageServiceDataTypeGeneric",
 "serviceSourceType": "esriImageServiceSourceTypeMosaicDataset",
 "objectIdField": "OBJECTID",
 "fields": [
  {
   "name": "OBJECTID",
   "type": "esriFieldTypeOID",
   "alias": "OBJECTID",
   "domain": null
  },
  {
   "name": "Shape",
   "type": "esriFieldTypeGeometry",
   "alias": "Shape",
   "domain": null
  },
  {
   "name": "Name",
   "type": "esriFieldTypeString",
   "alias": "Name",
   "domain": null,
   "length": 200
  },
  {
   "name": "MinPS",
   "type": "esriFieldTypeDouble",
   "alias": "MinPS",
   "domain": null
  },
  {
   "name": "MaxPS",
   "type": "esriFieldTypeDouble",
   "alias": "MaxPS",
   "domain": null
  },
  {
   "name": "LowPS",
   "type": "esriFieldTypeDouble",
   "alias": "LowPS",
   "domain": null
  },
  {
   "name": "HighPS",
   "type": "esriFieldTypeDouble",
   "alias": "HighPS",
   "domain": null
  },
  {
   "name": "Category",
   "type": "esriFieldTypeInteger",
   "alias": "Category",
   "domain": {
    "type": "codedValue",
    "name": "MosaicCatalogItemCategoryDomain",
    "description": "Catalog item categories.",
    "codedValues": [
     {
      "name": "Unknown",
      "code": 0
     },
     {
      "name": "Primary",
      "code": 1
     },
     {
      "name": "Overview",
      "code": 2
     },
     {
      "name": "Unprocessed Overview",
      "code": 3
     },
     {
      "name": "Partial Overview",
      "code": 4
     },
     {
      "name": "Inactive",
      "code": 5
     },
     {
      "name": "Uploaded",
      "code": 253
     },
     {
      "name": "Incomplete",
      "code": 254
     },
     {
      "name": "Custom",
      "code": 255
     }
    ],
    "mergePolicy": "esriMPTDefaultValue",
    "splitPolicy": "esriSPTDefaultValue"
   }
  },
  {
   "name": "Tag",
   "type": "esriFieldTypeString",
   "alias": "Tag",
   "domain": null,
   "length": 100
  },
  {
   "name": "GroupName",
   "type": "esriFieldTypeString",
   "alias": "GroupName",
   "domain": null,
   "length": 100
  },
  {
   "name": "ProductName",
   "type": "esriFieldTypeString",
   "alias": "ProductName",
   "domain": null,
   "length": 100
  },
  {
   "name": "CenterX",
   "type": "esriFieldTypeDouble",
   "alias": "CenterX",
   "domain": null
  },
  {
   "name": "CenterY",
   "type": "esriFieldTypeDouble",
   "alias": "CenterY",
   "domain": null
  },
  {
   "name": "ZOrder",
   "type": "esriFieldTypeInteger",
   "alias": "ZOrder",
   "domain": null
  },
  {
   "name": "Shape_Length",
   "type": "esriFieldTypeDouble",
   "alias": "Shape_Length",
   "domain": null
  },
  {
   "name": "Shape_Area",
   "type": "esriFieldTypeDouble",
   "alias": "Shape_Area",
   "domain": null
  }
 ],
 "capabilities": "Image,Metadata,Catalog,Mensuration",
 "defaultMosaicMethod": "Northwest",
 "allowedMosaicMethods": "NorthWest,Center,LockRaster,ByAttribute,Nadir,Viewpoint,Seamline,None",
 "sortField": "",
 "sortValue": null,
 "sortAscending": true,
 "mosaicOperator": "First",
 "maxDownloadSizeLimit": 2048,
 "defaultCompressionQuality": 75,
 "defaultResamplingMethod": "Bilinear",
 "maxImageHeight": 4100,
 "maxImageWidth": 15000,
 "maxRecordCount": 1000,
 "maxDownloadImageCount": 20,
 "maxMosaicImageCount": 20,
 "allowRasterFunction": true,
 "rasterFunctionInfos": [
  {
   "name": "None",
   "description": "",
   "help": ""
  }
 ],
 "rasterTypeInfos": [
  {
   "name": "Raster Dataset",
   "description": "Supports all ArcGIS Raster Datasets",
   "help": ""
  }
 ],
 "mensurationCapabilities": "Basic",
 "hasHistograms": true,
 "hasColormap": false,
 "hasRasterAttributeTable": false,
 "minScale": 0,
 "maxScale": 0,
 "exportTilesAllowed": false,
 "supportsStatistics": true,
 "supportsAdvancedQueries": true,
 "editFieldsInfo": null,
 "ownershipBasedAccessControlForRasters": null,
 "allowComputeTiePoints": false,
 "useStandardizedQueries": true,
 "advancedQueryCapabilities": {
  "useStandardizedQueries": true,
  "supportsStatistics": true,
  "supportsOrderBy": true,
  "supportsDistinct": true,
  "supportsPagination": true
 },
 "spatialReference": {
  "wkid": 102642,
  "latestWkid": 2226
 }
}
