View In:
ArcGIS JavaScript
ArcGIS Online Map Viewer
ArcGIS Earth
Service Description: Drone Imagery of the Little Truckee river collected on 10/06/2020.
The imagery was collected using a DJI Mavic 2 Pro UAS, operating at 80m (262ft) above ground level. Photos were taken along a 60-degree course angle, with 65% side overlap and 85% front overlap. The field collection was controlled by a DJI Smart Controller running the DJI Pilot app.
Images were imported into ArcGIS Pro 2.6 using the Ortho Mapping workspace tool, block adjusted, and an Orthomosaic was generated. No external control points were used for this project.
DWR makes no warranties or guarantees — either expressed or implied — as to the completeness, accuracy, or correctness of the data. DWR neither accepts nor assumes liability arising from or for any incorrect, incomplete, or misleading subject data. This is an official DWR Image Service, published on October 2, 2020by Gregory Twist of the Division of Engineering, Geodetic Branch, Geospatial Data Support Section, who may be contacted at Gregory.Twist@water.ca.gov, or 916-653-2700
Name: Aerial_Photography/LittleTruckee_20201006
Description: Drone Imagery of the Little Truckee river collected on 10/06/2020.
The imagery was collected using a DJI Mavic 2 Pro UAS, operating at 80m (262ft) above ground level. Photos were taken along a 60-degree course angle, with 65% side overlap and 85% front overlap. The field collection was controlled by a DJI Smart Controller running the DJI Pilot app.
Images were imported into ArcGIS Pro 2.6 using the Ortho Mapping workspace tool, block adjusted, and an Orthomosaic was generated. No external control points were used for this project.
DWR makes no warranties or guarantees — either expressed or implied — as to the completeness, accuracy, or correctness of the data. DWR neither accepts nor assumes liability arising from or for any incorrect, incomplete, or misleading subject data. This is an official DWR Image Service, published on October 2, 2020by Gregory Twist of the Division of Engineering, Geodetic Branch, Geospatial Data Support Section, who may be contacted at Gregory.Twist@water.ca.gov, or 916-653-2700
Single Fused Map Cache: false
Extent:
XMin: 748827.131
YMin: 4367692.550000001
XMax: 751150.9849999999
YMax: 4373019.872
Spatial Reference: 32610
(32610)
VCSWkid(115700)
LatestVCSWkid(115700)
Initial Extent:
XMin: 748827.131
YMin: 4367692.550000001
XMax: 751150.9849999999
YMax: 4373019.872
Spatial Reference: 32610
(32610)
VCSWkid(115700)
LatestVCSWkid(115700)
Full Extent:
XMin: 748827.131
YMin: 4367692.550000001
XMax: 751150.9849999999
YMax: 4373019.872
Spatial Reference: 32610
(32610)
VCSWkid(115700)
LatestVCSWkid(115700)
Pixel Size X: 0.01299999999999898
Pixel Size Y: 0.012999999999999255
Band Count: 3
Pixel Type: U8
RasterFunction Infos: {"rasterFunctionInfos": [{
"name": "None",
"description": "",
"help": ""
}]}
Mensuration Capabilities: Basic
Inspection Capabilities:
Has Histograms: true
Has Colormap: false
Has Multi Dimensions : false
Rendering Rule:
Min Scale: 0
Max Scale: 0
Copyright Text: California Dept of Water Resources
Service Data Type: esriImageServiceDataTypeRGB
Min Values: 0, 0, 0
Max Values: 255, 255, 255
Mean Values: 127.11385200513563, 122.6998901586997, 102.8840505712571
Standard Deviation Values: 49.105783853680286, 42.994942564214426, 37.622365977120985
Object ID Field:
Fields:
None
Default Mosaic Method: Center
Allowed Mosaic Methods:
SortField:
SortValue: null
Mosaic Operator: First
Default Compression Quality: 75
Default Resampling Method: Bilinear
Max Record Count: null
Max Image Height: 4100
Max Image Width: 15000
Max Download Image Count: null
Max Mosaic Image Count: null
Allow Raster Function: true
Allow Copy: true
Allow Analysis: true
Allow Compute TiePoints: false
Supports Statistics: false
Supports Advanced Queries: false
Use StandardizedQueries: true
Raster Type Infos:
Name: Raster Dataset
Description: Supports all ArcGIS Raster Datasets
Help:
Has Raster Attribute Table: false
Edit Fields Info: null
Ownership Based AccessControl For Rasters: null
Child Resources:
Info
Histograms
Statistics
Key Properties
Legend
Raster Function Infos
Supported Operations:
Export Image
Identify
Measure
Compute Histograms
Compute Statistics Histograms
Get Samples
Compute Class Statistics
Query Boundary
Compute Pixel Location
Compute Angles
Validate
Project