View In:
ArcGIS JavaScript
ArcGIS Online Map Viewer
ArcGIS Earth
Service Description: Purpose:
Primary purpose is to quantify floating and submerged aquatic vegetation in the channel.
Survey Date and Time:
Data was collected on 11/22/2021 1300-1345 PST
Imagery Acquisition:
The imagery was collected using a DJI Mavic 2 Pro UAS, operating at 300’ above ground level, along one single flight line following the center line of Old River from Middle River to Doughty Cut. The field collection was controlled by a DJI Smart Controller running the DJI Pilot app.
Software Processing:
Images were imported into ArcGIS Pro 2.8.0 using the Ortho Mapping workspace tool, block adjusted, and an Orthomosaic was generated. No external control points were used for this project.
Adjustment summary from ArcGIS Pro:
Number of Adjusted Images 913
Number of Tie Points 4633868
Number of Solution Points 1584589
Mean Reprojection Error / Sigma Naught (pixel) 0.27 / 0.39
Ground Resolution (m/pixel) 0.022
Adjustment Type Frame
Ground Control Points Involved in Adjustment No
This is an official DWR Image Service, which meets all appropriate requirements of the DWR Spatial Data Standards, specifically the DWR Spatial Data Standard version 3.2, dated September 10, 2021. DWR makes no warranties or guarantees — either expressed or implied — as to the completeness, accuracy, or correctness of the data. DWR neither accepts nor assumes liability arising from or for any incorrect, incomplete, or misleading subject data. This Image Service was published on 11/30/2021, by Arina Ushakova of the DWR Division of Engineering, who may be contacted at 916-902-9855, or at arina.ushakova@water.ca.gov. Comments, problems, improvements, updates, or suggestions should be forwarded to the official DWR point of contact as available and appropriate.
Name: Aerial_Photography/OldRiverUpper_20211122
Description: Purpose:
Primary purpose is to quantify floating and submerged aquatic vegetation in the channel.
Survey Date and Time:
Data was collected on 11/22/2021 1300-1345 PST
Imagery Acquisition:
The imagery was collected using a DJI Mavic 2 Pro UAS, operating at 300’ above ground level, along one single flight line following the center line of Old River from Middle River to Doughty Cut. The field collection was controlled by a DJI Smart Controller running the DJI Pilot app.
Software Processing:
Images were imported into ArcGIS Pro 2.8.0 using the Ortho Mapping workspace tool, block adjusted, and an Orthomosaic was generated. No external control points were used for this project.
Adjustment summary from ArcGIS Pro:
Number of Adjusted Images 913
Number of Tie Points 4633868
Number of Solution Points 1584589
Mean Reprojection Error / Sigma Naught (pixel) 0.27 / 0.39
Ground Resolution (m/pixel) 0.022
Adjustment Type Frame
Ground Control Points Involved in Adjustment No
This is an official DWR Image Service, which meets all appropriate requirements of the DWR Spatial Data Standards, specifically the DWR Spatial Data Standard version 3.2, dated September 10, 2021. DWR makes no warranties or guarantees — either expressed or implied — as to the completeness, accuracy, or correctness of the data. DWR neither accepts nor assumes liability arising from or for any incorrect, incomplete, or misleading subject data. This Image Service was published on 11/30/2021, by Arina Ushakova of the DWR Division of Engineering, who may be contacted at 916-902-9855, or at arina.ushakova@water.ca.gov. Comments, problems, improvements, updates, or suggestions should be forwarded to the official DWR point of contact as available and appropriate.
Single Fused Map Cache: false
Extent:
XMin: 639119.481
YMin: 4185342.273
XMax: 643149.8009999996
YMax: 4187374.59
Spatial Reference: 32610
(32610)
VCSWkid(115700)
LatestVCSWkid(115700)
Initial Extent:
XMin: 639119.481
YMin: 4185342.273
XMax: 643149.8009999996
YMax: 4187374.59
Spatial Reference: 32610
(32610)
VCSWkid(115700)
LatestVCSWkid(115700)
Full Extent:
XMin: 639119.481
YMin: 4185342.273
XMax: 643149.8009999996
YMax: 4187374.59
Spatial Reference: 32610
(32610)
VCSWkid(115700)
LatestVCSWkid(115700)
Pixel Size X: 0.020999999999997913
Pixel Size Y: 0.020999999999998
Band Count: 3
Pixel Type: U8
RasterFunction Infos: {"rasterFunctionInfos": [{
"name": "None",
"description": "Make a Raster or Raster Dataset into a Function Raster Dataset.",
"help": ""
}]}
Mensuration Capabilities: Basic
Inspection Capabilities:
Has Histograms: true
Has Colormap: false
Has Multi Dimensions : false
Rendering Rule:
Min Scale: 0
Max Scale: 0
Copyright Text: Michael Baldwin, P.E., California Department of Water Resources, NCRO
Service Data Type: esriImageServiceDataTypeRGB
Min Values: 0, 2, 0
Max Values: 255, 255, 255
Mean Values: 95.58517163026025, 104.46589443832313, 84.92619645333522
Standard Deviation Values: 40.904437401141266, 33.970016406546655, 29.221450441359185
Object ID Field:
Fields:
None
Default Mosaic Method: Center
Allowed Mosaic Methods:
SortField:
SortValue: null
Mosaic Operator: First
Default Compression Quality: 75
Default Resampling Method: Bilinear
Max Record Count: null
Max Image Height: 4100
Max Image Width: 15000
Max Download Image Count: null
Max Mosaic Image Count: null
Allow Raster Function: true
Allow Copy: true
Allow Analysis: true
Allow Compute TiePoints: false
Supports Statistics: false
Supports Advanced Queries: false
Use StandardizedQueries: true
Raster Type Infos:
Name: Raster Dataset
Description: Supports all ArcGIS Raster Datasets
Help:
Has Raster Attribute Table: false
Edit Fields Info: null
Ownership Based AccessControl For Rasters: null
Child Resources:
Info
Histograms
Statistics
Key Properties
Legend
Raster Function Infos
Supported Operations:
Export Image
Identify
Measure
Compute Histograms
Compute Statistics Histograms
Get Samples
Compute Class Statistics
Query Boundary
Compute Pixel Location
Compute Angles
Validate
Project