View In:
  ArcGIS JavaScript
  ArcGIS Online Map Viewer
  ArcGIS Earth
Service Description:  Survey Date and Time:
Data was collected on 1/14/2021 1200-1245 PST
Imagery Acquisition:
The imagery was collected using a DJI Mavic 2 Pro UAS, operating at 250’ above ground level, along one single flight line following the center line of Old River from 1.5 miles downstream of Tracy road to River’s End. The field collection was controlled by a DJI Smart Controller running the DJI Pilot app.
Software Processing:
Images were imported into ArcGIS Pro 2.7 using the Ortho Mapping workspace tool, block adjusted, and an Orthomosaic was generated. No external control points were used for this project.
Adjustment summary from ArcGIS Pro:
Number of Adjusted Images	1649
Number of Tie Points	4916185
Number of Solution Points	1743941
Mean Reprojection Error / Sigma Naught (pixel)	0.29 / 0.43
Ground Resolution (m/pixel)	0.017
Adjustment Type	Frame
Ground Control Points Involved in Adjustment	No
DWR makes no warranties or guarantees —either expressed or implied— as to the completeness, accuracy, or correctness of the data. DWR neither accepts nor assumes liability arising from or for any incorrect, incomplete, or misleading subject data. This Image Service was published on 1/21/2021, by Joel Dudas of the DWR Division of Engineering, who may be contacted at 916-651-7002, or at joel.dudas@water.ca.gov. Comments, problems, improvements, updates, or suggestions should be forwarded to the official DWR point of contact as available and appropriate.
Name:  Aerial_Photography/OldRiver_20210114_2
Description:  Survey Date and Time:
Data was collected on 1/14/2021 1200-1245 PST
Imagery Acquisition:
The imagery was collected using a DJI Mavic 2 Pro UAS, operating at 250’ above ground level, along one single flight line following the center line of Old River from 1.5 miles downstream of Tracy road to River’s End. The field collection was controlled by a DJI Smart Controller running the DJI Pilot app.
Software Processing:
Images were imported into ArcGIS Pro 2.7 using the Ortho Mapping workspace tool, block adjusted, and an Orthomosaic was generated. No external control points were used for this project.
Adjustment summary from ArcGIS Pro:
Number of Adjusted Images	1649
Number of Tie Points	4916185
Number of Solution Points	1743941
Mean Reprojection Error / Sigma Naught (pixel)	0.29 / 0.43
Ground Resolution (m/pixel)	0.017
Adjustment Type	Frame
Ground Control Points Involved in Adjustment	No
DWR makes no warranties or guarantees —either expressed or implied— as to the completeness, accuracy, or correctness of the data. DWR neither accepts nor assumes liability arising from or for any incorrect, incomplete, or misleading subject data. This Image Service was published on 1/21/2021, by Joel Dudas of the DWR Division of Engineering, who may be contacted at 916-651-7002, or at joel.dudas@water.ca.gov. Comments, problems, improvements, updates, or suggestions should be forwarded to the official DWR point of contact as available and appropriate.
Single Fused Map Cache:  false
Extent: 
XMin: 627056.955
YMin: 4182564.6900000004
XMax: 634889.8649999995
YMax: 4186545.345
Spatial Reference: 32610
 (32610)
 VCSWkid(115700)
 LatestVCSWkid(115700)
Initial Extent:
XMin: 627056.955
YMin: 4182564.6900000004
XMax: 634889.8649999995
YMax: 4186545.345
Spatial Reference: 32610
 (32610)
 VCSWkid(115700)
 LatestVCSWkid(115700)
Full Extent:
XMin: 627056.955
YMin: 4182564.6900000004
XMax: 634889.8649999995
YMax: 4186545.345
Spatial Reference: 32610
 (32610)
 VCSWkid(115700)
 LatestVCSWkid(115700)
Pixel Size X: 0.01499999999999917
Pixel Size Y:  0.014999999999999227
Band Count: 3
Pixel Type: U8
RasterFunction Infos:  {"rasterFunctionInfos": [{
 "name": "None",
 "description": "",
 "help": ""
}]}
Mensuration Capabilities: Basic
Inspection Capabilities: 
Has Histograms:  true
Has Colormap:  false
Has Multi Dimensions :  false
Rendering Rule: 
Min Scale:  0
Max Scale:  0
Copyright Text:  Michael Baldwin, P.E., California Department of Water Resources, NCRO
Service Data Type:  esriImageServiceDataTypeRGB
Min Values:  0, 0, 0
Max Values:  255, 255, 255
Mean Values:  94.96201851059809, 94.64297956715333, 79.078719178239
Standard Deviation Values:  42.31446320928979, 36.91759906980046, 33.258916118330596
Object ID Field:  
Fields: 
None
Default Mosaic Method:  Center
Allowed Mosaic Methods:  
SortField:  
SortValue:  null
Mosaic Operator:  First
Default Compression Quality:  75
Default Resampling Method:  Bilinear
Max Record Count:  null
Max Image Height:  4100
Max Image Width:  15000
Max Download Image Count:  null
Max Mosaic Image Count:  null
Allow Raster Function:  true
Allow Copy:  true
Allow Analysis:  true
Allow Compute TiePoints:  false
Supports Statistics:  false
Supports Advanced Queries:  false
Use StandardizedQueries:  true
Raster Type Infos: 
Name: Raster Dataset
Description: Supports all ArcGIS Raster Datasets
Help: 
Has Raster Attribute Table: false
Edit Fields Info:  null
Ownership Based AccessControl For Rasters:  null
Child Resources:
  
Info
  Histograms
  Statistics
  Key Properties
  Legend
  Raster Function Infos
Supported Operations:
  
Export Image
  Identify
  Measure
  Compute Histograms
  Compute Statistics Histograms
  Get Samples
  Compute Class Statistics
  Query Boundary
  Compute Pixel Location
  Compute Angles
  Validate
  Project